BEGIN:VCALENDAR
VERSION:2.0
PRODID:-//Cincy MultiFaith Calendar - ECPv6.15.1.1//NONSGML v1.0//EN
CALSCALE:GREGORIAN
METHOD:PUBLISH
X-WR-CALNAME:Cincy MultiFaith Calendar
X-ORIGINAL-URL:https://multi-faithcalendar.org
X-WR-CALDESC:Events for Cincy MultiFaith Calendar
REFRESH-INTERVAL;VALUE=DURATION:PT1H
X-Robots-Tag:noindex
X-PUBLISHED-TTL:PT1H
BEGIN:VTIMEZONE
TZID:America/New_York
BEGIN:DAYLIGHT
TZOFFSETFROM:-0500
TZOFFSETTO:-0400
TZNAME:EDT
DTSTART:20190310T070000
END:DAYLIGHT
BEGIN:STANDARD
TZOFFSETFROM:-0400
TZOFFSETTO:-0500
TZNAME:EST
DTSTART:20191103T060000
END:STANDARD
BEGIN:DAYLIGHT
TZOFFSETFROM:-0500
TZOFFSETTO:-0400
TZNAME:EDT
DTSTART:20200308T070000
END:DAYLIGHT
BEGIN:STANDARD
TZOFFSETFROM:-0400
TZOFFSETTO:-0500
TZNAME:EST
DTSTART:20201101T060000
END:STANDARD
END:VTIMEZONE
BEGIN:VEVENT
DTSTART;VALUE=DATE:20201102
DTEND;VALUE=DATE:20201103
DTSTAMP:20260423T195209
CREATED:20190724T144152Z
LAST-MODIFIED:20190724T144152Z
UID:363-1604275200-1604361599@multi-faithcalendar.org
SUMMARY:All Souls Day (Catholic)
DESCRIPTION:All Souls Day is a solemn celebration in the Roman Catholic Church commemorating all of those who have died and are now in Purgatory\, being cleansed of their venial sins and the temporal punishments for the mortal sins that they had confessed\, and being made pure before entering into the presence of God in Heaven. \nMore Information
URL:https://multi-faithcalendar.org/events/all-souls-day-catholic/
CATEGORIES:2020,Catholic,November
END:VEVENT
BEGIN:VEVENT
DTSTART;VALUE=DATE:20201101
DTEND;VALUE=DATE:20201102
DTSTAMP:20260423T195209
CREATED:20190724T144049Z
LAST-MODIFIED:20190913T145611Z
UID:361-1604188800-1604275199@multi-faithcalendar.org
SUMMARY:1984 Anti-Sikh Pogroms (Sikh)
DESCRIPTION:Over the course of three days\, 8\,000 – 17\,000 Sikhs were killed and about 50\,000 were displaced after Prime Minister Indira Gandhi was killed by her two Sikh bodyguards on October 31\, 1984. Upon public knowledge of her death\, Indian citizens (primarily Hindu nationalists) determinedly murdered\, raped\, burned\, and tortured innocent Sikhs in more than 100 cities in 18 states across India. . Government officials in Delhi handed out weapons and even fuel and ordered residents to attack and kill Sikhs. Even police and army personnel stepped aside letting mobs run wild beating and burning Sikhs alive in the streets. The Indian government has yet to recognize these events as state sanctioned killing and genocide. After decades of advocacy and pursuit of justice\, one then member of the Indian government\, Sajjan Kumar\, was sentenced for his role in these crimes against humanity. These recent assaults on the community have shocked and greatly impacted the collective conscience. \nMore Information:\nPublications\nIndia: No Justice for 1984 Anti-Sikh Bloodshed\n \nStudents and/or Co-Workers may visit their local Gurdwara at some point during the day
URL:https://multi-faithcalendar.org/events/1984-anti-sikh-pogroms/
CATEGORIES:2020,November,Sikh
END:VEVENT
BEGIN:VEVENT
DTSTART;VALUE=DATE:20201101
DTEND;VALUE=DATE:20201102
DTSTAMP:20260423T195209
CREATED:20190724T143849Z
LAST-MODIFIED:20190809T183530Z
UID:359-1604188800-1604275199@multi-faithcalendar.org
SUMMARY:All Saints Day (Catholic)
DESCRIPTION:Also called All Hallows’ Day\,  a day commemorating all the saints of the church\, both known and unknown\, who have attained heaven.  \nMore Information
URL:https://multi-faithcalendar.org/events/all-saints-day-catholic/
CATEGORIES:2020,Catholic,November
END:VEVENT
BEGIN:VEVENT
DTSTART;VALUE=DATE:20191127
DTEND;VALUE=DATE:20191128
DTSTAMP:20260423T195209
CREATED:20190724T144841Z
LAST-MODIFIED:20190925T131151Z
UID:373-1574812800-1574899199@multi-faithcalendar.org
SUMMARY:Ascension of ‘Abdu’l-Bahá (Bahá’í)
DESCRIPTION:Bahá’ís observe the anniversary of the death of ‘Abdu’l-Bahá\, son of Bahá’u’lláh and His appointed successor\, on Nov 27\, 1921 in Haifa\, in what is now northern Israel. \nWork is to be suspened and children excused from school. \nMore Information
URL:https://multi-faithcalendar.org/events/ascension-of-abdul-baha-the-bahai-faith/
CATEGORIES:2020,November,The Bahá’í Faith
END:VEVENT
BEGIN:VEVENT
DTSTART;VALUE=DATE:20191123
DTEND;VALUE=DATE:20191124
DTSTAMP:20260423T195209
CREATED:20190724T144640Z
LAST-MODIFIED:20190913T145339Z
UID:369-1574467200-1574553599@multi-faithcalendar.org
SUMMARY:Martydom of Guru Tegh Bahadur Ji (Sikh)
DESCRIPTION:The ninth Guru\, Guru Tegh Bahadur\, made the ultimate sacrifice to defend the freedom of religion. The geo-political conditions under the Mughal Emperor\, Aurangzeb\, allowed for forceful conversion of religion. Many innocents were exploited and killed for refusing to convert to Islam. They were denied a fundamental human right. A group of Hindu pundits were being religiously persecuted and approached Guru Tegh Bahadur for assistance. They had been given two options: convert to Islam or be killed. Guru Tegh Bahadur heard their pleas and told the pundits to let the Emperor know that he could convert him\, he could convert them all. Soon after\, he set off to Delhi. He was asked to convert to Islam\, perform a miracle\, or face death. The other Sikhs were also executed in an effort to waiver Guru Tegh Bahadur’s commitment and faith. Guru Tegh Bahadur was beheaded in a public square in broad daylight under the allegations of preventing the spread of Islam in the Indian subcontinent. Guru Bahadur chose to sacrifice his life and demonstrated the level of deep moral commitment that Sikhs have to be the shield for all of humanity and defend the basic\, fundamental human rights. \nMore Information \nStudents and/or Co-Workers may visit their local Gurdwara at some point during the day
URL:https://multi-faithcalendar.org/events/martydom-of-guru-tegh-bahadur-ji/
CATEGORIES:2020,November,Sikh
END:VEVENT
END:VCALENDAR