BEGIN:VCALENDAR
VERSION:2.0
PRODID:-//Cincy MultiFaith Calendar - ECPv6.15.1.1//NONSGML v1.0//EN
CALSCALE:GREGORIAN
METHOD:PUBLISH
X-WR-CALNAME:Cincy MultiFaith Calendar
X-ORIGINAL-URL:https://multi-faithcalendar.org
X-WR-CALDESC:Events for Cincy MultiFaith Calendar
REFRESH-INTERVAL;VALUE=DURATION:PT1H
X-Robots-Tag:noindex
X-PUBLISHED-TTL:PT1H
BEGIN:VTIMEZONE
TZID:America/New_York
BEGIN:DAYLIGHT
TZOFFSETFROM:-0500
TZOFFSETTO:-0400
TZNAME:EDT
DTSTART:20260308T070000
END:DAYLIGHT
BEGIN:STANDARD
TZOFFSETFROM:-0400
TZOFFSETTO:-0500
TZNAME:EST
DTSTART:20261101T060000
END:STANDARD
END:VTIMEZONE
BEGIN:VEVENT
DTSTART;VALUE=DATE:20260901
DTEND;VALUE=DATE:20260902
DTSTAMP:20260423T140959
CREATED:20251129T005558Z
LAST-MODIFIED:20251129T005558Z
UID:3240-1788220800-1788307199@multi-faithcalendar.org
SUMMARY:Parkash of Guru Granth Sahib (Eternal Guru) (Sikh)
DESCRIPTION:This day celebrates Gobind Singh Ji’s passing on guruship to Scripture\, henceforth known as the Guru Granth Sahib. \nMore Information \nTraditional Greeting: “Vadhaaiaa Ji” – Congratulations!
URL:https://multi-faithcalendar.org/events/parkash-of-guru-granth-sahib-eternal-guru-sikh-5/
CATEGORIES:2026,September,Sikh
END:VEVENT
BEGIN:VEVENT
DTSTART;VALUE=DATE:20260908
DTEND;VALUE=DATE:20260916
DTSTAMP:20260423T140959
CREATED:20251129T005448Z
LAST-MODIFIED:20251129T005448Z
UID:3238-1788825600-1789516799@multi-faithcalendar.org
SUMMARY:Paryushan (Jain)
DESCRIPTION:Paryushan is a time (period) for self-analysis and soul searching\, for reflecting and contemplating on past conduct\, in light of the teachings of Jainism and re-dedication to leading a spiritually cleaner life in the future. An important day is the last day of Paryushan (Shwetambar sect)\, or Saṃvatsarī (Sanskrit: संवत्सरी) (Forgiveness Day)\, when Jains forgive and seek forgiveness for their mistakes committed knowingly or unknowingly from all the living beings. \nDuring this period\, Jains would typically greet each other by saying “Michhami Dukkadam” which essentially signifies forgiveness (both forgiving and seeking forgiveness). \nMore information can be found here. \nTo connect with the Jain community in Cincinnati and Dayton visit this website.
URL:https://multi-faithcalendar.org/events/paryushan-jain-4/
CATEGORIES:2026,August,Jain,September
END:VEVENT
BEGIN:VEVENT
DTSTART;TZID=America/New_York:20260911T180000
DTEND;TZID=America/New_York:20260911T235900
DTSTAMP:20260423T140959
CREATED:20251129T010955Z
LAST-MODIFIED:20251129T010955Z
UID:3254-1789149600-1789171140@multi-faithcalendar.org
SUMMARY:Erev (eve of) Rosh Hashanah (Jewish)
DESCRIPTION:This evening is the beginning of Rosh Hashanah\, the Jewish New Year. This holiday begins the period of the High Holy Days\, which are widely observed by Jews around the world. It is both a time of rejoicing and of serious introspection\, a time to celebrate the completion of another year while also taking stock of one’s life. Traditions include eating apples dipped in honey and blowing the shofar (ram’s horn).   Most Jews attend synagogue on these two days and the preceding evening. \nMore Information \nHoliday Greeting: Shana Tova (Happy New Year) – AND – Shana Tova U’Mtukah (Have a happy and sweet New Year) \nNo dietary restrictions\, but most students will miss school for this holiday. Commonly observed by synagogue attendance or family gatherings. Work is traditionally prohibited.
URL:https://multi-faithcalendar.org/events/erev-eve-of-rosh-hashanah-jewish-5/
CATEGORIES:2026,Jewish,September
END:VEVENT
BEGIN:VEVENT
DTSTART;VALUE=DATE:20260912
DTEND;VALUE=DATE:20260914
DTSTAMP:20260423T140959
CREATED:20251129T011047Z
LAST-MODIFIED:20251129T011047Z
UID:3256-1789171200-1789343999@multi-faithcalendar.org
SUMMARY:Rosh Hashanah (Jewish)
DESCRIPTION:Rosh Hashanah is the Jewish New Year. This holiday begins the period of the High Holy Days\, which are widely observed by Jews around the world. It is both a time of rejoicing and of serious introspection\, a time to celebrate the completion of another year while also taking stock of one’s life. Traditions include eating apples dipped in honey and blowing the shofar (ram’s horn).   Most Jews attend synagogue on these two days and the preceding evening. \nMore Information \nHoliday Greeting: Shana Tova (Happy New Year) – AND – Shana Tova U’Mtukah (Have a happy and sweet New Year) \nNo dietary restrictions\, but most students will miss school for this holiday. Commonly observed by synagogue attendance or family gatherings. Work is traditionally prohibited.
URL:https://multi-faithcalendar.org/events/rosh-hashanah-jewish-6/
CATEGORIES:2026,Jewish,September
END:VEVENT
BEGIN:VEVENT
DTSTART;TZID=America/New_York:20260920T190000
DTEND;TZID=America/New_York:20260921T190000
DTSTAMP:20260423T140959
CREATED:20251129T011650Z
LAST-MODIFIED:20251129T011650Z
UID:3262-1789930800-1790017200@multi-faithcalendar.org
SUMMARY:Yom Kippur (Jewish)
DESCRIPTION:Yom Kippur is the Day of Atonement. The focus of this holiday is on contemplation repentance. Jews are taught that sins between people can only be atoned for after personal reconciliation. It is considered to be the holiest and most solemn day of the year. Fasting begins at sundown and ends after nightfall the following day. Most Jews attend synagogue on this day and the preceding evening. This holiday closes out the period of the High Holy Days. \nMore Information \nHoliday Greeting: G’mar chatimah tovah (May you be sealed in the Book of Life) – AND – tzom kal (easy fast) \nCommonly observed by synagogue attendance or family gatherings. Individuals may be absent from school or work. Students will likely miss school for this holiday. Many who are 13 or older\, will also likely be fasting. Work is traditionally prohibited.
URL:https://multi-faithcalendar.org/events/yom-kippur-jewish-6/
CATEGORIES:2026,Jewish,September
END:VEVENT
BEGIN:VEVENT
DTSTART;VALUE=DATE:20260925
DTEND;VALUE=DATE:20261003
DTSTAMP:20260423T140959
CREATED:20251203T000029Z
LAST-MODIFIED:20251203T000029Z
UID:3272-1790294400-1790985599@multi-faithcalendar.org
SUMMARY:Sukkot (Jewish)
DESCRIPTION:Sukkot is a seven-day festival marking the fall harvest in ancient Israel. This holiday is also a time in which Jews commemorate forty years of wandering in the desert after the Exodus from Egypt. Celebrated by the building of a sukkah (or temporary dwelling) outdoors\, where families and friends spend time throughout the holiday. Work is traditionally prohibited on the first and second days. \nMore Information \nSome students may miss school\, the first and second day of the festival. Commonly observed by synagogue attendance or family gatherings. Work is traditionally prohibited.
URL:https://multi-faithcalendar.org/events/sukkot-jewish-6/
CATEGORIES:2026,Jewish,October,September
END:VEVENT
END:VCALENDAR