BEGIN:VCALENDAR
VERSION:2.0
PRODID:-//Cincy MultiFaith Calendar - ECPv6.15.1.1//NONSGML v1.0//EN
CALSCALE:GREGORIAN
METHOD:PUBLISH
X-ORIGINAL-URL:https://multi-faithcalendar.org
X-WR-CALDESC:Events for Cincy MultiFaith Calendar
REFRESH-INTERVAL;VALUE=DURATION:PT1H
X-Robots-Tag:noindex
X-PUBLISHED-TTL:PT1H
BEGIN:VTIMEZONE
TZID:America/New_York
BEGIN:DAYLIGHT
TZOFFSETFROM:-0500
TZOFFSETTO:-0400
TZNAME:EDT
DTSTART:20240310T070000
END:DAYLIGHT
BEGIN:STANDARD
TZOFFSETFROM:-0400
TZOFFSETTO:-0500
TZNAME:EST
DTSTART:20241103T060000
END:STANDARD
END:VTIMEZONE
BEGIN:VEVENT
DTSTART;VALUE=DATE:20240826
DTEND;VALUE=DATE:20240827
DTSTAMP:20260425T092042
CREATED:20241217T180805Z
LAST-MODIFIED:20241217T180805Z
UID:2926-1724630400-1724716799@multi-faithcalendar.org
SUMMARY:Ganesh Chaturthi (Hindu)
DESCRIPTION:This is a 10-day festival\, also called Vinayaka Chaturthi or Vinayaka Chavithi\, that celebrates the birth of Ganesha\, the elephant-headed god. The festival is marked by the installation of clay idols of Ganesh privately in homes\, or publicly on elaborate pandals (temporary stages) with ornate statues. Hymns\, prayers\, and fasting are typical practices during this festival. On the tenth day\, the festival ends with a public procession to a nearby river or ocean and immersion of the idols and statues. In Mumbai alone\, it is estimated that around 150\,000 statues are immersed annually. \nMore information can be found here.
URL:https://multi-faithcalendar.org/events/ganesh-chaturthi-hindu-5/
CATEGORIES:2025,Hindu,September
END:VEVENT
END:VCALENDAR