BEGIN:VCALENDAR
VERSION:2.0
PRODID:-//Cincy MultiFaith Calendar - ECPv6.15.1.1//NONSGML v1.0//EN
CALSCALE:GREGORIAN
METHOD:PUBLISH
X-ORIGINAL-URL:https://multi-faithcalendar.org
X-WR-CALDESC:Events for Cincy MultiFaith Calendar
REFRESH-INTERVAL;VALUE=DURATION:PT1H
X-Robots-Tag:noindex
X-PUBLISHED-TTL:PT1H
BEGIN:VTIMEZONE
TZID:America/New_York
BEGIN:DAYLIGHT
TZOFFSETFROM:-0500
TZOFFSETTO:-0400
TZNAME:EDT
DTSTART:20190310T070000
END:DAYLIGHT
BEGIN:STANDARD
TZOFFSETFROM:-0400
TZOFFSETTO:-0500
TZNAME:EST
DTSTART:20191103T060000
END:STANDARD
BEGIN:DAYLIGHT
TZOFFSETFROM:-0500
TZOFFSETTO:-0400
TZNAME:EDT
DTSTART:20200308T070000
END:DAYLIGHT
BEGIN:STANDARD
TZOFFSETFROM:-0400
TZOFFSETTO:-0500
TZNAME:EST
DTSTART:20201101T060000
END:STANDARD
BEGIN:DAYLIGHT
TZOFFSETFROM:-0500
TZOFFSETTO:-0400
TZNAME:EDT
DTSTART:20210314T070000
END:DAYLIGHT
BEGIN:STANDARD
TZOFFSETFROM:-0400
TZOFFSETTO:-0500
TZNAME:EST
DTSTART:20211107T060000
END:STANDARD
END:VTIMEZONE
BEGIN:VEVENT
DTSTART;VALUE=DATE:20211208
DTEND;VALUE=DATE:20211209
DTSTAMP:20260424T233634
CREATED:20210111T183420Z
LAST-MODIFIED:20210111T183420Z
UID:1383-1638921600-1639007999@multi-faithcalendar.org
SUMMARY:Buddha’s Enlightenment Day (Buddhism)
DESCRIPTION:Bodhi Day is observed in many mainstream Mahayana traditions including the traditional Zen and Pureland Buddhist schools of China\, Korea\, Japan\, and Vietnam. \nServices and traditions vary amongst Buddhist sects\, but all such services commemorate the Buddha’s achievement of Nirvana\, and what this means for Buddhism today. Individuals may choose to commemorate the event through additional meditation\, study of the Dharma\, chanting of Buddhist texts (sutras)\, or performing kind acts towards other beings. Some Buddhists celebrate with a traditional meal of tea\, cake\, and readings.
URL:https://multi-faithcalendar.org/events/buddhas-enlightenment-day-buddhism/
CATEGORIES:2021,Buddhist
END:VEVENT
BEGIN:VEVENT
DTSTART;VALUE=DATE:20210128
DTEND;VALUE=DATE:20210129
DTSTAMP:20260424T233634
CREATED:20201217T173154Z
LAST-MODIFIED:20201217T173154Z
UID:1086-1611792000-1611878399@multi-faithcalendar.org
SUMMARY:Mahayana New Year (Buddhist)
DESCRIPTION:In Theravadin countries\, Thailand\, Burma\, Sri Lanka\, Cambodia and Lao\, the new year is celebrated for three days from the first full moon day in April. In Mahayana countries the new year starts on the first full moon day in January. However\, the Buddhist New Year depends on the country of origin or ethnic background of the people. As for example\, Chinese\, Koreans and Vietnamese celebrate late January or early February according to the lunar calendar\, whilst the Tibetans usually celebrate about one month later.
URL:https://multi-faithcalendar.org/events/mahayana-new-year-buddhist/
CATEGORIES:2021,Buddhist
END:VEVENT
BEGIN:VEVENT
DTSTART;VALUE=DATE:20210120
DTEND;VALUE=DATE:20210121
DTSTAMP:20260424T233634
CREATED:20201218T172049Z
LAST-MODIFIED:20201222T175118Z
UID:1111-1611100800-1611187199@multi-faithcalendar.org
SUMMARY:Bodhi Day- Lunar Calendar (Buddhist)
DESCRIPTION:Bodhi Day celebrates the day in which Siddhartha Gautama sat underneath the Bodhi tree and attained enlightenment. This one defining moment would become the central foundation upon which Buddhism has been built upon for the last 2\,500 years. It is a day on which followers can renew their dedication to Buddhism; reaffirm themselves to enlightenment\, compassion\, and kindness to other living creatures; and also understand the relevance of this religion as it applies to the modern world. Some traditions celebrate Bodhi Day on the fixed date of December 8th; for others\, Bodhi Day is based on the lunar calendar so the date changes year to year. \nhttp://www.holidayscalendar.com/event/bodhi-day/
URL:https://multi-faithcalendar.org/events/bodhi-day-buddhist/
CATEGORIES:2021,Buddhist
END:VEVENT
BEGIN:VEVENT
DTSTART;VALUE=DATE:20200705
DTEND;VALUE=DATE:20200706
DTSTAMP:20260424T233634
CREATED:20190724T135046Z
LAST-MODIFIED:20190917T170953Z
UID:291-1593907200-1593993599@multi-faithcalendar.org
SUMMARY:Asalha Puja (Buddhist)
DESCRIPTION:Asalha Puja means to pay homage to the Buddha on the full moon day of the 8th lunar month (approximately July). It commemorates the Buddha’s first teaching: the turning of the wheel of the Dhamma (Dhammacakkappavattana Sutta) to the five ascetics at the Deer Park (Sarnath) near Benares city\, India. Where Kondanna\, the senior ascetic attained the first level of enlightenment (the Sotapanna level of mind purity). \nMore Information
URL:https://multi-faithcalendar.org/events/asalha-puja-buddhist/
CATEGORIES:2020,Buddhist,July
END:VEVENT
BEGIN:VEVENT
DTSTART;VALUE=DATE:20200408
DTEND;VALUE=DATE:20200409
DTSTAMP:20260424T233634
CREATED:20190724T130101Z
LAST-MODIFIED:20190918T174226Z
UID:227-1586304000-1586390399@multi-faithcalendar.org
SUMMARY:Vesak (Buddha Day) (Buddhist)
DESCRIPTION:Traditionally\, Buddha’s Birthday is known as Vesak or Visakah Puja (Buddha’s Birthday Celebrations). Vesak is the major Buddhist festival of the year as it celebrates the birth\, enlightenment and death of the Buddha on the one day\, the first full moon day in May\, except in a leap year when the festival is held in June. This celebration is called Vesak being the name of the month in the Indian calendar. \nBuddhist Festivals are always joyful occasions. Typically on a festival day\, lay people will go the the local temple or monastery and offer food to the monks and take the Five Precepts and listen to a Dharma talk. In the afternoon\, they distribute food to the poor to make merit and in the evening join perhaps in a ceremony of circumambulation a stupa three time as a sign of respect to the Buddha\, Dhamma\, Sangha. The day will conclude with evening chanting of the Buddha’s teachings and meditation. \nMore Information
URL:https://multi-faithcalendar.org/events/vesak-buddha-day-buddhist/
CATEGORIES:2020,April,Buddhist
END:VEVENT
BEGIN:VEVENT
DTSTART;VALUE=DATE:20200108
DTEND;VALUE=DATE:20200109
DTSTAMP:20260424T233634
CREATED:20190724T121918Z
LAST-MODIFIED:20190724T121918Z
UID:180-1578441600-1578527999@multi-faithcalendar.org
SUMMARY:Buddhist New Year (Buddhist)
DESCRIPTION:In Theravadin countries\, Thailand\, Burma\, Sri Lanka\, Cambodia and Lao\, the new year is celebrated for three days from the first full moon day in April. In Mahayana countries the new year starts on the first full moon day in January. However\, the Buddhist New Year depends on the country of origin or ethnic background of the people. As for example\, Chinese\, Koreans and Vietnamese celebrate late January or early February according to the lunar calendar\, whilst the Tibetans usually celebrate about one month later.
URL:https://multi-faithcalendar.org/events/buddhist-new-year-buddhist/
CATEGORIES:2020,Buddhist,January
END:VEVENT
BEGIN:VEVENT
DTSTART;VALUE=DATE:20191208
DTEND;VALUE=DATE:20191209
DTSTAMP:20260424T233634
CREATED:20190913T222625Z
LAST-MODIFIED:20190913T222657Z
UID:968-1575763200-1575849599@multi-faithcalendar.org
SUMMARY:Bodhi Day (Buddhism)
DESCRIPTION:In the northern tradition\, this is the anniversary of the Buddha’s Enlightenment\, ca 596 BCE. In the southern tradition\, the Buddha’s Enlightenment is celebrated during Wesak. The dates and names of the Buddhist celebrations vary significantly among cultures and communities.
URL:https://multi-faithcalendar.org/events/bodhi-day-buddhism/
CATEGORIES:Buddhist,December
END:VEVENT
END:VCALENDAR