BEGIN:VCALENDAR
VERSION:2.0
PRODID:-//Cincy MultiFaith Calendar - ECPv6.15.1.1//NONSGML v1.0//EN
CALSCALE:GREGORIAN
METHOD:PUBLISH
X-WR-CALNAME:Cincy MultiFaith Calendar
X-ORIGINAL-URL:https://multi-faithcalendar.org
X-WR-CALDESC:Events for Cincy MultiFaith Calendar
REFRESH-INTERVAL;VALUE=DURATION:PT1H
X-Robots-Tag:noindex
X-PUBLISHED-TTL:PT1H
BEGIN:VTIMEZONE
TZID:America/New_York
BEGIN:DAYLIGHT
TZOFFSETFROM:-0500
TZOFFSETTO:-0400
TZNAME:EDT
DTSTART:20240310T070000
END:DAYLIGHT
BEGIN:STANDARD
TZOFFSETFROM:-0400
TZOFFSETTO:-0500
TZNAME:EST
DTSTART:20241103T060000
END:STANDARD
END:VTIMEZONE
BEGIN:VEVENT
DTSTART;VALUE=DATE:20241102
DTEND;VALUE=DATE:20241103
DTSTAMP:20260425T143857
CREATED:20231228T205810Z
LAST-MODIFIED:20231228T205810Z
UID:2622-1730505600-1730591999@multi-faithcalendar.org
SUMMARY:All Souls Day (Catholic)
DESCRIPTION:All Souls Day is a solemn celebration in the Roman Catholic Church commemorating all of those who have died and are now in Purgatory\, being cleansed of their venial sins and the temporal punishments for the mortal sins that they had confessed\, and being made pure before entering into the presence of God in Heaven. \nMore Information \nCatholics often attend prayer services today at which special prayers are said or memorials given for those loved ones who have died during the previous year. Special prayers for the dead are said throughout the month of November.
URL:https://multi-faithcalendar.org/events/all-souls-day-catholic-6/
CATEGORIES:2024,Catholic,November
END:VEVENT
END:VCALENDAR