BEGIN:VCALENDAR
VERSION:2.0
PRODID:-//Cincy MultiFaith Calendar - ECPv6.15.1.1//NONSGML v1.0//EN
CALSCALE:GREGORIAN
METHOD:PUBLISH
X-WR-CALNAME:Cincy MultiFaith Calendar
X-ORIGINAL-URL:https://multi-faithcalendar.org
X-WR-CALDESC:Events for Cincy MultiFaith Calendar
REFRESH-INTERVAL;VALUE=DURATION:PT1H
X-Robots-Tag:noindex
X-PUBLISHED-TTL:PT1H
BEGIN:VTIMEZONE
TZID:America/New_York
BEGIN:DAYLIGHT
TZOFFSETFROM:-0500
TZOFFSETTO:-0400
TZNAME:EDT
DTSTART:20250309T070000
END:DAYLIGHT
BEGIN:STANDARD
TZOFFSETFROM:-0400
TZOFFSETTO:-0500
TZNAME:EST
DTSTART:20251102T060000
END:STANDARD
END:VTIMEZONE
BEGIN:VEVENT
DTSTART;VALUE=DATE:20250303
DTEND;VALUE=DATE:20250304
DTSTAMP:20260425T102714
CREATED:20241117T180333Z
LAST-MODIFIED:20241117T180333Z
UID:2752-1740960000-1741046399@multi-faithcalendar.org
SUMMARY:Feast of Saint Katharine Drexel (Catholic)
DESCRIPTION:Katharine Drexel is the second American-born saint to be canonized by the Catholic Church and is considered the patron saint of racial justice and philanthropists. She was an American heiress\, philanthropist\, religious sister\, educator\, and foundress of the Blessed Sacrament Sisters for Indians and Colored People (now Sisters of the Blessed Sacrament)\, a congregation of missionary nuns dedicated to the welfare of American Indians and African Americans. \nYou can learn more about her here.
URL:https://multi-faithcalendar.org/events/feast-of-saint-katharine-drexel-catholic-5/
CATEGORIES:2025,Catholic
END:VEVENT
BEGIN:VEVENT
DTSTART;VALUE=DATE:20250305
DTEND;VALUE=DATE:20250306
DTSTAMP:20260425T102714
CREATED:20241117T125639Z
LAST-MODIFIED:20241117T125639Z
UID:2740-1741132800-1741219199@multi-faithcalendar.org
SUMMARY:Ash Wednesday (Catholic/ Christian Protestant / Hispanic)
DESCRIPTION:Ash Wednesday is the beginning of the 40-day season of Lent\, when Christians prepare spiritually for the celebration of Easter. On this day\, Catholics and some Protestant denominations will attend a special prayer service\, where they will have ashes applied to their foreheads in the shape of a cross. This cross of ashes symbolizes penance\, mourning and mortality. \nThis is a day of fasting and abstinence from meat for Catholics over the age of 14. \nMore information from the Christian Methodist Episcopal Church can be found here. \nMore information from the Catholic Church can be found here.
URL:https://multi-faithcalendar.org/events/ash-wednesday-catholic-christian-protestant-hispanic-4/
CATEGORIES:2025,Catholic,Christian,Hispanic
END:VEVENT
BEGIN:VEVENT
DTSTART;VALUE=DATE:20250319
DTEND;VALUE=DATE:20250320
DTSTAMP:20260425T102714
CREATED:20241117T180745Z
LAST-MODIFIED:20241117T180745Z
UID:2760-1742342400-1742428799@multi-faithcalendar.org
SUMMARY:Feast of St. Joseph (Catholic)
DESCRIPTION:This is the feast day of Joseph\, a carpenter who was the stepfather of Jesus and husband of Mary. He is the patron saint of the Universal Church. Traditionally it is believed he died in the presence of Jesus and Mary\, before Jesus began his public ministry. For this reason\, St. Joseph is also the patron saint of a holy death. \nMore information can be found here.
URL:https://multi-faithcalendar.org/events/feast-of-st-joseph-catholic-5/
CATEGORIES:2025,Catholic
END:VEVENT
END:VCALENDAR