BEGIN:VCALENDAR
VERSION:2.0
PRODID:-//Cincy MultiFaith Calendar - ECPv6.15.1.1//NONSGML v1.0//EN
CALSCALE:GREGORIAN
METHOD:PUBLISH
X-ORIGINAL-URL:https://multi-faithcalendar.org
X-WR-CALDESC:Events for Cincy MultiFaith Calendar
REFRESH-INTERVAL;VALUE=DURATION:PT1H
X-Robots-Tag:noindex
X-PUBLISHED-TTL:PT1H
BEGIN:VTIMEZONE
TZID:America/New_York
BEGIN:DAYLIGHT
TZOFFSETFROM:-0500
TZOFFSETTO:-0400
TZNAME:EDT
DTSTART:20250309T070000
END:DAYLIGHT
BEGIN:STANDARD
TZOFFSETFROM:-0400
TZOFFSETTO:-0500
TZNAME:EST
DTSTART:20251102T060000
END:STANDARD
END:VTIMEZONE
BEGIN:VEVENT
DTSTART;VALUE=DATE:20250413
DTEND;VALUE=DATE:20250414
DTSTAMP:20260425T085623
CREATED:20241117T181601Z
LAST-MODIFIED:20241117T181601Z
UID:2774-1744502400-1744588799@multi-faithcalendar.org
SUMMARY:Palm Sunday (Christian Protestant/ Catholic/ Hispanic/ The Church of Jesus Christ of Latter-Day Saints)
DESCRIPTION:Palm Sunday is the final Sunday of Lent\, the beginning of Holy Week\, and commemorates the triumphant arrival of Christ in Jerusalem\, days before he was crucified. In the Gospels\, Jesus entered Jerusalem riding a young donkey\, and to the lavish praise of the townspeople who threw clothes\, or possibly palms or small branches\, in front of him as a sign of homage. This was a customary practice for people of great respect. \nMore Information:\nPalms for the Lord – from The Church of Jesus Christ of Latter-Day Saints \nFrom the Christian Methodist Episcopal Church
URL:https://multi-faithcalendar.org/events/palm-sunday-christian-protestant-catholic-hispanic-the-church-of-jesus-christ-of-latter-day-saints-3/
CATEGORIES:2025,Catholic,Christian,Christian Protestant,Hispanic,The Church of Jesus Christ of Latter-day Saints
END:VEVENT
BEGIN:VEVENT
DTSTART;VALUE=DATE:20250417
DTEND;VALUE=DATE:20250418
DTSTAMP:20260425T085623
CREATED:20241117T182151Z
LAST-MODIFIED:20241117T182151Z
UID:2782-1744848000-1744934399@multi-faithcalendar.org
SUMMARY:Holy Thursday (Catholic/ Christian Protestant/ The Church of Jesus Christ of Latter-day Saints)
DESCRIPTION:Holy Thursday is the commemoration of the Last Supper of Jesus Christ\, when\, prior to his arrest and crucifixion\, he established the practice of communion\, which is considered a sacrament among most Christian communities. Later that evening\, he prays in the Garden of Gethsemane.\nMore information from the Catholic Church\nMore information from The Church of Jesus Christ of Latter-day Saints\nMore information from the Christian Methodist Episcopal Church\n 
URL:https://multi-faithcalendar.org/events/holy-thursday-catholic-christian-protestant-the-church-of-jesus-christ-of-latter-day-saints-3/
CATEGORIES:2025,Catholic,Christian,Christian Protestant,Hispanic,The Church of Jesus Christ of Latter-day Saints
END:VEVENT
BEGIN:VEVENT
DTSTART;VALUE=DATE:20250418
DTEND;VALUE=DATE:20250419
DTSTAMP:20260425T085623
CREATED:20241117T182433Z
LAST-MODIFIED:20241117T182433Z
UID:2784-1744934400-1745020799@multi-faithcalendar.org
SUMMARY:Good Friday (Christian Protestant/ Catholic/ The Church of Jesus Christ of Latter-day Saints)
DESCRIPTION:Good Friday is the day on which Christians commemorate the crucifixion and death of Jesus Christ.\n\nMore information from The Church of Jesus Christ of Latter-day Saints\nMore information from the Catholic Church\nMore information from the Christian Methodist Episcopal Church\n\nThis is a day of fasting and abstinence from meat for Catholics over the age of 14.
URL:https://multi-faithcalendar.org/events/good-friday-christian-protestant-catholic-the-church-of-jesus-christ-of-latter-day-saints-3/
CATEGORIES:2025,Catholic,Christian,Christian Protestant,The Church of Jesus Christ of Latter-day Saints
END:VEVENT
BEGIN:VEVENT
DTSTART;VALUE=DATE:20250419
DTEND;VALUE=DATE:20250420
DTSTAMP:20260425T085623
CREATED:20241117T182411Z
LAST-MODIFIED:20241117T182411Z
UID:2785-1745020800-1745107199@multi-faithcalendar.org
SUMMARY:Holy Saturday/The Great Vigil of Easter (Catholic/ Protestant/ Episcopal)
DESCRIPTION:On this most holy night\, in which our Lord Jesus passed over from death to life\, the Church invites her members\, dispersed throughout the world\, to gather in vigil and prayer. For this is the Passover of the Lord\, in which\, by hearing God’s Word and celebrating the Sacraments\, we share in Christ’s victory over death. (From the Episcopal Book of Common Prayer)
URL:https://multi-faithcalendar.org/events/holy-saturday-the-great-vigil-of-easter-catholic-protestant-episcopal-2/
CATEGORIES:2025,Catholic,Christian,Episcopal
END:VEVENT
BEGIN:VEVENT
DTSTART;VALUE=DATE:20250420
DTEND;VALUE=DATE:20250421
DTSTAMP:20260425T085623
CREATED:20241117T182315Z
LAST-MODIFIED:20241117T182315Z
UID:2786-1745107200-1745193599@multi-faithcalendar.org
SUMMARY:Easter Sunday (Catholic / Christian Protestant/ The Church of Jesus Christ of Latter-Day Saints)
DESCRIPTION:A festival and holiday celebrating the resurrection of Jesus Christ from the dead.  After He died on the cross\, his body was placed in a tomb\, where it remained for three days\, separated from His spirit\, until on Sunday\, when he was resurrected. It is the most important day of the Christian calendar. \nMore information from The Church of Jesus Christ of Latter-day Saints\nMore information from the Catholic Church\nMore information from the Christian Methodist Episcopal Church\nHoliday Greeting: Happy Easter!
URL:https://multi-faithcalendar.org/events/easter-sunday-catholic-christian-protestant-the-church-of-jesus-christ-of-latter-day-saints-3/
CATEGORIES:2025,Catholic,Christian,Christian Protestant,Hispanic,The Church of Jesus Christ of Latter-day Saints
END:VEVENT
END:VCALENDAR