BEGIN:VCALENDAR
VERSION:2.0
PRODID:-//Cincy MultiFaith Calendar - ECPv6.15.1.1//NONSGML v1.0//EN
CALSCALE:GREGORIAN
METHOD:PUBLISH
X-ORIGINAL-URL:https://multi-faithcalendar.org
X-WR-CALDESC:Events for Cincy MultiFaith Calendar
REFRESH-INTERVAL;VALUE=DURATION:PT1H
X-Robots-Tag:noindex
X-PUBLISHED-TTL:PT1H
BEGIN:VTIMEZONE
TZID:America/New_York
BEGIN:DAYLIGHT
TZOFFSETFROM:-0500
TZOFFSETTO:-0400
TZNAME:EDT
DTSTART:20260308T070000
END:DAYLIGHT
BEGIN:STANDARD
TZOFFSETFROM:-0400
TZOFFSETTO:-0500
TZNAME:EST
DTSTART:20261101T060000
END:STANDARD
END:VTIMEZONE
BEGIN:VEVENT
DTSTART;VALUE=DATE:20260319
DTEND;VALUE=DATE:20260320
DTSTAMP:20260424T100605
CREATED:20251030T235608Z
LAST-MODIFIED:20251030T235608Z
UID:3084-1773878400-1773964799@multi-faithcalendar.org
SUMMARY:Feast of St. Joseph (Catholic)
DESCRIPTION:This is the feast day of Joseph\, a carpenter who was the stepfather of Jesus and husband of Mary. He is the patron saint of the Universal Church. Traditionally it is believed he died in the presence of Jesus and Mary\, before Jesus began his public ministry. For this reason\, St. Joseph is also the patron saint of a holy death. \nMore information can be found here.
URL:https://multi-faithcalendar.org/events/feast-of-st-joseph-catholic-6/
CATEGORIES:2025,Catholic
END:VEVENT
END:VCALENDAR