BEGIN:VCALENDAR
VERSION:2.0
PRODID:-//Cincy MultiFaith Calendar - ECPv6.15.1.1//NONSGML v1.0//EN
CALSCALE:GREGORIAN
METHOD:PUBLISH
X-WR-CALNAME:Cincy MultiFaith Calendar
X-ORIGINAL-URL:https://multi-faithcalendar.org
X-WR-CALDESC:Events for Cincy MultiFaith Calendar
REFRESH-INTERVAL;VALUE=DURATION:PT1H
X-Robots-Tag:noindex
X-PUBLISHED-TTL:PT1H
BEGIN:VTIMEZONE
TZID:America/New_York
BEGIN:DAYLIGHT
TZOFFSETFROM:-0500
TZOFFSETTO:-0400
TZNAME:EDT
DTSTART:20260308T070000
END:DAYLIGHT
BEGIN:STANDARD
TZOFFSETFROM:-0400
TZOFFSETTO:-0500
TZNAME:EST
DTSTART:20261101T060000
END:STANDARD
END:VTIMEZONE
BEGIN:VEVENT
DTSTART;VALUE=DATE:20260402
DTEND;VALUE=DATE:20260403
DTSTAMP:20260424T070917
CREATED:20251104T234223Z
LAST-MODIFIED:20251104T234223Z
UID:3112-1775088000-1775174399@multi-faithcalendar.org
SUMMARY:Holy Thursday (Catholic/ Christian Protestant/ The Church of Jesus Christ of Latter-day Saints)
DESCRIPTION:Holy Thursday is the commemoration of the Last Supper of Jesus Christ\, when\, prior to his arrest and crucifixion\, he established the practice of communion\, which is considered a sacrament among most Christian communities. Later that evening\, he prays in the Garden of Gethsemane.\nMore information from the Catholic Church\nMore information from The Church of Jesus Christ of Latter-day Saints\nMore information from the Christian Methodist Episcopal Church\n 
URL:https://multi-faithcalendar.org/events/holy-thursday-catholic-christian-protestant-the-church-of-jesus-christ-of-latter-day-saints-4/
CATEGORIES:2026,Catholic,Christian,Christian Protestant,Hispanic,The Church of Jesus Christ of Latter-day Saints
END:VEVENT
END:VCALENDAR