BEGIN:VCALENDAR
VERSION:2.0
PRODID:-//Cincy MultiFaith Calendar - ECPv6.15.1.1//NONSGML v1.0//EN
CALSCALE:GREGORIAN
METHOD:PUBLISH
X-ORIGINAL-URL:https://multi-faithcalendar.org
X-WR-CALDESC:Events for Cincy MultiFaith Calendar
REFRESH-INTERVAL;VALUE=DURATION:PT1H
X-Robots-Tag:noindex
X-PUBLISHED-TTL:PT1H
BEGIN:VTIMEZONE
TZID:America/New_York
BEGIN:DAYLIGHT
TZOFFSETFROM:-0500
TZOFFSETTO:-0400
TZNAME:EDT
DTSTART:20210314T070000
END:DAYLIGHT
BEGIN:STANDARD
TZOFFSETFROM:-0400
TZOFFSETTO:-0500
TZNAME:EST
DTSTART:20211107T060000
END:STANDARD
BEGIN:DAYLIGHT
TZOFFSETFROM:-0500
TZOFFSETTO:-0400
TZNAME:EDT
DTSTART:20220313T070000
END:DAYLIGHT
BEGIN:STANDARD
TZOFFSETFROM:-0400
TZOFFSETTO:-0500
TZNAME:EST
DTSTART:20221106T060000
END:STANDARD
END:VTIMEZONE
BEGIN:VEVENT
DTSTART;VALUE=DATE:20220927
DTEND;VALUE=DATE:20220928
DTSTAMP:20260425T062508
CREATED:20210111T184313Z
LAST-MODIFIED:20211114T171709Z
UID:1390-1664236800-1664323199@multi-faithcalendar.org
SUMMARY:Feast of Saint Vincent de Paul (Catholic)
DESCRIPTION:Today is the feast day of the patron saint of charitable societies\, St. Vincent de Paul.  He is primarily recognized for his charity and compassion for the poor\, though he is also known for his reform of the clergy.  He was renowned for his compassion\, humility and generosity. \nMore Information can be found here.
URL:https://multi-faithcalendar.org/events/feast-of-saint-vincent-de-paul-catholic/
CATEGORIES:2022,Catholic,September
END:VEVENT
BEGIN:VEVENT
DTSTART;VALUE=DATE:20220815
DTEND;VALUE=DATE:20220816
DTSTAMP:20260425T062508
CREATED:20210111T184121Z
LAST-MODIFIED:20211114T171616Z
UID:1388-1660521600-1660607999@multi-faithcalendar.org
SUMMARY:Feast of the Assumption (Catholic)
DESCRIPTION:The feast day of the Assumption of Mary celebrates the Christian belief that God assumed the Virgin Mary into Heaven\, body and soul\, following her death. \nMore Information
URL:https://multi-faithcalendar.org/events/feast-of-the-assumption-catholic-2/
CATEGORIES:2022,August,Catholic
END:VEVENT
BEGIN:VEVENT
DTSTART;VALUE=DATE:20220714
DTEND;VALUE=DATE:20220715
DTSTAMP:20260425T062508
CREATED:20210111T183716Z
LAST-MODIFIED:20211114T163631Z
UID:1386-1657756800-1657843199@multi-faithcalendar.org
SUMMARY:Feast of Saint Kateri Tekakwitha (Catholic)
DESCRIPTION:Informally known as Lily of the Mohawks\, St. Kateri Tekakwitha is the first Native American saint in the United States. It is said that after her death\, the marks on her face from smallpox faded away. St. Kateri Tekakwitha is the patroness of ecology and the environment\, as well as people in exile and Native Americans. \nMore Information
URL:https://multi-faithcalendar.org/events/feast-of-saint-kateri-tekakwitha-catholic/
CATEGORIES:2022,Catholic,July
END:VEVENT
BEGIN:VEVENT
DTSTART;VALUE=DATE:20220629
DTEND;VALUE=DATE:20220630
DTSTAMP:20260425T062508
CREATED:20210111T183206Z
LAST-MODIFIED:20211114T161150Z
UID:1381-1656460800-1656547199@multi-faithcalendar.org
SUMMARY:Feast of Saints Peter and Paul (Catholic)
DESCRIPTION:Today is the feast celebrating the martyrdom of two of the most important apostles\, Peter and Paul\, the founders of the Christian Church. \nMore Information
URL:https://multi-faithcalendar.org/events/feast-of-saints-peter-and-paul-catholic/
CATEGORIES:2022,Catholic
END:VEVENT
BEGIN:VEVENT
DTSTART;VALUE=DATE:20220624
DTEND;VALUE=DATE:20220625
DTSTAMP:20260425T062508
CREATED:20210111T182920Z
LAST-MODIFIED:20211114T161342Z
UID:1377-1656028800-1656115199@multi-faithcalendar.org
SUMMARY:Sacred Heart of Jesus (Catholic)
DESCRIPTION:Today is a Solemnity – a Feast of the highest rank in the Roman Catholic Church – celebrating the love of Jesus Christ for all humankind. It is celebrated the Friday after Corpus Christi Sunday. \nMore Information
URL:https://multi-faithcalendar.org/events/sacred-heart-of-jesus-catholic-2/
CATEGORIES:2022,Catholic
END:VEVENT
BEGIN:VEVENT
DTSTART;VALUE=DATE:20220616
DTEND;VALUE=DATE:20220617
DTSTAMP:20260425T062508
CREATED:20210106T204923Z
LAST-MODIFIED:20211114T161537Z
UID:1282-1655337600-1655423999@multi-faithcalendar.org
SUMMARY:Corpus Christi (Catholic)
DESCRIPTION:Also known as The Most Holy Body and Blood of Christ\, today is a Solemnity\, a feast of the highest rank in the Roman Catholic Church\, honoring the Holy Eucharist\, bread and wine which is ritually blessed and consumed during mass.  Catholics believe this ritual blessing transubstantiates\, or changes the substance of the bread and wine\, so that it becomes the Real Presence\, or body and blood of Jesus Christ. This solemnity places a special emphasis on the Real Presence of the Lord Jesus Christ in the Eucharist. It is celebrated the Sunday after Trinity Sunday. \nMore Information:\nSolemnity of the Most Holy Body and Blood of Christ\nCorpus Christi
URL:https://multi-faithcalendar.org/events/the-most-holy-body-and-blood-of-christ-catholic/
CATEGORIES:2022,Catholic,Hispanic
END:VEVENT
BEGIN:VEVENT
DTSTART;VALUE=DATE:20220612
DTEND;VALUE=DATE:20220613
DTSTAMP:20260425T062508
CREATED:20210111T182616Z
LAST-MODIFIED:20211113T204756Z
UID:1370-1654992000-1655078399@multi-faithcalendar.org
SUMMARY:Trinity Sunday (Catholic)
DESCRIPTION:Trinity Sunday is the first Sunday after Pentecost. It is a day when catholics attend mass\, but the mass traditionally honor the Holy Trinity\, the divine union of the Father\, Son and Holy Spirit; three divine persons in one God. \nMore information about the celebration can be found here.
URL:https://multi-faithcalendar.org/events/trinity-sunday-catholic-2/
CATEGORIES:2022,Catholic
END:VEVENT
BEGIN:VEVENT
DTSTART;VALUE=DATE:20220605
DTEND;VALUE=DATE:20220606
DTSTAMP:20260425T062508
CREATED:20210106T204808Z
LAST-MODIFIED:20211113T203841Z
UID:1280-1654387200-1654473599@multi-faithcalendar.org
SUMMARY:Pentecost Sunday (Catholic / Christian Protestant)
DESCRIPTION:Pentecost is known by Christians as the birthday of their church community. The word Pentecost is Greek for “50th day.” It is celebrated fifty days after Easter Sunday\, to commemorate when the Holy Spirit came upon the Apostles and their followers\, inspiring them to begin their Earthly ministry to make disciples of all nations. \nMore Information from the Catholic Church \nMore information from the Christian Methodist Episcopal Church
URL:https://multi-faithcalendar.org/events/pentecost-sunday-catholic-2/
CATEGORIES:2022,Catholic,Christian,Christian Protestant,Hispanic,June
END:VEVENT
BEGIN:VEVENT
DTSTART;VALUE=DATE:20220526
DTEND;VALUE=DATE:20220527
DTSTAMP:20260425T062508
CREATED:20210106T204722Z
LAST-MODIFIED:20211113T203507Z
UID:1278-1653523200-1653609599@multi-faithcalendar.org
SUMMARY:The Ascension of the Lord (Catholic)
DESCRIPTION:This holy day commemorates the physical ascension of Jesus Christ into heaven in the presence of his 11 apostles\, which\, according to scripture\, occurred 40 days after his resurrection from the dead on Easter. \nThis is a holy day of obligation for Catholics. \nMore information can be found here.
URL:https://multi-faithcalendar.org/events/the-ascension-of-the-lord-thursday/
CATEGORIES:2022,Catholic
END:VEVENT
BEGIN:VEVENT
DTSTART;VALUE=DATE:20220417
DTEND;VALUE=DATE:20220418
DTSTAMP:20260425T062508
CREATED:20210106T203453Z
LAST-MODIFIED:20211113T195256Z
UID:1275-1650153600-1650239999@multi-faithcalendar.org
SUMMARY:Easter Sunday (Catholic / Christian Protestant/ The Church of Jesus Christ of Latter-Day Saints)
DESCRIPTION:A festival and holiday celebrating the resurrection of Jesus Christ from the dead.  After He died on the cross\, his body was placed in a tomb\, where it remained for three days\, separated from His spirit\, until on Sunday\, when he was resurrected. It is the most important day of the Christian calendar. \nMore information from The Church of Jesus Christ of Latter-day Saints\nMore information from the Catholic Church\nMore information from the Christian Methodist Episcopal Church\nHoliday Greeting: Happy Easter!
URL:https://multi-faithcalendar.org/events/easter-catholic-christian-latter-day-saints/
CATEGORIES:2022,Catholic,Christian,Christian Protestant,Hispanic,The Church of Jesus Christ of Latter-day Saints
END:VEVENT
BEGIN:VEVENT
DTSTART;VALUE=DATE:20220415
DTEND;VALUE=DATE:20220416
DTSTAMP:20260425T062508
CREATED:20210104T200707Z
LAST-MODIFIED:20211113T195153Z
UID:1148-1649980800-1650067199@multi-faithcalendar.org
SUMMARY:Good Friday (Christian Protestant/ Catholic/ The Church of Jesus Christ of Latter-day Saints)
DESCRIPTION:Good Friday is the day on which Christians commemorate the crucifixion and death of Jesus Christ.\n\nMore information from The Church of Jesus Christ of Latter-day Saints\nMore information from the Catholic Church\nMore information from the Christian Methodist Episcopal Church\n\nThis is a day of fasting and abstinence from meat for Catholics over the age of 14.
URL:https://multi-faithcalendar.org/events/good-friday-christian-catholic-the-church-of-jesus-christ-of-latter-day-saints/
CATEGORIES:2022,Catholic,Christian,Christian Protestant,The Church of Jesus Christ of Latter-day Saints
END:VEVENT
BEGIN:VEVENT
DTSTART;VALUE=DATE:20220414
DTEND;VALUE=DATE:20220415
DTSTAMP:20260425T062508
CREATED:20210104T200310Z
LAST-MODIFIED:20211113T195054Z
UID:1145-1649894400-1649980799@multi-faithcalendar.org
SUMMARY:Holy Thursday (Catholic/ Christian Protestant/ The Church of Jesus Christ of Latter-day Saints)
DESCRIPTION:Holy Thursday is the commemoration of the Last Supper of Jesus Christ\, when\, prior to his arrest and crucifixion\, he established the practice of communion\, which is considered a sacrament among most Christian communities. Later that evening\, he prays in the Garden of Gethsemane.\nMore information from the Catholic Church\nMore information from The Church of Jesus Christ of Latter-day Saints\nMore information from the Christian Methodist Episcopal Church\n 
URL:https://multi-faithcalendar.org/events/holy-thursday-christian-the-church-of-jesus-christ-of-latter-day-saints/
CATEGORIES:2022,Catholic,Christian,Christian Protestant,Hispanic,The Church of Jesus Christ of Latter-day Saints
END:VEVENT
BEGIN:VEVENT
DTSTART;VALUE=DATE:20220410
DTEND;VALUE=DATE:20220411
DTSTAMP:20260425T062508
CREATED:20210106T202936Z
LAST-MODIFIED:20211113T194747Z
UID:1269-1649548800-1649635199@multi-faithcalendar.org
SUMMARY:Palm Sunday (Christian Protestant/ Catholic/ Hispanic/ The Church of Jesus Christ of Latter-Day Saints)
DESCRIPTION:Palm Sunday is the final Sunday of Lent\, the beginning of Holy Week\, and commemorates the triumphant arrival of Christ in Jerusalem\, days before he was crucified. In the Gospels\, Jesus entered Jerusalem riding a young donkey\, and to the lavish praise of the townspeople who threw clothes\, or possibly palms or small branches\, in front of him as a sign of homage. This was a customary practice for people of great respect. \nMore Information:\nPalms for the Lord – from The Church of Jesus Christ of Latter-Day Saints \nFrom the Christian Methodist Episcopal Church
URL:https://multi-faithcalendar.org/events/palm-sunday-christian/
CATEGORIES:2021,Catholic,Christian,Christian Protestant,Hispanic,The Church of Jesus Christ of Latter-day Saints
END:VEVENT
BEGIN:VEVENT
DTSTART;VALUE=DATE:20220319
DTEND;VALUE=DATE:20220320
DTSTAMP:20260425T062508
CREATED:20211116T210026Z
LAST-MODIFIED:20211116T210026Z
UID:1907-1647648000-1647734399@multi-faithcalendar.org
SUMMARY:Feast of St. Joseph (Catholic)
DESCRIPTION:This is the feast day of Joseph\, a carpenter who was the stepfather of Jesus and husband of Mary. He is the patron saint of the Universal Church. Traditionally it is believed he died in the presence of Jesus and Mary\, before Jesus began his public ministry. For this reason\, St. Joseph is also the patron saint of a holy death. \nMore information can be found here.
URL:https://multi-faithcalendar.org/events/feast-of-st-joseph-catholic-2/
CATEGORIES:2022,Catholic
END:VEVENT
BEGIN:VEVENT
DTSTART;VALUE=DATE:20220303
DTEND;VALUE=DATE:20220304
DTSTAMP:20260425T062508
CREATED:20211116T205555Z
LAST-MODIFIED:20211116T205555Z
UID:1899-1646265600-1646351999@multi-faithcalendar.org
SUMMARY:Feast of Saint Katharine Drexel (Catholic)
DESCRIPTION:Katharine Drexel is the second American-born saint to be canonized by the Catholic Church and is considered the patron saint of racial justice and philanthropists. She was an American heiress\, philanthropist\, religious sister\, educator\, and foundress of the Blessed Sacrament Sisters for Indians and Colored People (now Sisters of the Blessed Sacrament)\, a congregation of missionary nuns dedicated to the welfare of American Indians and African Americans. \nYou can learn more about her here.
URL:https://multi-faithcalendar.org/events/feast-of-saint-katharine-drexel-catholic-2/
CATEGORIES:2022,Catholic
END:VEVENT
BEGIN:VEVENT
DTSTART;VALUE=DATE:20220302
DTEND;VALUE=DATE:20220303
DTSTAMP:20260425T062508
CREATED:20211116T205453Z
LAST-MODIFIED:20211116T205453Z
UID:1897-1646179200-1646265599@multi-faithcalendar.org
SUMMARY:Ash Wednesday (Catholic/ Christian Protestant / Hispanic)
DESCRIPTION:Ash Wednesday is the beginning of the 40-day season of Lent\, when Christians prepare spiritually for the celebration of Easter. On this day\, Catholics and some Protestant denominations will attend a special prayer service\, where they will have ashes applied to their foreheads in the shape of a cross. This cross of ashes symbolizes penance\, mourning and mortality. \nThis is a day of fasting and abstinence from meat for Catholics over the age of 14. \nMore information from the Christian Methodist Episcopal Church can be found here. \nMore information from the Catholic Church can be found here.
URL:https://multi-faithcalendar.org/events/ash-wednesday-catholic-christian-protestant-hispanic/
CATEGORIES:2022,Catholic,Christian,Hispanic
END:VEVENT
BEGIN:VEVENT
DTSTART;VALUE=DATE:20220106
DTEND;VALUE=DATE:20220107
DTSTAMP:20260425T062508
CREATED:20211116T201727Z
LAST-MODIFIED:20211116T201727Z
UID:1858-1641427200-1641513599@multi-faithcalendar.org
SUMMARY:Three Kings (Hispanic)
DESCRIPTION:The Feast of Reyes (Fiesta de Reyes or Los Reyes) is celebrated in Spain/Portugal and Latin America on January 6th. The feast celebrates the passage in the Bible in which the Three Wise Men safely arrive to Jerusalem thanks to the guidance of the Star and bring gifts to Jesus. The level of celebration varies from a family gathering to a huge city wide and very anticipated parade depending on the culture/country. For example\, both Spain and Puerto Rico celebrate with large parades\, and many argue that Reyes is more festive/a larger celebration than Christmas. Despite the differences in the level of “Community Celebration”\, all cultures/countries share some traditions around this feast: 1. Family gathering the night before and/or the day of Reyes. 2. Eating the Rosca/Roscon de Reyes\, a sweet bread in the shape of a large oval “doughnut” with dried fruit on top. This is a very time consuming sweet to make. Inside the bread there is one (or more than one depending on the size of the Rosca) figurine of “Baby Jesus”. Based on each family’s traditions (mostly guided by the cultural traditions of the country of origin) the person that receives the piece of bread with the figurine will be responsible for hosting the party the next year\, bringing tamales for the feast of Candelaria/Candlemas Day (Mexican Tradition)\, or doing/not doing the dishes\, first one to other presents\, etc. 3. All kids (and grown up kids) leave their shoes by the window the night before Reyes (Jan 5th) or under the Christmas Tree so the Reyes (Kings) can fill them with gifts during the night. Usually\, kids select their favorite shoes\, “Church” shoes or the shoes that better represent them (soccer shoes\, dance shoes\, flip-flops\, etc). 4. Kids also leave water outside their home for the camels to drink. (The Three Wise Men travel on camels). It is important also to mention that this feast brings much attention to the idea of the star that guided the Three Wise Men to Jesus and how we should always follow God’s light and path and trust that we will be safe. \nMore Information
URL:https://multi-faithcalendar.org/events/three-kings-hispanic-3/
CATEGORIES:2022,Catholic,Hispanic
END:VEVENT
BEGIN:VEVENT
DTSTART;VALUE=DATE:20220106
DTEND;VALUE=DATE:20220107
DTSTAMP:20260425T062508
CREATED:20211116T201601Z
LAST-MODIFIED:20211116T201601Z
UID:1856-1641427200-1641513599@multi-faithcalendar.org
SUMMARY:Epiphany of the Lord (Catholic)
DESCRIPTION:Celebrated 12 days after Christmas\, the Epiphany of the Lord is the time when Christians remember the Wise Men (also sometimes called the Three Kings) who visited Jesus. \nMore Information
URL:https://multi-faithcalendar.org/events/epiphany-of-the-lord-catholic-3/
CATEGORIES:2022,Catholic
END:VEVENT
BEGIN:VEVENT
DTSTART;VALUE=DATE:20220101
DTEND;VALUE=DATE:20220102
DTSTAMP:20260425T062508
CREATED:20211116T201432Z
LAST-MODIFIED:20211116T201432Z
UID:1854-1640995200-1641081599@multi-faithcalendar.org
SUMMARY:The Solemnity of Mary\, the Holy Mother of God (Catholic)
DESCRIPTION:Solemnity of Mary\nA feast day of the Blessed Virgin Mary under the aspect of her motherhood of Jesus Christ. \nThis is a holy day of obligation. \n \nMore Information
URL:https://multi-faithcalendar.org/events/the-solemnity-of-mary-the-holy-mother-of-god-catholic-3/
CATEGORIES:2022,Catholic
END:VEVENT
BEGIN:VEVENT
DTSTART;VALUE=DATE:20211225
DTEND;VALUE=DATE:20211226
DTSTAMP:20260425T062508
CREATED:20210104T201151Z
LAST-MODIFIED:20210219T021947Z
UID:1155-1640390400-1640476799@multi-faithcalendar.org
SUMMARY:Christmas (Christian Protestant/ Catholic/ The Church of Jesus Christ of Latter-day Saints/ Hispanic)
DESCRIPTION:Christmas is the holiday during which Christians celebrate the birth of Jesus\, who they believe is the Son of God and Mary. The Christmas season is a time to reflect and act upon the blessings and opportunities Christians have received through the birth\, life\, death\, and resurrection of  Jesus Christ. It is written in Christian scripture that God “so loved the world\, that he gave his only begotten Son” (Holy Bible\, Book of John\, Chapter 3\, verse 16)\, and so Christians express their love toward one another and toward God and His precious Son by giving to others.  \n\n\nMore Information from The Church of Jesus Christ of Latter-day Saints\nMore information from the Christian Methodist Episcopal Church\nHoliday Greeting: Merry Christmas \nCelebration: Christians often celebrate this holiday by attending a prayer service at church\, singing hymns\, and exchanging gifts. 
URL:https://multi-faithcalendar.org/events/christmas-christian-catholic-the-church-of-jesus-christ-of-latter-day-saints/
CATEGORIES:2021,Catholic,Christian,Christian Protestant,Hispanic,The Church of Jesus Christ of Latter-day Saints
END:VEVENT
BEGIN:VEVENT
DTSTART;VALUE=DATE:20211212
DTEND;VALUE=DATE:20211213
DTSTAMP:20260425T062508
CREATED:20210111T185757Z
LAST-MODIFIED:20210204T210800Z
UID:1404-1639267200-1639353599@multi-faithcalendar.org
SUMMARY:Feast of Our Lady of Guadalupe (Hispanic / Catholic)
DESCRIPTION:This is a popular feast day in the Americas\, especially among Hispanic Catholics\, and celebrates Mary\, Jesus mother\, who is the patron saint of the Americas. This feast celebrates when\, on the 9th and 12th of December 1531\, in Mexico City\, the Virgin Mary appeared to Juan Diego. \nMore information can be found here.
URL:https://multi-faithcalendar.org/events/feast-of-our-lady-of-guadalupe-hispanic-catholic/
CATEGORIES:2021,Catholic,December,Hispanic
END:VEVENT
BEGIN:VEVENT
DTSTART;VALUE=DATE:20211208
DTEND;VALUE=DATE:20211209
DTSTAMP:20260425T062508
CREATED:20210111T185455Z
LAST-MODIFIED:20210204T210005Z
UID:1402-1638921600-1639007999@multi-faithcalendar.org
SUMMARY:Immaculate Conception of the Blessed Virgin Mary (Catholic)
DESCRIPTION:Today\, Catholics celebrate the day that Mary\, the mother of Jesus\, was conceived by her mother Anna.  Catholics believe that Mary was conceived without original sin\, and so throughout her life her soul was immaculate\, or without the stain of sin. \nMore information can be found here.
URL:https://multi-faithcalendar.org/events/immaculate-conception-of-the-blessed-virgin-mary-catholic-3/
CATEGORIES:2021,Catholic,December
END:VEVENT
BEGIN:VEVENT
DTSTART;VALUE=DATE:20211128
DTEND;VALUE=DATE:20211129
DTSTAMP:20260425T062508
CREATED:20210106T205003Z
LAST-MODIFIED:20210219T160928Z
UID:1284-1638057600-1638143999@multi-faithcalendar.org
SUMMARY:First Sunday of Advent (Catholic / Christian Protestant)
DESCRIPTION:For Catholics\, the new Liturgical Year commences with the first Sunday of Advent.  In this new liturgical year\, the Church not only wishes to indicate the beginning of a year\, but the beginning of a renewed commitment to the faith by all those who follow Christ\, the Lord.  Advent is the period of four Sundays and weeks before Christmas.  Advent means ‘Coming’ in Latin.  This is the coming of Jesus into the world. \nMore Information from the Catholic Church \nMore information from the Christian Methodist Episcopal Church \nMany christians celebrate the Advent season with special hymns and prayers.  Some also create\, at home or church\, wreaths of evergreens with four candles\, one for each week of the season.  A new candle is lit each week\, symbolizing the approaching light of Jesus\, who came into the world at Christmas.
URL:https://multi-faithcalendar.org/events/first-sunday-of-advent-catholic/
CATEGORIES:2021,Catholic,Christian,Christian Protestant,Hispanic,November
END:VEVENT
BEGIN:VEVENT
DTSTART;VALUE=DATE:20211102
DTEND;VALUE=DATE:20211103
DTSTAMP:20260425T062508
CREATED:20210111T185142Z
LAST-MODIFIED:20210204T204813Z
UID:1399-1635811200-1635897599@multi-faithcalendar.org
SUMMARY:All Souls Day (Catholic)
DESCRIPTION:All Souls Day is a solemn celebration in the Roman Catholic Church commemorating all of those who have died and are now in Purgatory\, being cleansed of their venial sins and the temporal punishments for the mortal sins that they had confessed\, and being made pure before entering into the presence of God in Heaven. \nMore Information \nCatholics often attend prayer services today at which special prayers are said or memorials given for those loved ones who have died during the previous year. Special prayers for the dead are said throughout the month of November.
URL:https://multi-faithcalendar.org/events/all-souls-day-catholic-3/
CATEGORIES:2021,Catholic,November
END:VEVENT
BEGIN:VEVENT
DTSTART;VALUE=DATE:20211101
DTEND;VALUE=DATE:20211102
DTSTAMP:20260425T062508
CREATED:20210111T184722Z
LAST-MODIFIED:20210204T204547Z
UID:1395-1635724800-1635811199@multi-faithcalendar.org
SUMMARY:All Saints Day (Catholic)
DESCRIPTION:Also called All Hallows’ Day\, this is a day commemorating all the saints of the church\, both known and unknown\, who have been welcomed into heaven. \nMore Information
URL:https://multi-faithcalendar.org/events/all-saints-day-catholic-2/
CATEGORIES:2021,Catholic,November
END:VEVENT
BEGIN:VEVENT
DTSTART;VALUE=DATE:20210319
DTEND;VALUE=DATE:20210320
DTSTAMP:20260425T062508
CREATED:20210107T181726Z
LAST-MODIFIED:20210204T194028Z
UID:1297-1616112000-1616198399@multi-faithcalendar.org
SUMMARY:Feast of St. Joseph (Catholic)
DESCRIPTION:This is the feast day of Joseph\, a carpenter who was the stepfather of Jesus and husband of Mary. He is the patron saint of the Universal Church. Traditionally it is believed he died in the presence of Jesus and Mary\, before Jesus began his public ministry. For this reason\, St. Joseph is also the patron saint of a holy death. \nMore information can be found here.
URL:https://multi-faithcalendar.org/events/feast-of-st-joseph-catholic/
CATEGORIES:2021,Catholic
END:VEVENT
BEGIN:VEVENT
DTSTART;VALUE=DATE:20210217
DTEND;VALUE=DATE:20210218
DTSTAMP:20260425T062508
CREATED:20210106T202301Z
LAST-MODIFIED:20210219T160602Z
UID:1265-1613520000-1613606399@multi-faithcalendar.org
SUMMARY:Ash Wednesday (Catholic/ Christian Protestant / Hispanic)
DESCRIPTION:Ash Wednesday is the beginning of the 40-day season of Lent\, when Christians prepare spiritually for the celebration of Easter. On this day\, Catholics and some Protestant denominations will attend a special prayer service\, where they will have ashes applied to their foreheads in the shape of a cross. This cross of ashes symbolizes penance\, mourning and mortality. \nThis is a day of fasting and abstinence from meat for Catholics over the age of 14. \nMore information from the Christian Methodist Episcopal Church can be found here. \nMore information from the Catholic Church can be found here.
URL:https://multi-faithcalendar.org/events/ash-wednesday-catholic/
CATEGORIES:2021,Catholic,Christian,Christian Protestant,February,Hispanic
END:VEVENT
BEGIN:VEVENT
DTSTART;VALUE=DATE:20210203
DTEND;VALUE=DATE:20210204
DTSTAMP:20260425T062508
CREATED:20210106T202607Z
LAST-MODIFIED:20210204T192948Z
UID:1267-1612310400-1612396799@multi-faithcalendar.org
SUMMARY:Feast of Saint Katharine Drexel (Catholic)
DESCRIPTION:Katharine Drexel is the second American-born saint to be canonized by the Catholic Church and is considered the patron saint of racial justice and philanthropists. She was an American heiress\, philanthropist\, religious sister\, educator\, and foundress of the Blessed Sacrament Sisters for Indians and Colored People (now Sisters of the Blessed Sacrament)\, a congregation of missionary nuns dedicated to the welfare of American Indians and African Americans. \nYou can learn more about her here. \n 
URL:https://multi-faithcalendar.org/events/feast-of-saint-katharine-drexel-catholic/
CATEGORIES:2021,Catholic,March
END:VEVENT
BEGIN:VEVENT
DTSTART;VALUE=DATE:20210106
DTEND;VALUE=DATE:20210107
DTSTAMP:20260425T062508
CREATED:20201217T172240Z
LAST-MODIFIED:20201218T173220Z
UID:1080-1609891200-1609977599@multi-faithcalendar.org
SUMMARY:Three Kings (Hispanic)
DESCRIPTION:The Feast of Reyes (Fiesta de Reyes or Los Reyes) is celebrated in Spain/Portugal and Latin America on January 6th. The feast celebrates the passage in the Bible in which the Three Wise Men safely arrive to Jerusalem thanks to the guidance of the Star and bring gifts to Jesus. The level of celebration varies from a family gathering to a huge city wide and very anticipated parade depending on the culture/country. For example\, both Spain and Puerto Rico celebrate with large parades\, and many argue that Reyes is more festive/a larger celebration than Christmas. Despite the differences in the level of “Community Celebration”\, all cultures/countries share some traditions around this feast: 1. Family gathering the night before and/or the day of Reyes. 2. Eating the Rosca/Roscon de Reyes\, a sweet bread in the shape of a large oval “doughnut” with dried fruit on top. This is a very time consuming sweet to make. Inside the bread there is one (or more than one depending on the size of the Rosca) figurine of “Baby Jesus”. Based on each family’s traditions (mostly guided by the cultural traditions of the country of origin) the person that receives the piece of bread with the figurine will be responsible for hosting the party the next year\, bringing tamales for the feast of Candelaria/Candlemas Day (Mexican Tradition)\, or doing/not doing the dishes\, first one to other presents\, etc. 3. All kids (and grown up kids) leave their shoes by the window the night before Reyes (Jan 5th) or under the Christmas Tree so the Reyes (Kings) can fill them with gifts during the night. Usually\, kids select their favorite shoes\, “Church” shoes or the shoes that better represent them (soccer shoes\, dance shoes\, flip-flops\, etc). 4. Kids also leave water outside their home for the camels to drink. (The Three Wise Men travel on camels). It is important also to mention that this feast brings much attention to the idea of the star that guided the Three Wise Men to Jesus and how we should always follow God’s light and path and trust that we will be safe. \nMore Information
URL:https://multi-faithcalendar.org/events/three-kings-hispanic-2/
CATEGORIES:2021,Catholic,Hispanic
END:VEVENT
BEGIN:VEVENT
DTSTART;VALUE=DATE:20210103
DTEND;VALUE=DATE:20210104
DTSTAMP:20260425T062508
CREATED:20201217T172553Z
LAST-MODIFIED:20201231T173434Z
UID:1082-1609632000-1609718399@multi-faithcalendar.org
SUMMARY:Epiphany of the Lord (Catholic)
DESCRIPTION:Celebrated 12 days after Christmas\, the Epiphany of the Lord is the time when Christians remember the Wise Men (also sometimes called the Three Kings) who visited Jesus. \nMore Information
URL:https://multi-faithcalendar.org/events/epiphany-of-the-lord-catholic-2/
CATEGORIES:2021,Catholic
END:VEVENT
END:VCALENDAR