BEGIN:VCALENDAR
VERSION:2.0
PRODID:-//Cincy MultiFaith Calendar - ECPv6.15.1.1//NONSGML v1.0//EN
CALSCALE:GREGORIAN
METHOD:PUBLISH
X-WR-CALNAME:Cincy MultiFaith Calendar
X-ORIGINAL-URL:https://multi-faithcalendar.org
X-WR-CALDESC:Events for Cincy MultiFaith Calendar
REFRESH-INTERVAL;VALUE=DURATION:PT1H
X-Robots-Tag:noindex
X-PUBLISHED-TTL:PT1H
BEGIN:VTIMEZONE
TZID:America/New_York
BEGIN:DAYLIGHT
TZOFFSETFROM:-0500
TZOFFSETTO:-0400
TZNAME:EDT
DTSTART:20190310T070000
END:DAYLIGHT
BEGIN:STANDARD
TZOFFSETFROM:-0400
TZOFFSETTO:-0500
TZNAME:EST
DTSTART:20191103T060000
END:STANDARD
BEGIN:DAYLIGHT
TZOFFSETFROM:-0500
TZOFFSETTO:-0400
TZNAME:EDT
DTSTART:20200308T070000
END:DAYLIGHT
BEGIN:STANDARD
TZOFFSETFROM:-0400
TZOFFSETTO:-0500
TZNAME:EST
DTSTART:20201101T060000
END:STANDARD
BEGIN:DAYLIGHT
TZOFFSETFROM:-0500
TZOFFSETTO:-0400
TZNAME:EDT
DTSTART:20210314T070000
END:DAYLIGHT
BEGIN:STANDARD
TZOFFSETFROM:-0400
TZOFFSETTO:-0500
TZNAME:EST
DTSTART:20211107T060000
END:STANDARD
END:VTIMEZONE
BEGIN:VEVENT
DTSTART;VALUE=DATE:20211212
DTEND;VALUE=DATE:20211213
DTSTAMP:20260425T091451
CREATED:20210111T185757Z
LAST-MODIFIED:20210204T210800Z
UID:1404-1639267200-1639353599@multi-faithcalendar.org
SUMMARY:Feast of Our Lady of Guadalupe (Hispanic / Catholic)
DESCRIPTION:This is a popular feast day in the Americas\, especially among Hispanic Catholics\, and celebrates Mary\, Jesus mother\, who is the patron saint of the Americas. This feast celebrates when\, on the 9th and 12th of December 1531\, in Mexico City\, the Virgin Mary appeared to Juan Diego. \nMore information can be found here.
URL:https://multi-faithcalendar.org/events/feast-of-our-lady-of-guadalupe-hispanic-catholic/
CATEGORIES:2021,Catholic,December,Hispanic
END:VEVENT
BEGIN:VEVENT
DTSTART;VALUE=DATE:20211208
DTEND;VALUE=DATE:20211209
DTSTAMP:20260425T091451
CREATED:20210111T185455Z
LAST-MODIFIED:20210204T210005Z
UID:1402-1638921600-1639007999@multi-faithcalendar.org
SUMMARY:Immaculate Conception of the Blessed Virgin Mary (Catholic)
DESCRIPTION:Today\, Catholics celebrate the day that Mary\, the mother of Jesus\, was conceived by her mother Anna.  Catholics believe that Mary was conceived without original sin\, and so throughout her life her soul was immaculate\, or without the stain of sin. \nMore information can be found here.
URL:https://multi-faithcalendar.org/events/immaculate-conception-of-the-blessed-virgin-mary-catholic-3/
CATEGORIES:2021,Catholic,December
END:VEVENT
BEGIN:VEVENT
DTSTART;VALUE=DATE:20211128
DTEND;VALUE=DATE:20211129
DTSTAMP:20260425T091451
CREATED:20210106T205003Z
LAST-MODIFIED:20210219T160928Z
UID:1284-1638057600-1638143999@multi-faithcalendar.org
SUMMARY:First Sunday of Advent (Catholic / Christian Protestant)
DESCRIPTION:For Catholics\, the new Liturgical Year commences with the first Sunday of Advent.  In this new liturgical year\, the Church not only wishes to indicate the beginning of a year\, but the beginning of a renewed commitment to the faith by all those who follow Christ\, the Lord.  Advent is the period of four Sundays and weeks before Christmas.  Advent means ‘Coming’ in Latin.  This is the coming of Jesus into the world. \nMore Information from the Catholic Church \nMore information from the Christian Methodist Episcopal Church \nMany christians celebrate the Advent season with special hymns and prayers.  Some also create\, at home or church\, wreaths of evergreens with four candles\, one for each week of the season.  A new candle is lit each week\, symbolizing the approaching light of Jesus\, who came into the world at Christmas.
URL:https://multi-faithcalendar.org/events/first-sunday-of-advent-catholic/
CATEGORIES:2021,Catholic,Christian,Christian Protestant,Hispanic,November
END:VEVENT
BEGIN:VEVENT
DTSTART;VALUE=DATE:20211102
DTEND;VALUE=DATE:20211103
DTSTAMP:20260425T091451
CREATED:20210111T185142Z
LAST-MODIFIED:20210204T204813Z
UID:1399-1635811200-1635897599@multi-faithcalendar.org
SUMMARY:All Souls Day (Catholic)
DESCRIPTION:All Souls Day is a solemn celebration in the Roman Catholic Church commemorating all of those who have died and are now in Purgatory\, being cleansed of their venial sins and the temporal punishments for the mortal sins that they had confessed\, and being made pure before entering into the presence of God in Heaven. \nMore Information \nCatholics often attend prayer services today at which special prayers are said or memorials given for those loved ones who have died during the previous year. Special prayers for the dead are said throughout the month of November.
URL:https://multi-faithcalendar.org/events/all-souls-day-catholic-3/
CATEGORIES:2021,Catholic,November
END:VEVENT
BEGIN:VEVENT
DTSTART;VALUE=DATE:20211101
DTEND;VALUE=DATE:20211102
DTSTAMP:20260425T091451
CREATED:20210111T184722Z
LAST-MODIFIED:20210204T204547Z
UID:1395-1635724800-1635811199@multi-faithcalendar.org
SUMMARY:All Saints Day (Catholic)
DESCRIPTION:Also called All Hallows’ Day\, this is a day commemorating all the saints of the church\, both known and unknown\, who have been welcomed into heaven. \nMore Information
URL:https://multi-faithcalendar.org/events/all-saints-day-catholic-2/
CATEGORIES:2021,Catholic,November
END:VEVENT
BEGIN:VEVENT
DTSTART;VALUE=DATE:20210319
DTEND;VALUE=DATE:20210320
DTSTAMP:20260425T091451
CREATED:20210107T181726Z
LAST-MODIFIED:20210204T194028Z
UID:1297-1616112000-1616198399@multi-faithcalendar.org
SUMMARY:Feast of St. Joseph (Catholic)
DESCRIPTION:This is the feast day of Joseph\, a carpenter who was the stepfather of Jesus and husband of Mary. He is the patron saint of the Universal Church. Traditionally it is believed he died in the presence of Jesus and Mary\, before Jesus began his public ministry. For this reason\, St. Joseph is also the patron saint of a holy death. \nMore information can be found here.
URL:https://multi-faithcalendar.org/events/feast-of-st-joseph-catholic/
CATEGORIES:2021,Catholic
END:VEVENT
BEGIN:VEVENT
DTSTART;VALUE=DATE:20210217
DTEND;VALUE=DATE:20210218
DTSTAMP:20260425T091451
CREATED:20210106T202301Z
LAST-MODIFIED:20210219T160602Z
UID:1265-1613520000-1613606399@multi-faithcalendar.org
SUMMARY:Ash Wednesday (Catholic/ Christian Protestant / Hispanic)
DESCRIPTION:Ash Wednesday is the beginning of the 40-day season of Lent\, when Christians prepare spiritually for the celebration of Easter. On this day\, Catholics and some Protestant denominations will attend a special prayer service\, where they will have ashes applied to their foreheads in the shape of a cross. This cross of ashes symbolizes penance\, mourning and mortality. \nThis is a day of fasting and abstinence from meat for Catholics over the age of 14. \nMore information from the Christian Methodist Episcopal Church can be found here. \nMore information from the Catholic Church can be found here.
URL:https://multi-faithcalendar.org/events/ash-wednesday-catholic/
CATEGORIES:2021,Catholic,Christian,Christian Protestant,February,Hispanic
END:VEVENT
BEGIN:VEVENT
DTSTART;VALUE=DATE:20210203
DTEND;VALUE=DATE:20210204
DTSTAMP:20260425T091451
CREATED:20210106T202607Z
LAST-MODIFIED:20210204T192948Z
UID:1267-1612310400-1612396799@multi-faithcalendar.org
SUMMARY:Feast of Saint Katharine Drexel (Catholic)
DESCRIPTION:Katharine Drexel is the second American-born saint to be canonized by the Catholic Church and is considered the patron saint of racial justice and philanthropists. She was an American heiress\, philanthropist\, religious sister\, educator\, and foundress of the Blessed Sacrament Sisters for Indians and Colored People (now Sisters of the Blessed Sacrament)\, a congregation of missionary nuns dedicated to the welfare of American Indians and African Americans. \nYou can learn more about her here. \n 
URL:https://multi-faithcalendar.org/events/feast-of-saint-katharine-drexel-catholic/
CATEGORIES:2021,Catholic,March
END:VEVENT
BEGIN:VEVENT
DTSTART;VALUE=DATE:20210106
DTEND;VALUE=DATE:20210107
DTSTAMP:20260425T091451
CREATED:20201217T172240Z
LAST-MODIFIED:20201218T173220Z
UID:1080-1609891200-1609977599@multi-faithcalendar.org
SUMMARY:Three Kings (Hispanic)
DESCRIPTION:The Feast of Reyes (Fiesta de Reyes or Los Reyes) is celebrated in Spain/Portugal and Latin America on January 6th. The feast celebrates the passage in the Bible in which the Three Wise Men safely arrive to Jerusalem thanks to the guidance of the Star and bring gifts to Jesus. The level of celebration varies from a family gathering to a huge city wide and very anticipated parade depending on the culture/country. For example\, both Spain and Puerto Rico celebrate with large parades\, and many argue that Reyes is more festive/a larger celebration than Christmas. Despite the differences in the level of “Community Celebration”\, all cultures/countries share some traditions around this feast: 1. Family gathering the night before and/or the day of Reyes. 2. Eating the Rosca/Roscon de Reyes\, a sweet bread in the shape of a large oval “doughnut” with dried fruit on top. This is a very time consuming sweet to make. Inside the bread there is one (or more than one depending on the size of the Rosca) figurine of “Baby Jesus”. Based on each family’s traditions (mostly guided by the cultural traditions of the country of origin) the person that receives the piece of bread with the figurine will be responsible for hosting the party the next year\, bringing tamales for the feast of Candelaria/Candlemas Day (Mexican Tradition)\, or doing/not doing the dishes\, first one to other presents\, etc. 3. All kids (and grown up kids) leave their shoes by the window the night before Reyes (Jan 5th) or under the Christmas Tree so the Reyes (Kings) can fill them with gifts during the night. Usually\, kids select their favorite shoes\, “Church” shoes or the shoes that better represent them (soccer shoes\, dance shoes\, flip-flops\, etc). 4. Kids also leave water outside their home for the camels to drink. (The Three Wise Men travel on camels). It is important also to mention that this feast brings much attention to the idea of the star that guided the Three Wise Men to Jesus and how we should always follow God’s light and path and trust that we will be safe. \nMore Information
URL:https://multi-faithcalendar.org/events/three-kings-hispanic-2/
CATEGORIES:2021,Catholic,Hispanic
END:VEVENT
BEGIN:VEVENT
DTSTART;VALUE=DATE:20210103
DTEND;VALUE=DATE:20210104
DTSTAMP:20260425T091451
CREATED:20201217T172553Z
LAST-MODIFIED:20201231T173434Z
UID:1082-1609632000-1609718399@multi-faithcalendar.org
SUMMARY:Epiphany of the Lord (Catholic)
DESCRIPTION:Celebrated 12 days after Christmas\, the Epiphany of the Lord is the time when Christians remember the Wise Men (also sometimes called the Three Kings) who visited Jesus. \nMore Information
URL:https://multi-faithcalendar.org/events/epiphany-of-the-lord-catholic-2/
CATEGORIES:2021,Catholic
END:VEVENT
BEGIN:VEVENT
DTSTART;VALUE=DATE:20210101
DTEND;VALUE=DATE:20210102
DTSTAMP:20260425T091451
CREATED:20201217T171223Z
LAST-MODIFIED:20201230T200939Z
UID:1075-1609459200-1609545599@multi-faithcalendar.org
SUMMARY:The Solemnity of Mary\, the Holy Mother of God (Catholic)
DESCRIPTION:Solemnity of Mary\nA feast day of the Blessed Virgin Mary under the aspect of her motherhood of Jesus Christ. \nThis is a holy day of obligation. \n \nMore Information
URL:https://multi-faithcalendar.org/events/the-solemnity-of-mary-the-holy-mother-of-god-catholic-2/
CATEGORIES:2021,Catholic
END:VEVENT
BEGIN:VEVENT
DTSTART;VALUE=DATE:20201212
DTEND;VALUE=DATE:20201213
DTSTAMP:20260425T091451
CREATED:20190724T145935Z
LAST-MODIFIED:20190815T125728Z
UID:383-1607731200-1607817599@multi-faithcalendar.org
SUMMARY:Our Lady of Guadalupe (Catholic)
DESCRIPTION:A popular Catholic feast that celebrates the belief that a man\, Juan Diego\, encountered the Virgin  Mary\, Mexico’s patron saint\, in Mexico City on December 9 and 12\, 1531. \nMore Information
URL:https://multi-faithcalendar.org/events/our-lady-of-guadalupe-catholic/
CATEGORIES:2020,Catholic,December
END:VEVENT
BEGIN:VEVENT
DTSTART;VALUE=DATE:20201208
DTEND;VALUE=DATE:20201209
DTSTAMP:20260425T091451
CREATED:20190724T145553Z
LAST-MODIFIED:20190724T145553Z
UID:379-1607385600-1607471999@multi-faithcalendar.org
SUMMARY:Immaculate Conception of the Blessed Virgin Mary (Catholic)
DESCRIPTION:Immaculate means without stain.  Mary was conceived without original sin or its stain. \nMore Information
URL:https://multi-faithcalendar.org/events/immaculate-conception-of-the-blessed-virgin-mary-catholic/
CATEGORIES:2020,Catholic,December
END:VEVENT
BEGIN:VEVENT
DTSTART;VALUE=DATE:20201102
DTEND;VALUE=DATE:20201103
DTSTAMP:20260425T091451
CREATED:20190724T144152Z
LAST-MODIFIED:20190724T144152Z
UID:363-1604275200-1604361599@multi-faithcalendar.org
SUMMARY:All Souls Day (Catholic)
DESCRIPTION:All Souls Day is a solemn celebration in the Roman Catholic Church commemorating all of those who have died and are now in Purgatory\, being cleansed of their venial sins and the temporal punishments for the mortal sins that they had confessed\, and being made pure before entering into the presence of God in Heaven. \nMore Information
URL:https://multi-faithcalendar.org/events/all-souls-day-catholic/
CATEGORIES:2020,Catholic,November
END:VEVENT
BEGIN:VEVENT
DTSTART;VALUE=DATE:20201101
DTEND;VALUE=DATE:20201102
DTSTAMP:20260425T091451
CREATED:20190724T143849Z
LAST-MODIFIED:20190809T183530Z
UID:359-1604188800-1604275199@multi-faithcalendar.org
SUMMARY:All Saints Day (Catholic)
DESCRIPTION:Also called All Hallows’ Day\,  a day commemorating all the saints of the church\, both known and unknown\, who have attained heaven.  \nMore Information
URL:https://multi-faithcalendar.org/events/all-saints-day-catholic/
CATEGORIES:2020,Catholic,November
END:VEVENT
BEGIN:VEVENT
DTSTART;VALUE=DATE:20201004
DTEND;VALUE=DATE:20201005
DTSTAMP:20260425T091451
CREATED:20190724T142919Z
LAST-MODIFIED:20190809T183736Z
UID:342-1601769600-1601855999@multi-faithcalendar.org
SUMMARY:St. Francis of Assisi (Catholic)
DESCRIPTION:Feast Day of St. Francis of Assisi who abandoned a life of luxury for a life devoted to Christianity after reportedly hearing the voice of God\, who commanded him to rebuild the Christian church of San Damiano.  His angry father disowned and disinherited him because Francis sold some goods from his father’s warehouse and used the proceeds to rebuild the church\, and Francis embraced his new life of poverty. He is the patron saint of animals and the environment.  It is Francis who originated the practice of commemorating the Birth of Christ with the nativity scene. \nMore Information
URL:https://multi-faithcalendar.org/events/st-francis-of-assisi-catholic/
CATEGORIES:2020,Catholic,October
END:VEVENT
BEGIN:VEVENT
DTSTART;VALUE=DATE:20200927
DTEND;VALUE=DATE:20200928
DTSTAMP:20260425T091451
CREATED:20190724T142137Z
LAST-MODIFIED:20190724T142137Z
UID:334-1601164800-1601251199@multi-faithcalendar.org
SUMMARY:St. Vincent de Paul (Catholic)
DESCRIPTION:“Feast day of the patron saint of charitable societies\, St. Vincent de Paul is primarily recognized for his charity and compassion for the poor\, though he is also known for his reform of the clergy.  He was renowned for his compassion\, humility and generosity.” \nMore Information
URL:https://multi-faithcalendar.org/events/st-vincent-de-paul-catholic/
CATEGORIES:2020,Catholic,September
END:VEVENT
BEGIN:VEVENT
DTSTART;VALUE=DATE:20200815
DTEND;VALUE=DATE:20200816
DTSTAMP:20260425T091451
CREATED:20190724T140439Z
LAST-MODIFIED:20190815T125533Z
UID:310-1597449600-1597535999@multi-faithcalendar.org
SUMMARY:Feast of the Assumption (Catholic)
DESCRIPTION:The feast day of the Assumption of Mary celebrates the Christian belief that God assumed the Virgin Mary into Heaven following her death. \nMore Information
URL:https://multi-faithcalendar.org/events/feast-of-the-assumption-catholic/
CATEGORIES:2020,August,Catholic
END:VEVENT
BEGIN:VEVENT
DTSTART;VALUE=DATE:20200714
DTEND;VALUE=DATE:20200715
DTSTAMP:20260425T091451
CREATED:20190724T135256Z
LAST-MODIFIED:20190724T135256Z
UID:295-1594684800-1594771199@multi-faithcalendar.org
SUMMARY:St. Kateri Tekakwitha\, Virgin (Catholic)
DESCRIPTION:Informally known as Lily of the Mohawks.   First Native American saint in the United States.  It is said that after her death\, the marks on her face from her smallpox faded away.  St. Kateri Tekakwitha is the patroness of ecology and the environment\, as well as people in exile and Native Americans. \nMore Information
URL:https://multi-faithcalendar.org/events/st-kateri-tekakwitha-virgin-catholic/
CATEGORIES:2020,Catholic,July
END:VEVENT
BEGIN:VEVENT
DTSTART;VALUE=DATE:20200614
DTEND;VALUE=DATE:20200615
DTSTAMP:20260425T091451
CREATED:20190724T134346Z
LAST-MODIFIED:20190724T134346Z
UID:283-1592092800-1592179199@multi-faithcalendar.org
SUMMARY:Most Holy Body and Blood of Christ (Catholic)
DESCRIPTION:It is a Solemnity\, also known as Corpus Christi  – a Feast of the highest rank in the Catholic Church – honoring the Holy Eucharist\, with a special emphasis on the Real Presence of Our Lord Jesus Christ in the Eucharist.  It is celebrated the Sunday after Trinity Sunday. \nMore Information:\nSolemnity of the Most Holy Body and Blood of Christ\nCorpus Christi
URL:https://multi-faithcalendar.org/events/most-holy-body-and-blood-of-christ-catholic/
CATEGORIES:2020,Catholic,June
END:VEVENT
BEGIN:VEVENT
DTSTART;VALUE=DATE:20200607
DTEND;VALUE=DATE:20200608
DTSTAMP:20260425T091451
CREATED:20190724T134131Z
LAST-MODIFIED:20190809T181934Z
UID:281-1591488000-1591574399@multi-faithcalendar.org
SUMMARY:Trinity Sunday (Catholic)
DESCRIPTION:Trinity Sunday is the first Sunday after Pentecost to honor the Holy Trinity—the Father\, Son and Holy Spirit.
URL:https://multi-faithcalendar.org/events/trinity-sunday-catholic/
CATEGORIES:2020,Catholic,June
END:VEVENT
BEGIN:VEVENT
DTSTART;VALUE=DATE:20200531
DTEND;VALUE=DATE:20200601
DTSTAMP:20260425T091451
CREATED:20190724T133525Z
LAST-MODIFIED:20190809T183323Z
UID:276-1590883200-1590969599@multi-faithcalendar.org
SUMMARY:Pentecost Sunday (Catholic)
DESCRIPTION:Pentecost is the Church’s birthday.  The word Pentecost is Greek and it means “50th day.” Fifty days after Easter Sunday\, we celebrate the coming of the Holy Spirit upon the Apostles and their followers\, and the beginning of their Earthly ministry to make disciples of all nations.  \nMore Information
URL:https://multi-faithcalendar.org/events/pentecost-sunday-catholic/
CATEGORIES:2020,Catholic,May
END:VEVENT
BEGIN:VEVENT
DTSTART;VALUE=DATE:20200521
DTEND;VALUE=DATE:20200522
DTSTAMP:20260425T091451
CREATED:20190724T132558Z
LAST-MODIFIED:20190809T183119Z
UID:264-1590019200-1590105599@multi-faithcalendar.org
SUMMARY:Ascension of the Lord (Catholic)
DESCRIPTION:40 days after Easter\, one of the great solemnities in the Christian liturgical calendar\, and commemorates the bodily ascension of Jesus into heaven.
URL:https://multi-faithcalendar.org/events/ascension-of-the-lord-catholic/
CATEGORIES:2020,Catholic,May
END:VEVENT
BEGIN:VEVENT
DTSTART;VALUE=DATE:20200412
DTEND;VALUE=DATE:20200413
DTSTAMP:20260425T091451
CREATED:20210104T200838Z
LAST-MODIFIED:20210219T022028Z
UID:1150-1586649600-1586735999@multi-faithcalendar.org
SUMMARY:Easter Sunday (Christian Protestant/ Catholic/ The Church of Jesus Christ of Latter-day Saints)
DESCRIPTION:Easter is the Christian holiday celebrating the resurrection of Jesus Christ. After Christ died on the cross\, His body was placed in a sepulchre\, where it remained\, separated from His spirit\, until His Resurrection\, when His spirit and His body were reunited\n\nMore information from The Church of Jesus Christ of Latter-day Saints
URL:https://multi-faithcalendar.org/events/easter-sunday-christian-catholic-the-church-of-jesus-christ-of-latter-day-saints/
CATEGORIES:2020,April,Catholic,Christian,Christian Protestant,The Church of Jesus Christ of Latter-day Saints
END:VEVENT
BEGIN:VEVENT
DTSTART;VALUE=DATE:20200319
DTEND;VALUE=DATE:20200320
DTSTAMP:20260425T091451
CREATED:20190724T123939Z
LAST-MODIFIED:20190809T182701Z
UID:205-1584576000-1584662399@multi-faithcalendar.org
SUMMARY:St. Joseph (Catholic)
DESCRIPTION:Feast day of the Carpenter and Stepfather of Jesus and husband of Mary.  Patron of the Universal Church.  He died in the presence of Jesus and Mary before Jesus began his public ministry.   For this reason\, St. Joseph is the patron saint of a holy death. \nMore Information
URL:https://multi-faithcalendar.org/events/st-joseph-catholic/
CATEGORIES:2020,Catholic,March
END:VEVENT
BEGIN:VEVENT
DTSTART;VALUE=DATE:20200303
DTEND;VALUE=DATE:20200304
DTSTAMP:20260425T091451
CREATED:20190724T123242Z
LAST-MODIFIED:20190724T123242Z
UID:197-1583193600-1583279999@multi-faithcalendar.org
SUMMARY:Saint Katharine Drexel (Catholic)
DESCRIPTION:Feast day of the patron saint of racial justice and of philanthropists.   St. Katharine Drexel is the second American-born saint to be canonized by the Catholic Church. She was an American heiress\, philanthropist\, religious sister\, educator\, and foundress.  She was the American founder of the Blessed Sacrament Sisters for Indians and Colored People (now Sisters of the Blessed Sacrament)\, a congregation of missionary nuns dedicated to the welfare of American Indians and African Americans. \nMore Information
URL:https://multi-faithcalendar.org/events/saint-katharine-drexel-catholic/
CATEGORIES:2020,Catholic,March
END:VEVENT
BEGIN:VEVENT
DTSTART;VALUE=DATE:20200106
DTEND;VALUE=DATE:20200107
DTSTAMP:20260425T091451
CREATED:20190724T121710Z
LAST-MODIFIED:20190724T121710Z
UID:176-1578268800-1578355199@multi-faithcalendar.org
SUMMARY:Epiphany of the Lord (Catholic)
DESCRIPTION:Celebrated 12 days after Christmas\, the Epiphany of the Lord is the time when Christians remember the Wise Men (also sometimes called the Three Kings) who visited Jesus.
URL:https://multi-faithcalendar.org/events/epiphany-of-the-lord-catholic/
CATEGORIES:2020,Catholic,January
END:VEVENT
BEGIN:VEVENT
DTSTART;VALUE=DATE:20200101
DTEND;VALUE=DATE:20200102
DTSTAMP:20260425T091451
CREATED:20190724T120547Z
LAST-MODIFIED:20190809T181518Z
UID:167-1577836800-1577923199@multi-faithcalendar.org
SUMMARY:The Solemnity of Mary\, the Holy Mother of God (Catholic)
DESCRIPTION:A feast day of the Blessed Virgin Mary under the aspect of her motherhood of Jesus Christ. \nMore Information
URL:https://multi-faithcalendar.org/events/the-solemnity-of-mary-the-holy-mother-of-god-catholic/
CATEGORIES:2020,Catholic,January
END:VEVENT
BEGIN:VEVENT
DTSTART;VALUE=DATE:20191225
DTEND;VALUE=DATE:20191226
DTSTAMP:20260425T091451
CREATED:20190913T215631Z
LAST-MODIFIED:20190913T215631Z
UID:952-1577232000-1577318399@multi-faithcalendar.org
SUMMARY:Christmas (Christian)
DESCRIPTION:Birth of Jesus Christ.  Christians believe that He is the Son of God\, the Messiah\, and Savior of the world. \nMore Information \nHoliday Greeting: Merry Christmas
URL:https://multi-faithcalendar.org/events/christmas-christian-2/
CATEGORIES:Catholic,Christian,Christian Orthodox,December
END:VEVENT
BEGIN:VEVENT
DTSTART;VALUE=DATE:20191212
DTEND;VALUE=DATE:20191213
DTSTAMP:20260425T091451
CREATED:20190913T220736Z
LAST-MODIFIED:20190913T220736Z
UID:959-1576108800-1576195199@multi-faithcalendar.org
SUMMARY:Our Lady of Guadalupe (Catholic)
DESCRIPTION:A popular Catholic feast that celebrates the belief that a man\, Juan Diego\, encountered the Virgin Mary\, Mexico’s patron saint\, in Mexico City on December 9 and 12\, 1531. \nMore Information
URL:https://multi-faithcalendar.org/events/our-lady-of-guadalupe-catholic-2/
CATEGORIES:Catholic,December,Hispanic
END:VEVENT
END:VCALENDAR