BEGIN:VCALENDAR
VERSION:2.0
PRODID:-//Cincy MultiFaith Calendar - ECPv6.15.1.1//NONSGML v1.0//EN
CALSCALE:GREGORIAN
METHOD:PUBLISH
X-ORIGINAL-URL:https://multi-faithcalendar.org
X-WR-CALDESC:Events for Cincy MultiFaith Calendar
REFRESH-INTERVAL;VALUE=DURATION:PT1H
X-Robots-Tag:noindex
X-PUBLISHED-TTL:PT1H
BEGIN:VTIMEZONE
TZID:America/New_York
BEGIN:DAYLIGHT
TZOFFSETFROM:-0500
TZOFFSETTO:-0400
TZNAME:EDT
DTSTART:20260308T070000
END:DAYLIGHT
BEGIN:STANDARD
TZOFFSETFROM:-0400
TZOFFSETTO:-0500
TZNAME:EST
DTSTART:20261101T060000
END:STANDARD
END:VTIMEZONE
BEGIN:VEVENT
DTSTART;VALUE=DATE:20260521
DTEND;VALUE=DATE:20260522
DTSTAMP:20260423T141141
CREATED:20251128T234046Z
LAST-MODIFIED:20251128T234046Z
UID:3166-1779321600-1779407999@multi-faithcalendar.org
SUMMARY:The Ascension of the Lord (Orthodox Christianity)
DESCRIPTION:This holy day commemorates the physical ascension of Jesus Christ into heaven in the presence of his 11 apostles\, which\, according to scripture\, occurred 40 days after his resurrection from the dead on Easter.
URL:https://multi-faithcalendar.org/events/the-ascension-of-the-lord-orthodox-christianity-2/
CATEGORIES:2026,Christian Orthodox
END:VEVENT
BEGIN:VEVENT
DTSTART;VALUE=DATE:20260531
DTEND;VALUE=DATE:20260601
DTSTAMP:20260423T141141
CREATED:20251128T235333Z
LAST-MODIFIED:20251128T235333Z
UID:3178-1780185600-1780271999@multi-faithcalendar.org
SUMMARY:Pentecost (Orthodox Christianity)
DESCRIPTION:Pentecost is known by Christians as the birthday of their church community. The word Pentecost is Greek for “50th day.” It is celebrated fifty days after Easter Sunday\, to commemorate when the Holy Spirit came upon the Apostles and their followers\, inspiring them to begin their Earthly ministry to make disciples of all nations. Orthodox Christianity\, which follows the Julian Calendar\, celebrates this feast today. \nYou can learn more about this here.
URL:https://multi-faithcalendar.org/events/pentecost-orthodox-christianity-4/
CATEGORIES:2026,Christian Orthodox,June,May
END:VEVENT
END:VCALENDAR