BEGIN:VCALENDAR
VERSION:2.0
PRODID:-//Cincy MultiFaith Calendar - ECPv6.15.1.1//NONSGML v1.0//EN
CALSCALE:GREGORIAN
METHOD:PUBLISH
X-ORIGINAL-URL:https://multi-faithcalendar.org
X-WR-CALDESC:Events for Cincy MultiFaith Calendar
REFRESH-INTERVAL;VALUE=DURATION:PT1H
X-Robots-Tag:noindex
X-PUBLISHED-TTL:PT1H
BEGIN:VTIMEZONE
TZID:America/New_York
BEGIN:DAYLIGHT
TZOFFSETFROM:-0500
TZOFFSETTO:-0400
TZNAME:EDT
DTSTART:20190310T070000
END:DAYLIGHT
BEGIN:STANDARD
TZOFFSETFROM:-0400
TZOFFSETTO:-0500
TZNAME:EST
DTSTART:20191103T060000
END:STANDARD
BEGIN:DAYLIGHT
TZOFFSETFROM:-0500
TZOFFSETTO:-0400
TZNAME:EDT
DTSTART:20200308T070000
END:DAYLIGHT
BEGIN:STANDARD
TZOFFSETFROM:-0400
TZOFFSETTO:-0500
TZNAME:EST
DTSTART:20201101T060000
END:STANDARD
BEGIN:DAYLIGHT
TZOFFSETFROM:-0500
TZOFFSETTO:-0400
TZNAME:EDT
DTSTART:20210314T070000
END:DAYLIGHT
BEGIN:STANDARD
TZOFFSETFROM:-0400
TZOFFSETTO:-0500
TZNAME:EST
DTSTART:20211107T060000
END:STANDARD
BEGIN:DAYLIGHT
TZOFFSETFROM:-0500
TZOFFSETTO:-0400
TZNAME:EDT
DTSTART:20220313T070000
END:DAYLIGHT
BEGIN:STANDARD
TZOFFSETFROM:-0400
TZOFFSETTO:-0500
TZNAME:EST
DTSTART:20221106T060000
END:STANDARD
BEGIN:DAYLIGHT
TZOFFSETFROM:-0500
TZOFFSETTO:-0400
TZNAME:EDT
DTSTART:20230312T070000
END:DAYLIGHT
BEGIN:STANDARD
TZOFFSETFROM:-0400
TZOFFSETTO:-0500
TZNAME:EST
DTSTART:20231105T060000
END:STANDARD
END:VTIMEZONE
BEGIN:VEVENT
DTSTART;VALUE=DATE:20230409
DTEND;VALUE=DATE:20230410
DTSTAMP:20260423T183359
CREATED:20221221T153919Z
LAST-MODIFIED:20221221T153919Z
UID:2149-1680998400-1681084799@multi-faithcalendar.org
SUMMARY:Easter / Pascha (Christian Orthodox)
DESCRIPTION:On the Great and Holy Feast of Pascha\, Orthodox Christians celebrate the life-giving Resurrection of our Lord and Savior Jesus Christ. This feast of feasts is the most significant day in the life of the Church. It is a celebration of the defeat of death\, as neither death itself nor the power of the grave could hold our Savior captive. In this victory that came through the Cross\, Christ broke the bondage of sin\, and through faith offers us restoration\, transformation\, and eternal life. \nLearn more here.
URL:https://multi-faithcalendar.org/events/easter-pascha-christian-orthodox-2/
CATEGORIES:2023,April,Christian Orthodox
END:VEVENT
BEGIN:VEVENT
DTSTART;VALUE=DATE:20230407
DTEND;VALUE=DATE:20230408
DTSTAMP:20260423T183359
CREATED:20221221T153822Z
LAST-MODIFIED:20221221T153822Z
UID:2147-1680825600-1680911999@multi-faithcalendar.org
SUMMARY:Great and Holy Friday (Christian Orthodox)
DESCRIPTION:On Great and Holy Friday the Orthodox Church commemorates the death of Christ on the Cross. This is the culmination of the observance of His Passion by which our Lord suffered and died for our sins. This commemoration begins on Thursday evening with the Matins of Holy Friday and concludes with a Vespers on Friday afternoon that observes the unnailing of Christ from the Cross and the placement of His body in the tomb. \n\n\nMore information can be found here. \n\nThis is a day of fasting and abstinence for most over the age of 14.
URL:https://multi-faithcalendar.org/events/great-and-holy-friday-christian-orthodox/
CATEGORIES:2023,April,Christian Orthodox
END:VEVENT
BEGIN:VEVENT
DTSTART;VALUE=DATE:20230406
DTEND;VALUE=DATE:20230407
DTSTAMP:20260423T183359
CREATED:20221221T153731Z
LAST-MODIFIED:20221221T153731Z
UID:2145-1680739200-1680825599@multi-faithcalendar.org
SUMMARY:Holy Thursday (Christian Orthodox)
DESCRIPTION:On Thursday of Holy Week four events are commemorated: the washing of the disciples’ feet\, the institution of the Sacrament of the Holy Eucharist at the Last Supper\, the agony in the garden of Gethsemane\, and the betrayal of Christ by Judas. \nYou can learn more here.
URL:https://multi-faithcalendar.org/events/holy-thursday-christian-orthodox-2/
CATEGORIES:2023,April,Christian Orthodox
END:VEVENT
BEGIN:VEVENT
DTSTART;VALUE=DATE:20230107
DTEND;VALUE=DATE:20230108
DTSTAMP:20260423T183359
CREATED:20221120T120857Z
LAST-MODIFIED:20221120T120857Z
UID:2050-1673049600-1673135999@multi-faithcalendar.org
SUMMARY:Christmas (Christian Orthodox)
DESCRIPTION:This holiday celebrates the birth of Jesus Christ\, who Christians believe is the Son of God\, the Messiah\, and Savior of the world. \nThis celebration corresponds to December 25th in the Julian calendar\, which is thirteen days behind the Gregorian calendar used by other Christian and Catholic communities. \nMore Information
URL:https://multi-faithcalendar.org/events/christmas-christian-orthodox-4/
CATEGORIES:2023,Christian Orthodox
END:VEVENT
BEGIN:VEVENT
DTSTART;TZID=America/New_York:20220914T080000
DTEND;TZID=America/New_York:20220914T170000
DTSTAMP:20260423T183359
CREATED:20211114T160346Z
LAST-MODIFIED:20211114T160346Z
UID:1844-1663142400-1663174800@multi-faithcalendar.org
SUMMARY:Exaltation of the Holy Cross (Orthodox Christianity)
DESCRIPTION:The Feast of the Universal Exaltation of the Precious and Life-Giving Cross is celebrated each year on September 14. The Feast commemorates the finding of the True Cross of our Lord and Savior Jesus Christ by Saint Helen\, the mother of the Emperor Constantine. \nYou can learn more about this celebration here.
URL:https://multi-faithcalendar.org/events/exaltation-of-the-holy-cross-orthodox-christianity/
CATEGORIES:2022,Christian Orthodox
END:VEVENT
BEGIN:VEVENT
DTSTART;VALUE=DATE:20220612
DTEND;VALUE=DATE:20220613
DTSTAMP:20260423T183359
CREATED:20211114T155812Z
LAST-MODIFIED:20211114T155822Z
UID:1841-1654992000-1655078399@multi-faithcalendar.org
SUMMARY:Pentecost (Orthodox Christianity)
DESCRIPTION:Pentecost is known by Christians as the birthday of their church community. The word Pentecost is Greek for “50th day.” It is celebrated fifty days after Easter Sunday\, to commemorate when the Holy Spirit came upon the Apostles and their followers\, inspiring them to begin their Earthly ministry to make disciples of all nations. Orthodox Christianity\, which follows the Julian Calendar\, celebrates this feast today. \nYou can learn more about this here.
URL:https://multi-faithcalendar.org/events/pentecost-orthodox-christians/
CATEGORIES:2022,Christian Orthodox
END:VEVENT
BEGIN:VEVENT
DTSTART;VALUE=DATE:20220424
DTEND;VALUE=DATE:20220425
DTSTAMP:20260423T183359
CREATED:20211113T201535Z
LAST-MODIFIED:20211113T201535Z
UID:1837-1650758400-1650844799@multi-faithcalendar.org
SUMMARY:Easter / Pascha (Christian Orthodox)
DESCRIPTION:On the Great and Holy Feast of Pascha\, Orthodox Christians celebrate the life-giving Resurrection of our Lord and Savior Jesus Christ. This feast of feasts is the most significant day in the life of the Church. It is a celebration of the defeat of death\, as neither death itself nor the power of the grave could hold our Savior captive. In this victory that came through the Cross\, Christ broke the bondage of sin\, and through faith offers us restoration\, transformation\, and eternal life. \nLearn more here.
URL:https://multi-faithcalendar.org/events/easter-pascha-christian-orthodox/
CATEGORIES:2022,April,Christian Orthodox
END:VEVENT
BEGIN:VEVENT
DTSTART;VALUE=DATE:20220422
DTEND;VALUE=DATE:20220423
DTSTAMP:20260423T183359
CREATED:20211113T200529Z
LAST-MODIFIED:20211113T201025Z
UID:1832-1650585600-1650671999@multi-faithcalendar.org
SUMMARY:Great and Holy Friday (Christian Orthodox)
DESCRIPTION:On Great and Holy Friday the Orthodox Church commemorates the death of Christ on the Cross. This is the culmination of the observance of His Passion by which our Lord suffered and died for our sins. This commemoration begins on Thursday evening with the Matins of Holy Friday and concludes with a Vespers on Friday afternoon that observes the unnailing of Christ from the Cross and the placement of His body in the tomb. \n\n\nMore information can be found here. \n\nThis is a day of fasting and abstinence for most over the age of 14.
URL:https://multi-faithcalendar.org/events/good-friday-christian-orthodox/
CATEGORIES:2022,April,Christian Orthodox
END:VEVENT
BEGIN:VEVENT
DTSTART;VALUE=DATE:20220421
DTEND;VALUE=DATE:20220422
DTSTAMP:20260423T183359
CREATED:20211113T200406Z
LAST-MODIFIED:20211113T201223Z
UID:1830-1650499200-1650585599@multi-faithcalendar.org
SUMMARY:Holy Thursday (Christian Orthodox)
DESCRIPTION:On Thursday of Holy Week four events are commemorated: the washing of the disciples’ feet\, the institution of the Sacrament of the Holy Eucharist at the Last Supper\, the agony in the garden of Gethsemane\, and the betrayal of Christ by Judas. \nYou can learn more here.
URL:https://multi-faithcalendar.org/events/holy-thursday-christian-orthodox/
CATEGORIES:2022,April,Christian Orthodox
END:VEVENT
BEGIN:VEVENT
DTSTART;VALUE=DATE:20220107
DTEND;VALUE=DATE:20220108
DTSTAMP:20260423T183359
CREATED:20211116T201859Z
LAST-MODIFIED:20211116T201859Z
UID:1861-1641513600-1641599999@multi-faithcalendar.org
SUMMARY:Christmas (Christian Orthodox)
DESCRIPTION:This holiday celebrates the birth of Jesus Christ\, who Christians believe is the Son of God\, the Messiah\, and Savior of the world. \nThis celebration corresponds to December 25th in the Julian calendar\, which is thirteen days behind the Gregorian calendar used by other Christian and Catholic communities. \nMore Information
URL:https://multi-faithcalendar.org/events/christmas-christian-orthodox-3/
CATEGORIES:2022,Christian Orthodox
END:VEVENT
BEGIN:VEVENT
DTSTART;VALUE=DATE:20210107
DTEND;VALUE=DATE:20210108
DTSTAMP:20260423T183359
CREATED:20201217T172904Z
LAST-MODIFIED:20210103T145626Z
UID:1084-1609977600-1610063999@multi-faithcalendar.org
SUMMARY:Christmas (Christian Orthodox)
DESCRIPTION:This holiday celebrates the birth of Jesus Christ\, who Christians believe is the Son of God\, the Messiah\, and Savior of the world. \nThis celebration corresponds to December 25th in the Julian calendar\, which is thirteen days behind the Gregorian calendar used by other Christian and Catholic communities. \nMore Information \n  \n 
URL:https://multi-faithcalendar.org/events/christmas-christian-orthodox-2/
CATEGORIES:2021,Christian Orthodox
END:VEVENT
BEGIN:VEVENT
DTSTART;VALUE=DATE:20200107
DTEND;VALUE=DATE:20200108
DTSTAMP:20260423T183359
CREATED:20190724T121807Z
LAST-MODIFIED:20190724T121807Z
UID:178-1578355200-1578441599@multi-faithcalendar.org
SUMMARY:Christmas (Christian Orthodox)
DESCRIPTION:
URL:https://multi-faithcalendar.org/events/christmas-christian-orthodox/
CATEGORIES:2020,Christian Orthodox,January
END:VEVENT
BEGIN:VEVENT
DTSTART;VALUE=DATE:20191225
DTEND;VALUE=DATE:20191226
DTSTAMP:20260423T183359
CREATED:20190913T215631Z
LAST-MODIFIED:20190913T215631Z
UID:952-1577232000-1577318399@multi-faithcalendar.org
SUMMARY:Christmas (Christian)
DESCRIPTION:Birth of Jesus Christ.  Christians believe that He is the Son of God\, the Messiah\, and Savior of the world. \nMore Information \nHoliday Greeting: Merry Christmas
URL:https://multi-faithcalendar.org/events/christmas-christian-2/
CATEGORIES:Catholic,Christian,Christian Orthodox,December
END:VEVENT
BEGIN:VEVENT
DTSTART;VALUE=DATE:20191201
DTEND;VALUE=DATE:20191225
DTSTAMP:20260423T183359
CREATED:20190913T222113Z
LAST-MODIFIED:20190913T222113Z
UID:966-1575158400-1577231999@multi-faithcalendar.org
SUMMARY:Advent (Christian)
DESCRIPTION:For Catholics\, the new Liturgical Year commences with the first Sunday of Advent.  In this new liturgical year\, the Church not only wishes to indicate the beginning of a period\, but the beginning of a renweed commitment to the faith by all those who follow Christ\, the Lord.  Advent is the period of four Sundays and weeks before Christmas.  Advent means ‘Coming’ in Latin.  This is the coming of Jesus into the world. \nMore Information
URL:https://multi-faithcalendar.org/events/advent-christian/
CATEGORIES:Catholic,Christian,Christian Orthodox,December,Hispanic
END:VEVENT
END:VCALENDAR