BEGIN:VCALENDAR
VERSION:2.0
PRODID:-//Cincy MultiFaith Calendar - ECPv6.15.1.1//NONSGML v1.0//EN
CALSCALE:GREGORIAN
METHOD:PUBLISH
X-WR-CALNAME:Cincy MultiFaith Calendar
X-ORIGINAL-URL:https://multi-faithcalendar.org
X-WR-CALDESC:Events for Cincy MultiFaith Calendar
REFRESH-INTERVAL;VALUE=DURATION:PT1H
X-Robots-Tag:noindex
X-PUBLISHED-TTL:PT1H
BEGIN:VTIMEZONE
TZID:America/New_York
BEGIN:DAYLIGHT
TZOFFSETFROM:-0500
TZOFFSETTO:-0400
TZNAME:EDT
DTSTART:20260308T070000
END:DAYLIGHT
BEGIN:STANDARD
TZOFFSETFROM:-0400
TZOFFSETTO:-0500
TZNAME:EST
DTSTART:20261101T060000
END:STANDARD
END:VTIMEZONE
BEGIN:VEVENT
DTSTART;VALUE=DATE:20260318
DTEND;VALUE=DATE:20260319
DTSTAMP:20260425T100832
CREATED:20251030T235040Z
LAST-MODIFIED:20251030T235040Z
UID:3074-1773792000-1773878399@multi-faithcalendar.org
SUMMARY:Ash Wednesday (Catholic/ Christian Protestant / Hispanic)
DESCRIPTION:Ash Wednesday is the beginning of the 40-day season of Lent\, when Christians prepare spiritually for the celebration of Easter. On this day\, Catholics and some Protestant denominations will attend a special prayer service\, where they will have ashes applied to their foreheads in the shape of a cross. This cross of ashes symbolizes penance\, mourning and mortality. \nThis is a day of fasting and abstinence from meat for Catholics over the age of 14. \nMore information from the Christian Methodist Episcopal Church can be found here. \nMore information from the Catholic Church can be found here.
URL:https://multi-faithcalendar.org/events/ash-wednesday-catholic-christian-protestant-hispanic-5/
CATEGORIES:2026,Catholic,Christian,Hispanic
END:VEVENT
BEGIN:VEVENT
DTSTART;VALUE=DATE:20260329
DTEND;VALUE=DATE:20260330
DTSTAMP:20260425T100832
CREATED:20251104T233609Z
LAST-MODIFIED:20251104T233609Z
UID:3108-1774742400-1774828799@multi-faithcalendar.org
SUMMARY:Palm Sunday (Christian Protestant/ Catholic/ Hispanic/ The Church of Jesus Christ of Latter-Day Saints)
DESCRIPTION:Palm Sunday is the final Sunday of Lent\, the beginning of Holy Week\, and commemorates the triumphant arrival of Christ in Jerusalem\, days before he was crucified. In the Gospels\, Jesus entered Jerusalem riding a young donkey\, and to the lavish praise of the townspeople who threw clothes\, or possibly palms or small branches\, in front of him as a sign of homage. This was a customary practice for people of great respect. \nMore Information:\nPalms for the Lord – from The Church of Jesus Christ of Latter-Day Saints \nFrom the Christian Methodist Episcopal Church
URL:https://multi-faithcalendar.org/events/palm-sunday-christian-protestant-catholic-hispanic-the-church-of-jesus-christ-of-latter-day-saints-4/
CATEGORIES:2026,Catholic,Christian,Christian Protestant,Hispanic,The Church of Jesus Christ of Latter-day Saints
END:VEVENT
BEGIN:VEVENT
DTSTART;VALUE=DATE:20260402
DTEND;VALUE=DATE:20260403
DTSTAMP:20260425T100832
CREATED:20251104T234223Z
LAST-MODIFIED:20251104T234223Z
UID:3112-1775088000-1775174399@multi-faithcalendar.org
SUMMARY:Holy Thursday (Catholic/ Christian Protestant/ The Church of Jesus Christ of Latter-day Saints)
DESCRIPTION:Holy Thursday is the commemoration of the Last Supper of Jesus Christ\, when\, prior to his arrest and crucifixion\, he established the practice of communion\, which is considered a sacrament among most Christian communities. Later that evening\, he prays in the Garden of Gethsemane.\nMore information from the Catholic Church\nMore information from The Church of Jesus Christ of Latter-day Saints\nMore information from the Christian Methodist Episcopal Church\n 
URL:https://multi-faithcalendar.org/events/holy-thursday-catholic-christian-protestant-the-church-of-jesus-christ-of-latter-day-saints-4/
CATEGORIES:2026,Catholic,Christian,Christian Protestant,Hispanic,The Church of Jesus Christ of Latter-day Saints
END:VEVENT
BEGIN:VEVENT
DTSTART;VALUE=DATE:20260403
DTEND;VALUE=DATE:20260404
DTSTAMP:20260425T100832
CREATED:20251104T234611Z
LAST-MODIFIED:20251104T234611Z
UID:3116-1775174400-1775260799@multi-faithcalendar.org
SUMMARY:Good Friday (Christian Protestant/ Catholic/ The Church of Jesus Christ of Latter-day Saints)
DESCRIPTION:Good Friday is the day on which Christians commemorate the crucifixion and death of Jesus Christ.\n\nMore information from The Church of Jesus Christ of Latter-day Saints\nMore information from the Catholic Church\nMore information from the Christian Methodist Episcopal Church\n\nThis is a day of fasting and abstinence from meat for Catholics over the age of 14.
URL:https://multi-faithcalendar.org/events/good-friday-christian-protestant-catholic-the-church-of-jesus-christ-of-latter-day-saints-4/
CATEGORIES:2026,Catholic,Christian,Christian Protestant,The Church of Jesus Christ of Latter-day Saints
END:VEVENT
BEGIN:VEVENT
DTSTART;VALUE=DATE:20260404
DTEND;VALUE=DATE:20260405
DTSTAMP:20260425T100832
CREATED:20251104T235017Z
LAST-MODIFIED:20251104T235017Z
UID:3122-1775260800-1775347199@multi-faithcalendar.org
SUMMARY:Holy Saturday/The Great Vigil of Easter (Catholic/ Protestant/ Episcopal)
DESCRIPTION:On this most holy night\, in which our Lord Jesus passed over from death to life\, the Church invites her members\, dispersed throughout the world\, to gather in vigil and prayer. For this is the Passover of the Lord\, in which\, by hearing God’s Word and celebrating the Sacraments\, we share in Christ’s victory over death. (From the Episcopal Book of Common Prayer)
URL:https://multi-faithcalendar.org/events/holy-saturday-the-great-vigil-of-easter-catholic-protestant-episcopal-3/
CATEGORIES:2026,Catholic,Christian,Episcopal
END:VEVENT
BEGIN:VEVENT
DTSTART;VALUE=DATE:20260405
DTEND;VALUE=DATE:20260406
DTSTAMP:20260425T100832
CREATED:20251104T235724Z
LAST-MODIFIED:20251104T235724Z
UID:3128-1775347200-1775433599@multi-faithcalendar.org
SUMMARY:Easter Sunday (Catholic / Christian Protestant/ The Church of Jesus Christ of Latter-Day Saints)
DESCRIPTION:A festival and holiday celebrating the resurrection of Jesus Christ from the dead.  After He died on the cross\, his body was placed in a tomb\, where it remained for three days\, separated from His spirit\, until on Sunday\, when he was resurrected. It is the most important day of the Christian calendar. \nMore information from The Church of Jesus Christ of Latter-day Saints\nMore information from the Catholic Church\nMore information from the Christian Methodist Episcopal Church\nHoliday Greeting: Happy Easter!
URL:https://multi-faithcalendar.org/events/easter-sunday-catholic-christian-protestant-the-church-of-jesus-christ-of-latter-day-saints-4/
CATEGORIES:2026,Catholic,Christian,Christian Protestant,Hispanic,The Church of Jesus Christ of Latter-day Saints
END:VEVENT
BEGIN:VEVENT
DTSTART;VALUE=DATE:20260524
DTEND;VALUE=DATE:20260525
DTSTAMP:20260425T100832
CREATED:20251128T235246Z
LAST-MODIFIED:20251128T235246Z
UID:3176-1779580800-1779667199@multi-faithcalendar.org
SUMMARY:Pentecost Sunday (Catholic / Christian Protestant/ Episcopal)
DESCRIPTION:Pentecost is known by Christians as the birthday of their church community. The word Pentecost is Greek for “50th day.” It is celebrated fifty days after Easter Sunday\, to commemorate when the Holy Spirit came upon the Apostles and their followers\, inspiring them to begin their Earthly ministry to make disciples of all nations. \nMore Information from the Catholic Church \nMore information from the Christian Methodist Episcopal Church
URL:https://multi-faithcalendar.org/events/pentecost-sunday-catholic-christian-protestant-episcopal-2/
CATEGORIES:2026,Catholic,Christian,Christian Protestant,Episcopal,Hispanic,May
END:VEVENT
BEGIN:VEVENT
DTSTART;VALUE=DATE:20261129
DTEND;VALUE=DATE:20261130
DTSTAMP:20260425T100832
CREATED:20251203T002410Z
LAST-MODIFIED:20251203T002410Z
UID:3312-1795910400-1795996799@multi-faithcalendar.org
SUMMARY:First Sunday of Advent (Catholic / Christian Protestant)
DESCRIPTION:For Catholics\, the new Liturgical Year commences with the first Sunday of Advent.  In this new liturgical year\, the Church not only wishes to indicate the beginning of a year\, but the beginning of a renewed commitment to the faith by all those who follow Christ\, the Lord.  Advent is the period of four Sundays and weeks before Christmas.  Advent means ‘Coming’ in Latin.  This is the coming of Jesus into the world. \nMore Information from the Catholic Church \nMore information from the Christian Methodist Episcopal Church \nMany christians celebrate the Advent season with special hymns and prayers.  Some also create\, at home or church\, wreaths of evergreens with four candles\, one for each week of the season.  A new candle is lit each week\, symbolizing the approaching light of Jesus\, who came into the world at Christmas.
URL:https://multi-faithcalendar.org/events/first-sunday-of-advent-catholic-christian-protestant-5/
CATEGORIES:2026,Catholic,Christian,Christian Protestant,Hispanic,November
END:VEVENT
BEGIN:VEVENT
DTSTART;VALUE=DATE:20261225
DTEND;VALUE=DATE:20261226
DTSTAMP:20260425T100832
CREATED:20251203T003233Z
LAST-MODIFIED:20251203T003233Z
UID:3330-1798156800-1798243199@multi-faithcalendar.org
SUMMARY:Christmas (Christian Protestant/ Catholic/ The Church of Jesus Christ of Latter-day Saints/ Hispanic)
DESCRIPTION:Christmas is the holiday during which Christians celebrate the birth of Jesus\, who they believe is the Son of God and Mary. The Christmas season is a time to reflect and act upon the blessings and opportunities Christians have received through the birth\, life\, death\, and resurrection of  Jesus Christ. It is written in Christian scripture that God “so loved the world\, that he gave his only begotten Son” (Holy Bible\, Book of John\, Chapter 3\, verse 16)\, and so Christians express their love toward one another and toward God and His precious Son by giving to others.  \n\n\nMore Information from The Church of Jesus Christ of Latter-day Saints\nMore information from the Christian Methodist Episcopal Church\nHoliday Greeting: Merry Christmas \nCelebration: Christians often celebrate this holiday by attending a prayer service at church\, singing hymns\, and exchanging gifts. 
URL:https://multi-faithcalendar.org/events/christmas-christian-protestant-catholic-the-church-of-jesus-christ-of-latter-day-saints-hispanic-5/
CATEGORIES:2026,Catholic,Christian,Christian Protestant,Hispanic,The Church of Jesus Christ of Latter-day Saints
END:VEVENT
END:VCALENDAR