BEGIN:VCALENDAR
VERSION:2.0
PRODID:-//Cincy MultiFaith Calendar - ECPv6.15.1.1//NONSGML v1.0//EN
CALSCALE:GREGORIAN
METHOD:PUBLISH
X-ORIGINAL-URL:https://multi-faithcalendar.org
X-WR-CALDESC:Events for Cincy MultiFaith Calendar
REFRESH-INTERVAL;VALUE=DURATION:PT1H
X-Robots-Tag:noindex
X-PUBLISHED-TTL:PT1H
BEGIN:VTIMEZONE
TZID:America/New_York
BEGIN:DAYLIGHT
TZOFFSETFROM:-0500
TZOFFSETTO:-0400
TZNAME:EDT
DTSTART:20260308T070000
END:DAYLIGHT
BEGIN:STANDARD
TZOFFSETFROM:-0400
TZOFFSETTO:-0500
TZNAME:EST
DTSTART:20261101T060000
END:STANDARD
END:VTIMEZONE
BEGIN:VEVENT
DTSTART;VALUE=DATE:20260302
DTEND;VALUE=DATE:20260303
DTSTAMP:20260425T100542
CREATED:20251030T235222Z
LAST-MODIFIED:20251030T235222Z
UID:3078-1772409600-1772495999@multi-faithcalendar.org
SUMMARY:Holi (Hindu)
DESCRIPTION:This is the “festival of colors” or the “festival of love.” Holi signifies the victory of good over evil and the arrival of spring. It is also celebrated as a thanksgiving for a good harvest. People celebrate this day by meeting together and tossing colored powders or colored water on each other. \nMore information can be found here.
URL:https://multi-faithcalendar.org/events/holi-hindu-6/
CATEGORIES:2026,Hindu,March
END:VEVENT
END:VCALENDAR