BEGIN:VCALENDAR
VERSION:2.0
PRODID:-//Cincy MultiFaith Calendar - ECPv6.15.1.1//NONSGML v1.0//EN
CALSCALE:GREGORIAN
METHOD:PUBLISH
X-WR-CALNAME:Cincy MultiFaith Calendar
X-ORIGINAL-URL:https://multi-faithcalendar.org
X-WR-CALDESC:Events for Cincy MultiFaith Calendar
REFRESH-INTERVAL;VALUE=DURATION:PT1H
X-Robots-Tag:noindex
X-PUBLISHED-TTL:PT1H
BEGIN:VTIMEZONE
TZID:America/New_York
BEGIN:DAYLIGHT
TZOFFSETFROM:-0500
TZOFFSETTO:-0400
TZNAME:EDT
DTSTART:20260308T070000
END:DAYLIGHT
BEGIN:STANDARD
TZOFFSETFROM:-0400
TZOFFSETTO:-0500
TZNAME:EST
DTSTART:20261101T060000
END:STANDARD
END:VTIMEZONE
BEGIN:VEVENT
DTSTART;VALUE=DATE:20260414
DTEND;VALUE=DATE:20260415
DTSTAMP:20260425T084442
CREATED:20251104T234012Z
LAST-MODIFIED:20251104T234012Z
UID:3110-1776124800-1776211199@multi-faithcalendar.org
SUMMARY:Puthandu (Hindu)
DESCRIPTION:Today is Puthandu (also called Puthuvarudam or Tamil New Year). Many Hindus consider today the solar new year and mark the occasion  by thanking God/Universe for another new year and new beginnings. \nTraditional celebrations include an elaborate feast with 6 different tastes – sweet\, sour\, spice (hot)\, salt\, bitter and ‘thuvarpu’ (like Umami). This is to symbolize that our life is filled with different experiences and emotions and remember to embrace and enjoy them all. Celebrants will typically make one dish with all of these tastes in it. The recipe is all about balancing each of the ingredients\, like the recipe to a balanced life. \nYou can learn more about this holiday here. \nTraditional Tamil greetings include: “Puthāaṇdu vāazhthugal!” or “Iṉiya puthaandu nalvāazhthugal!”\, which is equivalent to “Happy new year”.
URL:https://multi-faithcalendar.org/events/puthandu-hindu-5/
CATEGORIES:2026,April,Hindu
END:VEVENT
END:VCALENDAR