BEGIN:VCALENDAR
VERSION:2.0
PRODID:-//Cincy MultiFaith Calendar - ECPv6.15.1.1//NONSGML v1.0//EN
CALSCALE:GREGORIAN
METHOD:PUBLISH
X-ORIGINAL-URL:https://multi-faithcalendar.org
X-WR-CALDESC:Events for Cincy MultiFaith Calendar
REFRESH-INTERVAL;VALUE=DURATION:PT1H
X-Robots-Tag:noindex
X-PUBLISHED-TTL:PT1H
BEGIN:VTIMEZONE
TZID:America/New_York
BEGIN:DAYLIGHT
TZOFFSETFROM:-0500
TZOFFSETTO:-0400
TZNAME:EDT
DTSTART:20190310T070000
END:DAYLIGHT
BEGIN:STANDARD
TZOFFSETFROM:-0400
TZOFFSETTO:-0500
TZNAME:EST
DTSTART:20191103T060000
END:STANDARD
BEGIN:DAYLIGHT
TZOFFSETFROM:-0500
TZOFFSETTO:-0400
TZNAME:EDT
DTSTART:20200308T070000
END:DAYLIGHT
BEGIN:STANDARD
TZOFFSETFROM:-0400
TZOFFSETTO:-0500
TZNAME:EST
DTSTART:20201101T060000
END:STANDARD
END:VTIMEZONE
BEGIN:VEVENT
DTSTART;VALUE=DATE:20200106
DTEND;VALUE=DATE:20200107
DTSTAMP:20260424T093548
CREATED:20190724T121557Z
LAST-MODIFIED:20190914T122052Z
UID:174-1578268800-1578355199@multi-faithcalendar.org
SUMMARY:Three Kings (Hispanic)
DESCRIPTION:The Feast of Reyes (Fiesta de Reyes or Los Reyes) is celebrated in Spain/Portugal and Latin America on January 6th. The feast celebrates the passage in the Bible in which the Three Wise Men safely arrive to Jerusalem thanks to the guidance of the Star and bring gifts to Jesus. The level of celebration varies from a family gathering to a huge city wide and very anticipated parade depending on the culture/country. For example\, both Spain and Puerto Rico celebrate with large parades\, and many argue that Reyes is more festive/a larger celebration than Christmas. Despite the differences in the level of “Community Celebration”\, all cultures/countries share some traditions around this feast: 1. Family gathering the night before and/or the day of Reyes. 2. Eating the Rosca/Roscon de Reyes\, a sweet bread in the shape of a large oval “doughnut” with dried fruit on top. This is a very time consuming sweet to make. Inside the bread there is one (or more than one depending on the size of the Rosca) figurine of “Baby Jesus”. Based on each family’s traditions (mostly guided by the cultural traditions of the country of origin) the person that receives the piece of bread with the figurine will be responsible for hosting the party the next year\, bringing tamales for the feast of Candelaria/Candlemas Day (Mexican Tradition)\, or doing/not doing the dishes\, first one to other presents\, etc. 3. All kids (and grown up kids) leave their shoes by the window the night before Reyes (Jan 5th) or under the Christmas Tree so the Reyes (Kings) can fill them with gifts during the night. Usually\, kids select their favorite shoes\, “Church” shoes or the shoes that better represent them (soccer shoes\, dance shoes\, flip-flops\, etc). 4. Kids also leave water outside their home for the camels to drink. (The Three Wise Men travel on camels). It is important also to mention that this feast brings much attention to the idea of the star that guided the Three Wise Men to Jesus and how we should always follow God’s light and path and trust that we will be safe. \nMore Information
URL:https://multi-faithcalendar.org/events/three-kings-hispanic/
CATEGORIES:2020,Hispanic,January
END:VEVENT
BEGIN:VEVENT
DTSTART;VALUE=DATE:20191212
DTEND;VALUE=DATE:20191213
DTSTAMP:20260424T093548
CREATED:20190913T220736Z
LAST-MODIFIED:20190913T220736Z
UID:959-1576108800-1576195199@multi-faithcalendar.org
SUMMARY:Our Lady of Guadalupe (Catholic)
DESCRIPTION:A popular Catholic feast that celebrates the belief that a man\, Juan Diego\, encountered the Virgin Mary\, Mexico’s patron saint\, in Mexico City on December 9 and 12\, 1531. \nMore Information
URL:https://multi-faithcalendar.org/events/our-lady-of-guadalupe-catholic-2/
CATEGORIES:Catholic,December,Hispanic
END:VEVENT
BEGIN:VEVENT
DTSTART;VALUE=DATE:20191208
DTEND;VALUE=DATE:20191209
DTSTAMP:20260424T093548
CREATED:20190913T221409Z
LAST-MODIFIED:20190913T221409Z
UID:963-1575763200-1575849599@multi-faithcalendar.org
SUMMARY:Immaculate Conception of the Blessed Virgin Mary (Catholic)
DESCRIPTION:Immaculate means without stain. Mary was conceived without original sin or its stain. \nMore Information
URL:https://multi-faithcalendar.org/events/immaculate-conception-of-the-blessed-virgin-mary-catholic-2/
CATEGORIES:Catholic,December,Hispanic
END:VEVENT
BEGIN:VEVENT
DTSTART;VALUE=DATE:20191201
DTEND;VALUE=DATE:20191225
DTSTAMP:20260424T093548
CREATED:20190913T222113Z
LAST-MODIFIED:20190913T222113Z
UID:966-1575158400-1577231999@multi-faithcalendar.org
SUMMARY:Advent (Christian)
DESCRIPTION:For Catholics\, the new Liturgical Year commences with the first Sunday of Advent.  In this new liturgical year\, the Church not only wishes to indicate the beginning of a period\, but the beginning of a renweed commitment to the faith by all those who follow Christ\, the Lord.  Advent is the period of four Sundays and weeks before Christmas.  Advent means ‘Coming’ in Latin.  This is the coming of Jesus into the world. \nMore Information
URL:https://multi-faithcalendar.org/events/advent-christian/
CATEGORIES:Catholic,Christian,Christian Orthodox,December,Hispanic
END:VEVENT
END:VCALENDAR