BEGIN:VCALENDAR
VERSION:2.0
PRODID:-//Cincy MultiFaith Calendar - ECPv6.15.1.1//NONSGML v1.0//EN
CALSCALE:GREGORIAN
METHOD:PUBLISH
X-ORIGINAL-URL:https://multi-faithcalendar.org
X-WR-CALDESC:Events for Cincy MultiFaith Calendar
REFRESH-INTERVAL;VALUE=DURATION:PT1H
X-Robots-Tag:noindex
X-PUBLISHED-TTL:PT1H
BEGIN:VTIMEZONE
TZID:America/New_York
BEGIN:DAYLIGHT
TZOFFSETFROM:-0500
TZOFFSETTO:-0400
TZNAME:EDT
DTSTART:20260308T070000
END:DAYLIGHT
BEGIN:STANDARD
TZOFFSETFROM:-0400
TZOFFSETTO:-0500
TZNAME:EST
DTSTART:20261101T060000
END:STANDARD
END:VTIMEZONE
BEGIN:VEVENT
DTSTART;TZID=America/New_York:20260616T190000
DTEND;TZID=America/New_York:20260617T190000
DTSTAMP:20260423T171739
CREATED:20251129T000502Z
LAST-MODIFIED:20251129T000502Z
UID:3192-1781636400-1781722800@multi-faithcalendar.org
SUMMARY:The First of Muharram - Islamic New Year (Islam)
DESCRIPTION:The First of Muharram (the first month of the Hijrah Calendar) commemorates the migration of the prophet to Madina and the start of the new Islamic state.
URL:https://multi-faithcalendar.org/events/the-first-of-muharram-islamic-new-year-islam-5/
CATEGORIES:2026,Islam,June
END:VEVENT
END:VCALENDAR