BEGIN:VCALENDAR
VERSION:2.0
PRODID:-//Cincy MultiFaith Calendar - ECPv6.15.1.1//NONSGML v1.0//EN
CALSCALE:GREGORIAN
METHOD:PUBLISH
X-ORIGINAL-URL:https://multi-faithcalendar.org
X-WR-CALDESC:Events for Cincy MultiFaith Calendar
REFRESH-INTERVAL;VALUE=DURATION:PT1H
X-Robots-Tag:noindex
X-PUBLISHED-TTL:PT1H
BEGIN:VTIMEZONE
TZID:America/New_York
BEGIN:DAYLIGHT
TZOFFSETFROM:-0500
TZOFFSETTO:-0400
TZNAME:EDT
DTSTART:20220313T070000
END:DAYLIGHT
BEGIN:STANDARD
TZOFFSETFROM:-0400
TZOFFSETTO:-0500
TZNAME:EST
DTSTART:20221106T060000
END:STANDARD
END:VTIMEZONE
BEGIN:VEVENT
DTSTART;TZID=America/New_York:20220709T200000
DTEND;TZID=America/New_York:20220710T200000
DTSTAMP:20260423T185312
CREATED:20210111T181308Z
LAST-MODIFIED:20211114T164115Z
UID:1360-1657396800-1657483200@multi-faithcalendar.org
SUMMARY:Eid al-Adha (Islam)
DESCRIPTION:This holiday marks the completion of the Hajj or pilgrimage to Mecca and is observed by Muslims to commemorate the faith of Abraham. Students will miss school to attend congregational prayers at the mosque and celebrate the holiday with their families/friends. \nMore Information:\nEid al-Adha 101\nIslamic Networks Group \nHoliday Greeting: “Eid Mubarak! (Happy Eid)”
URL:https://multi-faithcalendar.org/events/eid-al-adha-islam/
CATEGORIES:2022,Islam
END:VEVENT
BEGIN:VEVENT
DTSTART;VALUE=DATE:20220502
DTEND;VALUE=DATE:20220506
DTSTAMP:20260423T185312
CREATED:20210111T181053Z
LAST-MODIFIED:20211113T202939Z
UID:1354-1651449600-1651795199@multi-faithcalendar.org
SUMMARY:Eid al-Fitr (Islam)
DESCRIPTION:This holiday marks the end of Ramadan\, the fasting month. It is a time of celebration and thankfulness of the self control practiced during the month. \nMore Information \nHoliday Greeting: “Eid Mubarak! (Happy Eid)” \nStudents will miss school to attend congregational prayers at the mosque and celebrate the holiday with their families/friends.
URL:https://multi-faithcalendar.org/events/eid-al-fitr-islam/
CATEGORIES:2022,Islam,May
END:VEVENT
BEGIN:VEVENT
DTSTART;VALUE=DATE:20220501
DTEND;VALUE=DATE:20220502
DTSTAMP:20260423T185312
CREATED:20210111T180914Z
LAST-MODIFIED:20211113T194308Z
UID:1351-1651363200-1651449599@multi-faithcalendar.org
SUMMARY:Ramadan Ends (Islam)
DESCRIPTION:This marks the the holy month where Muslims fast from sunrise to sunset for 30 days abstaining from food and drinks. \nMore Information \nHoliday Greeting: Ramadan Mubarak \nThere are evening prayers that some students may attend at the mosque during this month. Mostly middle and high school students will be fasting.
URL:https://multi-faithcalendar.org/events/ramadan-ends-islam/
CATEGORIES:2022,Islam
END:VEVENT
BEGIN:VEVENT
DTSTART;VALUE=DATE:20220402
DTEND;VALUE=DATE:20220403
DTSTAMP:20260423T185312
CREATED:20210111T180651Z
LAST-MODIFIED:20211113T194516Z
UID:1348-1648857600-1648943999@multi-faithcalendar.org
SUMMARY:Ramadan Begins (Islam)
DESCRIPTION:This marks the the holy month where Muslims fast from sunrise to sunset for 30 days abstaining from food and drinks. \nMore Information \nHoliday Greeting: Ramadan Mubarak \nThere are evening prayers that some students may attend at the mosque during this month. Mostly middle and high school students will be fasting.
URL:https://multi-faithcalendar.org/events/ramadan-islam/
CATEGORIES:2022,Islam
END:VEVENT
END:VCALENDAR