BEGIN:VCALENDAR
VERSION:2.0
PRODID:-//Cincy MultiFaith Calendar - ECPv6.15.1.1//NONSGML v1.0//EN
CALSCALE:GREGORIAN
METHOD:PUBLISH
X-ORIGINAL-URL:https://multi-faithcalendar.org
X-WR-CALDESC:Events for Cincy MultiFaith Calendar
REFRESH-INTERVAL;VALUE=DURATION:PT1H
X-Robots-Tag:noindex
X-PUBLISHED-TTL:PT1H
BEGIN:VTIMEZONE
TZID:America/New_York
BEGIN:DAYLIGHT
TZOFFSETFROM:-0500
TZOFFSETTO:-0400
TZNAME:EDT
DTSTART:20240310T070000
END:DAYLIGHT
BEGIN:STANDARD
TZOFFSETFROM:-0400
TZOFFSETTO:-0500
TZNAME:EST
DTSTART:20241103T060000
END:STANDARD
END:VTIMEZONE
BEGIN:VEVENT
DTSTART;TZID=America/New_York:20241002T180000
DTEND;TZID=America/New_York:20241002T235900
DTSTAMP:20260425T220957
CREATED:20231228T201432Z
LAST-MODIFIED:20231228T203222Z
UID:2576-1727892000-1727913540@multi-faithcalendar.org
SUMMARY:Erev (eve of) Rosh Hashanah (Jewish)
DESCRIPTION:This evening is the beginning of Rosh Hashanah\, the Jewish New Year. This holiday begins the period of the High Holy Days\, which are widely observed by Jews around the world. It is both a time of rejoicing and of serious introspection\, a time to celebrate the completion of another year while also taking stock of one’s life. Traditions include eating apples dipped in honey and blowing the shofar (ram’s horn).   Most Jews attend synagogue on these two days and the preceding evening. \nMore Information \nHoliday Greeting: Shana Tova (Happy New Year) – AND – Shana Tova U’Mtukah (Have a happy and sweet New Year) \nNo dietary restrictions\, but most students will miss school for this holiday. Commonly observed by synagogue attendance or family gatherings. Work is traditionally prohibited.
URL:https://multi-faithcalendar.org/events/erev-eve-of-rosh-hashanah-jewish-3/
CATEGORIES:2024,Jewish,September
END:VEVENT
BEGIN:VEVENT
DTSTART;VALUE=DATE:20241003
DTEND;VALUE=DATE:20241005
DTSTAMP:20260425T220957
CREATED:20231228T201518Z
LAST-MODIFIED:20231228T203116Z
UID:2578-1727913600-1728086399@multi-faithcalendar.org
SUMMARY:Rosh Hashanah (Jewish)
DESCRIPTION:Rosh Hashanah is the Jewish New Year. This holiday begins the period of the High Holy Days\, which are widely observed by Jews around the world. It is both a time of rejoicing and of serious introspection\, a time to celebrate the completion of another year while also taking stock of one’s life. Traditions include eating apples dipped in honey and blowing the shofar (ram’s horn).   Most Jews attend synagogue on these two days and the preceding evening. \nMore Information \nHoliday Greeting: Shana Tova (Happy New Year) – AND – Shana Tova U’Mtukah (Have a happy and sweet New Year) \nNo dietary restrictions\, but most students will miss school for this holiday. Commonly observed by synagogue attendance or family gatherings. Work is traditionally prohibited.
URL:https://multi-faithcalendar.org/events/rosh-hashanah-jewish-4/
CATEGORIES:2024,Jewish,September
END:VEVENT
BEGIN:VEVENT
DTSTART;VALUE=DATE:20241011
DTEND;VALUE=DATE:20241013
DTSTAMP:20260425T220957
CREATED:20231228T202548Z
LAST-MODIFIED:20231228T202548Z
UID:2586-1728604800-1728777599@multi-faithcalendar.org
SUMMARY:Yom Kippur (Jewish)
DESCRIPTION:Yom Kippur is the Day of Atonement. The focus of this holiday is on contemplation repentance. Jews are taught that sins between people can only be atoned for after personal reconciliation. It is considered to be the holiest and most solemn day of the year. Fasting begins at sundown and ends after nightfall the following day. Most Jews attend synagogue on this day and the preceding evening. This holiday closes out the period of the High Holy Days. \nMore Information \nHoliday Greeting: G’mar chatimah tovah (May you be sealed in the Book of Life) – AND – tzom kal (easy fast) \nCommonly observed by synagogue attendance or family gatherings. Individuals may be absent from school or work. Students will likely miss school for this holiday. Many who are 13 or older\, will also likely be fasting. Work is traditionally prohibited.
URL:https://multi-faithcalendar.org/events/yom-kippur-jewish-4/
CATEGORIES:2024,Jewish,September
END:VEVENT
BEGIN:VEVENT
DTSTART;VALUE=DATE:20241016
DTEND;VALUE=DATE:20241024
DTSTAMP:20260425T220957
CREATED:20231228T202807Z
LAST-MODIFIED:20231228T202807Z
UID:2590-1729036800-1729727999@multi-faithcalendar.org
SUMMARY:Sukkot (Jewish)
DESCRIPTION:Sukkot is a seven-day festival marking the fall harvest in ancient Israel. This holiday is also a time in which Jews commemorate forty years of wandering in the desert after the Exodus from Egypt. Celebrated by the building of a sukkah (or temporary dwelling) outdoors\, where families and friends spend time throughout the holiday. Work is traditionally prohibited on the first and second days. \nMore Information \nSome students may miss school\, the first and second day of the festival. Commonly observed by synagogue attendance or family gatherings. Work is traditionally prohibited.
URL:https://multi-faithcalendar.org/events/sukkot-jewish-4/
CATEGORIES:2024,Jewish,October
END:VEVENT
BEGIN:VEVENT
DTSTART;VALUE=DATE:20241023
DTEND;VALUE=DATE:20241026
DTSTAMP:20260425T220957
CREATED:20231228T203514Z
LAST-MODIFIED:20231228T203514Z
UID:2596-1729641600-1729900799@multi-faithcalendar.org
SUMMARY:Shemini Atzeret (Jewish)
DESCRIPTION:Coming at the conclusion of Sukkot are the two holidays of Shemini Atzeret and Simchat Torah . In Israel and among more liberal Jews they are combined into one holiday on the day after the conclusion of Sukkot . Among more traditional Jews outside of Israel\, they are observed separately from one another on two consecutive days. Shemini Atzeret means the “Eighth Day of Assembly\,” while Simchat Torah means “Rejoicing in Torah.”They mark the conclusion of the annual reading cycle of the Torah\, the Five Books of Moses that make up the Jewish Bible. Jews celebrate the Torah by dancing and singing\, followed by reading the last word of Deuteronomy and the first word of Genesis in one breath to represent the cyclical relationship between the Jewish People and Torah. \nMore Information \nThere are no special customs or greetings for Shemini Atzeret\, but there are additional prayers in the usual services on this day.
URL:https://multi-faithcalendar.org/events/shemini-atzeret-jewish-3/
CATEGORIES:2024,Jewish,September
END:VEVENT
BEGIN:VEVENT
DTSTART;VALUE=DATE:20241024
DTEND;VALUE=DATE:20241026
DTSTAMP:20260425T220957
CREATED:20231228T203614Z
LAST-MODIFIED:20231228T203614Z
UID:2598-1729728000-1729900799@multi-faithcalendar.org
SUMMARY:Simchat Torah (Jewish)
DESCRIPTION:Coming at the conclusion of Sukkot are the two holidays of Shemini Atzeret and Simchat Torah . In Israel and among more liberal Jews they are combined into one holiday on the day after the conclusion of Sukkot . Among more traditional Jews outside of Israel\, they are observed separately from one another on two consecutive days. Shemini Atzeret means the “Eighth Day of Assembly\,” while Simchat Torah means “Rejoicing in Torah.”They mark the conclusion of the annual reading cycle of the Torah\, the Five Books of Moses that make up the Jewish Bible. Jews celebrate the Torah by dancing and singing\, followed by reading the last word of Deuteronomy and the first word of Genesis in one breath to represent the cyclical relationship between the Jewish People and Torah. \nMore Information
URL:https://multi-faithcalendar.org/events/simchat-torah-jewish-3/
CATEGORIES:2024,Jewish,October
END:VEVENT
END:VCALENDAR