BEGIN:VCALENDAR
VERSION:2.0
PRODID:-//Cincy MultiFaith Calendar - ECPv6.15.1.1//NONSGML v1.0//EN
CALSCALE:GREGORIAN
METHOD:PUBLISH
X-ORIGINAL-URL:https://multi-faithcalendar.org
X-WR-CALDESC:Events for Cincy MultiFaith Calendar
REFRESH-INTERVAL;VALUE=DURATION:PT1H
X-Robots-Tag:noindex
X-PUBLISHED-TTL:PT1H
BEGIN:VTIMEZONE
TZID:America/New_York
BEGIN:DAYLIGHT
TZOFFSETFROM:-0500
TZOFFSETTO:-0400
TZNAME:EDT
DTSTART:20260308T070000
END:DAYLIGHT
BEGIN:STANDARD
TZOFFSETFROM:-0400
TZOFFSETTO:-0500
TZNAME:EST
DTSTART:20261101T060000
END:STANDARD
END:VTIMEZONE
BEGIN:VEVENT
DTSTART;VALUE=DATE:20260925
DTEND;VALUE=DATE:20261003
DTSTAMP:20260425T105539
CREATED:20251203T000029Z
LAST-MODIFIED:20251203T000029Z
UID:3272-1790294400-1790985599@multi-faithcalendar.org
SUMMARY:Sukkot (Jewish)
DESCRIPTION:Sukkot is a seven-day festival marking the fall harvest in ancient Israel. This holiday is also a time in which Jews commemorate forty years of wandering in the desert after the Exodus from Egypt. Celebrated by the building of a sukkah (or temporary dwelling) outdoors\, where families and friends spend time throughout the holiday. Work is traditionally prohibited on the first and second days. \nMore Information \nSome students may miss school\, the first and second day of the festival. Commonly observed by synagogue attendance or family gatherings. Work is traditionally prohibited.
URL:https://multi-faithcalendar.org/events/sukkot-jewish-6/
CATEGORIES:2026,Jewish,October,September
END:VEVENT
BEGIN:VEVENT
DTSTART;VALUE=DATE:20261002
DTEND;VALUE=DATE:20261005
DTSTAMP:20260425T105539
CREATED:20251203T000229Z
LAST-MODIFIED:20251203T000229Z
UID:3276-1790899200-1791158399@multi-faithcalendar.org
SUMMARY:Shemini Atzeret (Jewish)
DESCRIPTION:Coming at the conclusion of Sukkot are the two holidays of Shemini Atzeret and Simchat Torah . In Israel and among more liberal Jews they are combined into one holiday on the day after the conclusion of Sukkot . Among more traditional Jews outside of Israel\, they are observed separately from one another on two consecutive days. Shemini Atzeret means the “Eighth Day of Assembly\,” while Simchat Torah means “Rejoicing in Torah.”They mark the conclusion of the annual reading cycle of the Torah\, the Five Books of Moses that make up the Jewish Bible. Jews celebrate the Torah by dancing and singing\, followed by reading the last word of Deuteronomy and the first word of Genesis in one breath to represent the cyclical relationship between the Jewish People and Torah. \nMore Information \nThere are no special customs or greetings for Shemini Atzeret\, but there are additional prayers in the usual services on this day.
URL:https://multi-faithcalendar.org/events/shemini-atzeret-jewish-5/
CATEGORIES:2026,Jewish,September
END:VEVENT
BEGIN:VEVENT
DTSTART;TZID=America/New_York:20261003T190000
DTEND;TZID=America/New_York:20261004T190000
DTSTAMP:20260425T105539
CREATED:20251203T000437Z
LAST-MODIFIED:20251203T000437Z
UID:3280-1791054000-1791140400@multi-faithcalendar.org
SUMMARY:Simchat Torah (Jewish)
DESCRIPTION:Coming at the conclusion of Sukkot are the two holidays of Shemini Atzeret and Simchat Torah . In Israel and among more liberal Jews they are combined into one holiday on the day after the conclusion of Sukkot . Among more traditional Jews outside of Israel\, they are observed separately from one another on two consecutive days. Shemini Atzeret means the “Eighth Day of Assembly\,” while Simchat Torah means “Rejoicing in Torah.”They mark the conclusion of the annual reading cycle of the Torah\, the Five Books of Moses that make up the Jewish Bible. Jews celebrate the Torah by dancing and singing\, followed by reading the last word of Deuteronomy and the first word of Genesis in one breath to represent the cyclical relationship between the Jewish People and Torah. \nMore Information
URL:https://multi-faithcalendar.org/events/simchat-torah-jewish-5/
CATEGORIES:2026,Jewish,October
END:VEVENT
BEGIN:VEVENT
DTSTART;VALUE=DATE:20261204
DTEND;VALUE=DATE:20261213
DTSTAMP:20260425T105539
CREATED:20251030T220118Z
LAST-MODIFIED:20251030T220118Z
UID:3026-1796342400-1797119999@multi-faithcalendar.org
SUMMARY:Hanukkah (Jewish)
DESCRIPTION:Hanukkah\, also known as Hanukah\, Chanukah\, and Chanukkah can be spelled many different ways in English. It is an eight-day celebration known as the Festival of Lights marked by the lighting of candles using a special candle holder called a menorah or chanukiah. This holiday is where Jews celebrate their victory over a tyrant Greco-Syrian king and the rededication of the Temple in Jerusalem. As the story goes\, a small quantity of oil to light the Temple’s menorah miraculously lasted eight days. Traditions include a game involving spinning dreidels (tops)\, eating potato latkes (pancakes) and other oily foods\, and gift giving. \nMore Information \nHoliday Greeting: Happy Hanukkah! \nCommonly observed by synagogue attendance\, community or family gatherings.
URL:https://multi-faithcalendar.org/events/hanukkah-jewish-7/
CATEGORIES:2026,December,Jewish
END:VEVENT
BEGIN:VEVENT
DTSTART;VALUE=DATE:20261204
DTEND;VALUE=DATE:20261213
DTSTAMP:20260425T105539
CREATED:20251203T002855Z
LAST-MODIFIED:20251203T002855Z
UID:3322-1796342400-1797119999@multi-faithcalendar.org
SUMMARY:Hanukkah (Jewish)
DESCRIPTION:Hanukkah\, also known as Hanukah\, Chanukah\, and Chanukkah can be spelled many different ways in English. It is an eight-day celebration known as the Festival of Lights marked by the lighting of candles using a special candle holder called a menorah or chanukiah. This holiday is where Jews celebrate their victory over a tyrant Greco-Syrian king and the rededication of the Temple in Jerusalem. As the story goes\, a small quantity of oil to light the Temple’s menorah miraculously lasted eight days. Traditions include a game involving spinning dreidels (tops)\, eating potato latkes (pancakes) and other oily foods\, and gift giving. \nMore Information \nHoliday Greeting: Happy Hanukkah! \nCommonly observed by synagogue attendance\, community or family gatherings.
URL:https://multi-faithcalendar.org/events/hanukkah-jewish-8/
CATEGORIES:2026,December,Jewish
END:VEVENT
END:VCALENDAR