BEGIN:VCALENDAR
VERSION:2.0
PRODID:-//Cincy MultiFaith Calendar - ECPv6.15.1.1//NONSGML v1.0//EN
CALSCALE:GREGORIAN
METHOD:PUBLISH
X-ORIGINAL-URL:https://multi-faithcalendar.org
X-WR-CALDESC:Events for Cincy MultiFaith Calendar
REFRESH-INTERVAL;VALUE=DURATION:PT1H
X-Robots-Tag:noindex
X-PUBLISHED-TTL:PT1H
BEGIN:VTIMEZONE
TZID:America/New_York
BEGIN:DAYLIGHT
TZOFFSETFROM:-0500
TZOFFSETTO:-0400
TZNAME:EDT
DTSTART:20190310T070000
END:DAYLIGHT
BEGIN:STANDARD
TZOFFSETFROM:-0400
TZOFFSETTO:-0500
TZNAME:EST
DTSTART:20191103T060000
END:STANDARD
BEGIN:DAYLIGHT
TZOFFSETFROM:-0500
TZOFFSETTO:-0400
TZNAME:EDT
DTSTART:20200308T070000
END:DAYLIGHT
BEGIN:STANDARD
TZOFFSETFROM:-0400
TZOFFSETTO:-0500
TZNAME:EST
DTSTART:20201101T060000
END:STANDARD
BEGIN:DAYLIGHT
TZOFFSETFROM:-0500
TZOFFSETTO:-0400
TZNAME:EDT
DTSTART:20210314T070000
END:DAYLIGHT
BEGIN:STANDARD
TZOFFSETFROM:-0400
TZOFFSETTO:-0500
TZNAME:EST
DTSTART:20211107T060000
END:STANDARD
BEGIN:DAYLIGHT
TZOFFSETFROM:-0500
TZOFFSETTO:-0400
TZNAME:EDT
DTSTART:20220313T070000
END:DAYLIGHT
BEGIN:STANDARD
TZOFFSETFROM:-0400
TZOFFSETTO:-0500
TZNAME:EST
DTSTART:20221106T060000
END:STANDARD
BEGIN:DAYLIGHT
TZOFFSETFROM:-0500
TZOFFSETTO:-0400
TZNAME:EDT
DTSTART:20230312T070000
END:DAYLIGHT
BEGIN:STANDARD
TZOFFSETFROM:-0400
TZOFFSETTO:-0500
TZNAME:EST
DTSTART:20231105T060000
END:STANDARD
END:VTIMEZONE
BEGIN:VEVENT
DTSTART;VALUE=DATE:20230205
DTEND;VALUE=DATE:20230207
DTSTAMP:20260425T080405
CREATED:20221120T121838Z
LAST-MODIFIED:20221120T121838Z
UID:2056-1675555200-1675727999@multi-faithcalendar.org
SUMMARY:Tu B'Shvat (Jewish)
DESCRIPTION:New Year of the Trees. Originally celebrated as an agricultural festival marking the emergence of spring\, today celebrations focus on environmental awareness. Trees are often planted in honor or memory of loved ones. \nMore Information
URL:https://multi-faithcalendar.org/events/tu-bshvat-jewish-4/
CATEGORIES:2023,Jewish
END:VEVENT
BEGIN:VEVENT
DTSTART;VALUE=DATE:20221218
DTEND;VALUE=DATE:20221227
DTSTAMP:20260425T080405
CREATED:20211205T150743Z
LAST-MODIFIED:20211205T150743Z
UID:1941-1671321600-1672099199@multi-faithcalendar.org
SUMMARY:Hanukkah (Jewish)
DESCRIPTION:Hanukkah\, also known as Hanukah\, Chanukah\, and Chanukkah can be spelled many different ways in English. It is an eight-day celebration known as the Festival of Lights marked by the lighting of candles using a special candle holder called a menorah or chanukiah. This holiday is where Jews celebrate their victory over a tyrant Greco-Syrian king and the rededication of the Temple in Jerusalem. As the story goes\, a small quantity of oil to light the Temple’s menorah miraculously lasted eight days. Traditions include a game involving spinning dreidels (tops)\, eating potato latkes (pancakes) and other oily foods\, and gift giving. \nMore Information \nHoliday Greeting: Happy Hanukkah! \nCommonly observed by synagogue attendance\, community or family gatherings.
URL:https://multi-faithcalendar.org/events/hanukkah-jewish-3/
CATEGORIES:2022,December,Jewish
END:VEVENT
BEGIN:VEVENT
DTSTART;TZID=America/New_York:20221017T180000
DTEND;TZID=America/New_York:20221018T180000
DTSTAMP:20260425T080405
CREATED:20190724T143124Z
LAST-MODIFIED:20211114T175547Z
UID:344-1666029600-1666116000@multi-faithcalendar.org
SUMMARY:Simchat Torah (Jewish)
DESCRIPTION:Coming at the conclusion of Sukkot are the two holidays of Shemini Atzeret and Simchat Torah . In Israel and among more liberal Jews they are combined into one holiday on the day after the conclusion of Sukkot . Among more traditional Jews outside of Israel\, they are observed separately from one another on two consecutive days. Shemini Atzeret means the “Eighth Day of Assembly\,” while Simchat Torah means “Rejoicing in Torah.”They mark the conclusion of the annual reading cycle of the Torah\, the Five Books of Moses that make up the Jewish Bible. Jews celebrate the Torah by dancing and singing\, followed by reading the last word of Deuteronomy and the first word of Genesis in one breath to represent the cyclical relationship between the Jewish People and Torah. \nMore Information
URL:https://multi-faithcalendar.org/events/simchat-torah-shemini-jewish/
CATEGORIES:2022,Jewish,October
END:VEVENT
BEGIN:VEVENT
DTSTART;TZID=America/New_York:20221016T180000
DTEND;TZID=America/New_York:20221017T180000
DTSTAMP:20260425T080405
CREATED:20210106T201355Z
LAST-MODIFIED:20211114T175444Z
UID:1259-1665943200-1666029600@multi-faithcalendar.org
SUMMARY:Shemini Atzeret (Jewish)
DESCRIPTION:Coming at the conclusion of Sukkot are the two holidays of Shemini Atzeret and Simchat Torah . In Israel and among more liberal Jews they are combined into one holiday on the day after the conclusion of Sukkot . Among more traditional Jews outside of Israel\, they are observed separately from one another on two consecutive days. Shemini Atzeret means the “Eighth Day of Assembly\,” while Simchat Torah means “Rejoicing in Torah.”They mark the conclusion of the annual reading cycle of the Torah\, the Five Books of Moses that make up the Jewish Bible. Jews celebrate the Torah by dancing and singing\, followed by reading the last word of Deuteronomy and the first word of Genesis in one breath to represent the cyclical relationship between the Jewish People and Torah. \nMore Information \nThere are no special customs or greetings for Shemini Atzeret\, but there are additional prayers in the usual services on this day.
URL:https://multi-faithcalendar.org/events/shemini-atzeret-jewish/
CATEGORIES:2022,Jewish,September
END:VEVENT
BEGIN:VEVENT
DTSTART;TZID=America/New_York:20221009T180000
DTEND;TZID=America/New_York:20221016T180000
DTSTAMP:20260425T080405
CREATED:20190724T142748Z
LAST-MODIFIED:20211114T173149Z
UID:340-1665338400-1665943200@multi-faithcalendar.org
SUMMARY:Sukkot (Jewish)
DESCRIPTION:Sukkot is a seven-day festival marking the fall harvest in ancient Israel. This holiday is also a time in which Jews commemorate forty years of wandering in the desert after the Exodus from Egypt. Celebrated by the building of a sukkah (or temporary dwelling) outdoors\, where families and friends spend time throughout the holiday. Work is traditionally prohibited on the first and second days. \nMore Information \nSome students may miss school\, the first and second day of the festival. Commonly observed by synagogue attendance or family gatherings. Work is traditionally prohibited.
URL:https://multi-faithcalendar.org/events/sukkot-jewish/
CATEGORIES:2022,Jewish,October
END:VEVENT
BEGIN:VEVENT
DTSTART;VALUE=DATE:20221005
DTEND;VALUE=DATE:20221006
DTSTAMP:20260425T080405
CREATED:20190724T142448Z
LAST-MODIFIED:20220225T200109Z
UID:336-1664928000-1665014399@multi-faithcalendar.org
SUMMARY:Yom Kippur (Jewish)
DESCRIPTION:Yom Kippur is the Day of Atonement. The focus of this holiday is on contemplation repentance. Jews are taught that sins between people can only be atoned for after personal reconciliation. It is considered to be the holiest and most solemn day of the year. Fasting begins at sundown and ends after nightfall the following day. Most Jews attend synagogue on this day and the preceding evening. This holiday closes out the period of the High Holy Days. \nMore Information \nHoliday Greeting: G’mar chatimah tovah (May you be sealed in the Book of Life) – AND – tzom kal (easy fast) \nCommonly observed by synagogue attendance or family gatherings. Individuals may be absent from school or work. Students will likely miss school for this holiday. Many who are 13 or older\, will also likely be fasting. Work is traditionally prohibited.
URL:https://multi-faithcalendar.org/events/yom-kippur-jewish/
CATEGORIES:2022,Jewish,September
END:VEVENT
BEGIN:VEVENT
DTSTART;TZID=America/New_York:20221004T180000
DTEND;TZID=America/New_York:20221004T235900
DTSTAMP:20260425T080405
CREATED:20210115T190016Z
LAST-MODIFIED:20211114T172805Z
UID:1471-1664906400-1664927940@multi-faithcalendar.org
SUMMARY:Erev (eve of) Yom Kippur (Jewish)
DESCRIPTION:This evening is the beginning of Yom Kippur\, the Day of Atonement. The focus of this holiday is on contemplation repentance. Jews are taught that sins between people can only be atoned for after personal reconciliation. It is considered to be the holiest and most solemn day of the year. Fasting begins at sundown and ends after nightfall the following day. Most Jews attend synagogue on this day and the preceding evening. Erev is usually called Kol Nidre because of the most important prayer of the season that is recited that night. The prayer is an expression of repentance for all unfulfilled vows\, oaths\, and promises made to God during the year. This holiday closes out the period of the High Holy Days. \nMore Information \nHoliday Greeting: G’mar chatimah tovah (May you be sealed in the Book of Life) – AND – tzom kal (easy fast) \nCommonly observed by synagogue attendance or family gatherings. Individuals may be absent from school or work. Students will likely miss school for this holiday. Many who are 13 or older\, will also likely be fasting. Work is traditionally prohibited.
URL:https://multi-faithcalendar.org/events/erev-eve-of-yom-kippur-jewish/
CATEGORIES:2022,Jewish
END:VEVENT
BEGIN:VEVENT
DTSTART;VALUE=DATE:20220926
DTEND;VALUE=DATE:20220928
DTSTAMP:20260425T080405
CREATED:20190724T141659Z
LAST-MODIFIED:20211114T172517Z
UID:332-1664150400-1664323199@multi-faithcalendar.org
SUMMARY:Rosh Hashanah (Jewish)
DESCRIPTION:Rosh Hashanah is the Jewish New Year. This holiday begins the period of the High Holy Days\, which are widely observed by Jews around the world. It is both a time of rejoicing and of serious introspection\, a time to celebrate the completion of another year while also taking stock of one’s life. Traditions include eating apples dipped in honey and blowing the shofar (ram’s horn).   Most Jews attend synagogue on these two days and the preceding evening. \nMore Information \nHoliday Greeting: Shana Tova (Happy New Year) – AND – Shana Tova U’Mtukah (Have a happy and sweet New Year) \nNo dietary restrictions\, but most students will miss school for this holiday. Commonly observed by synagogue attendance or family gatherings. Work is traditionally prohibited.
URL:https://multi-faithcalendar.org/events/rosh-hashanah-jewish/
CATEGORIES:2022,Jewish,September
END:VEVENT
BEGIN:VEVENT
DTSTART;TZID=America/New_York:20220925T180000
DTEND;TZID=America/New_York:20220925T235900
DTSTAMP:20260425T080405
CREATED:20210106T200116Z
LAST-MODIFIED:20211114T172438Z
UID:1249-1664128800-1664150340@multi-faithcalendar.org
SUMMARY:Erev (eve of) Rosh Hashanah (Jewish)
DESCRIPTION:This evening is the beginning of Rosh Hashanah\, the Jewish New Year. This holiday begins the period of the High Holy Days\, which are widely observed by Jews around the world. It is both a time of rejoicing and of serious introspection\, a time to celebrate the completion of another year while also taking stock of one’s life. Traditions include eating apples dipped in honey and blowing the shofar (ram’s horn).   Most Jews attend synagogue on these two days and the preceding evening. \nMore Information \nHoliday Greeting: Shana Tova (Happy New Year) – AND – Shana Tova U’Mtukah (Have a happy and sweet New Year) \nNo dietary restrictions\, but most students will miss school for this holiday. Commonly observed by synagogue attendance or family gatherings. Work is traditionally prohibited.
URL:https://multi-faithcalendar.org/events/erev-eve-of-rosh-hashanah-jewish/
CATEGORIES:2022,Jewish,September
END:VEVENT
BEGIN:VEVENT
DTSTART;TZID=America/New_York:20220806T180000
DTEND;TZID=America/New_York:20220807T210000
DTSTAMP:20260425T080405
CREATED:20190724T135630Z
LAST-MODIFIED:20211114T163935Z
UID:299-1659808800-1659906000@multi-faithcalendar.org
SUMMARY:Tisha B’Av (Jewish)
DESCRIPTION:Tisha B’Av is the annual fast day commemorating the destruction of the First and Second Temples in Jerusalem and the subsequent exile of the Jews from the land of Israel. Over the centuries\, other tragic events have come to be commemorated on this day\, including the massacres of the Crusades\, the Jewish expulsion from Spain\, and the Holocaust. Today in many modern Jewish communities\, Tishah B’Av stands as a day to reflect on the suffering that still occurs in our world. \nMore Information \nHoliday Greeting: On Tisha B’Av we do not exchange greetings; we do not say “hello” or “how are you” and the like. \nObservant Jews will fast\, mourn and pray on this day.
URL:https://multi-faithcalendar.org/events/tisha-bav-jewish/
CATEGORIES:2022,Jewish,July
END:VEVENT
BEGIN:VEVENT
DTSTART;TZID=America/New_York:20220604T190000
DTEND;TZID=America/New_York:20220606T190000
DTSTAMP:20260425T080405
CREATED:20190724T133322Z
LAST-MODIFIED:20211113T203752Z
UID:272-1654369200-1654542000@multi-faithcalendar.org
SUMMARY:Shavuot (Jewish)
DESCRIPTION:The festival of Shavuot celebrates the giving of Torah (Hebrew Bible) including the Ten Commandments at Mount Sinai. It also marks the end of the spring harvest\, and the beginning of the summer harvest. Shavuot is celebrated by studying Torah together as a community\, often late into the night. It is traditional to eat meals containing dairy. Barley and wheat are also food symbols of Shavuot. \nMore Information \nHoliday Greeting: Hag Sameach (Happy Holiday) \nCommonly observed by synagogue attendance or family gatherings. Work is traditionally prohibited; individuals may be absent from school or work.
URL:https://multi-faithcalendar.org/events/shavuot-jewish/
CATEGORIES:2022,Jewish,June
END:VEVENT
BEGIN:VEVENT
DTSTART;TZID=America/New_York:20220505T180000
DTEND;TZID=America/New_York:20220506T180000
DTSTAMP:20260425T080405
CREATED:20190724T131830Z
LAST-MODIFIED:20220531T132044Z
UID:252-1651773600-1651860000@multi-faithcalendar.org
SUMMARY:Yom HaAtzma'ut (Jewish)
DESCRIPTION:Yom HaAtzma’ut\, also known as Israel’s Independence Day\, is celebrated on the fifth day of the month of Iyar\, which is the Hebrew date of the formal establishment of the State of Israel\, when members of the “provisional government” read and signed a Declaration of Independence in Tel Aviv. The original date corresponded to May 14\, 1948. \nMore Information \nCommonly observed by synagogue attendance\, community or family gatherings.
URL:https://multi-faithcalendar.org/events/yom-haatzmaut-jewish/
CATEGORIES:2022,Jewish,May
END:VEVENT
BEGIN:VEVENT
DTSTART;TZID=America/New_York:20220503T180000
DTEND;TZID=America/New_York:20220504T180000
DTSTAMP:20260425T080405
CREATED:20190724T131631Z
LAST-MODIFIED:20211113T202318Z
UID:250-1651600800-1651687200@multi-faithcalendar.org
SUMMARY:Yom HaZikaron (Jewish)
DESCRIPTION:Yom HaZikaron is Israel’s Memorial Day\, observed both in Israel and in many Jewish communities around the world. A day to remember and honor soldiers who lost their lives fighting in the War of Independence and subsequent battles. It is also a day to remember civilian victims of terrorism. \nMore Information \nCommonly observed by synagogue attendance\, family or community gatherings. In Israel\, at 12 noon sirens are sounded and the whole country\, even cars on highways\, will stop for a commemorative moment.
URL:https://multi-faithcalendar.org/events/yom-hazikaron-jewish/
CATEGORIES:2022,Jewish,May
END:VEVENT
BEGIN:VEVENT
DTSTART;TZID=America/New_York:20220427T180000
DTEND;TZID=America/New_York:20220428T180000
DTSTAMP:20260425T080405
CREATED:20190724T131100Z
LAST-MODIFIED:20211113T201821Z
UID:244-1651082400-1651168800@multi-faithcalendar.org
SUMMARY:Yom Ha'shoah (Jewish)
DESCRIPTION:Known in English as Holocaust Remembrance Day\, Yom Ha’Shoah commemorates the approximately six million Jews\, and five million others who perished in the Holocaust. Shoah in Hebrew means catastrophe. This is a national public holiday in Israel. In homes and synagogues around the world\, Jews will light memorial candles in commemoration of lives lost. The Holocaust and Humanity Center Museum located in Cincinnati’s Union Terminal highlights the history\, artifacts\, humanity education\, and stories of survivors and others who experienced the Holocaust. \nMore Information \nCommonly observed by synagogue attendance or family gatherings. Work is traditionally prohibited; individuals may be absent from school or work.
URL:https://multi-faithcalendar.org/events/yom-hashoah-jewish/
CATEGORIES:2022,April,Jewish
END:VEVENT
BEGIN:VEVENT
DTSTART;VALUE=DATE:20220415
DTEND;VALUE=DATE:20220423
DTSTAMP:20260425T080405
CREATED:20190724T130003Z
LAST-MODIFIED:20211113T194959Z
UID:225-1649980800-1650671999@multi-faithcalendar.org
SUMMARY:Passover (Jewish)
DESCRIPTION:Passover\, known in Hebrew as Pesach\, commemorates the liberation of the Hebrew slaves from Egypt. A feast called a seder is held on the first two nights. During the seder\, the Exodus story is read aloud and freedom from slavery is celebrated. This is one of the most widely observed Jewish holidays. \nMore Information \nHoliday Greeting: Pesach Sameach (Happy Passover) \nNo food that is leavened (e.g.\, bread\, cake) or contains wheat is eaten. Matzah (unleavened bread) is often consumed instead. Work is traditionally prohibited on the first\, second\, seventh\, and eighth days. Absences may vary based on religious observance of the holiday.
URL:https://multi-faithcalendar.org/events/passover-begins-jewish/
CATEGORIES:2022,April,Jewish
END:VEVENT
BEGIN:VEVENT
DTSTART;VALUE=DATE:20220316
DTEND;VALUE=DATE:20220318
DTSTAMP:20260425T080405
CREATED:20211116T205659Z
LAST-MODIFIED:20211116T205659Z
UID:1901-1647388800-1647561599@multi-faithcalendar.org
SUMMARY:Purim (Jewish)
DESCRIPTION:Purim\, one of the most joyous Jewish holidays\, commemorates the events in the Book of Esther. It celebrates the survival of the Jews who\, in the 5th century BCE\, were marked for death by their Persian rulers. Traditions include costumes\, retelling the story through skits and songs\, festivals geared towards children\, and giving care packages to those in need. It is tradition to eat special cookies called Hamentaschen \nMore Information \nHoliday Greeting: Purim Sameach (Happy Purim) \nThere are no restrictions for students/families.
URL:https://multi-faithcalendar.org/events/purim-jewish-2/
CATEGORIES:2022,Jewish
END:VEVENT
BEGIN:VEVENT
DTSTART;VALUE=DATE:20220116
DTEND;VALUE=DATE:20220118
DTSTAMP:20260425T080405
CREATED:20211116T202608Z
LAST-MODIFIED:20211116T202608Z
UID:1871-1642291200-1642463999@multi-faithcalendar.org
SUMMARY:Tu B'Shvat (Jewish)
DESCRIPTION:New Year of the Trees. Originally celebrated as an agricultural festival marking the emergence of spring\, today celebrations focus on environmental awareness. Trees are often planted in honor or memory of loved ones. \nMore Information
URL:https://multi-faithcalendar.org/events/tu-bshvat-jewish-3/
CATEGORIES:2022,Jewish
END:VEVENT
BEGIN:VEVENT
DTSTART;VALUE=DATE:20211129
DTEND;VALUE=DATE:20211207
DTSTAMP:20260425T080405
CREATED:20190724T145819Z
LAST-MODIFIED:20210115T182119Z
UID:381-1638144000-1638835199@multi-faithcalendar.org
SUMMARY:Hanukkah (Jewish)
DESCRIPTION:Hanukkah\, also known as Hanukah\, Chanukah\, and Chanukkah can be spelled many different ways in English. It is an eight-day celebration known as the Festival of Lights marked by the lighting of candles using a special candle holder called a menorah or chanukiah. This holiday is where Jews celebrate their victory over a tyrant Greco-Syrian king and the rededication of the Temple in Jerusalem. As the story goes\, a small quantity of oil to light the Temple’s menorah miraculously lasted eight days. Traditions include a game involving spinning dreidels (tops)\, eating potato latkes (pancakes) and other oily foods\, and gift giving. \nMore Information \nHoliday Greeting: Happy Hanukkah! \nCommonly observed by synagogue attendance\, community or family gatherings.
URL:https://multi-faithcalendar.org/events/hanukkah-jewish/
CATEGORIES:2021,December,Jewish
END:VEVENT
BEGIN:VEVENT
DTSTART;TZID=America/New_York:20210327T170000
DTEND;TZID=America/New_York:20210327T235900
DTSTAMP:20260425T080405
CREATED:20210115T184631Z
LAST-MODIFIED:20210115T184718Z
UID:1463-1616864400-1616889540@multi-faithcalendar.org
SUMMARY:First Night of Passover (Jewish)
DESCRIPTION:Passover\, known in Hebrew as Pesach\, commemorates the liberation of the Hebrew slaves from Egypt. A feast called a seder is held on the first two nights. During the seder\, the Exodus story is read aloud and freedom from slavery is celebrated. This is one of the most widely observed Jewish \nholidays. \nMore Information \nHoliday Greeting: Pesach Sameach (Happy Passover) \nNo food that is leavened (e.g.\, bread\, cake) or contains wheat is eaten. Matzah (unleavened bread) is often consumed instead. Work is traditionally prohibited on the first\, second\, seventh\, and eighth days. Absences may vary based on religious observance of the holiday.
URL:https://multi-faithcalendar.org/events/first-night-of-passover-jewish/
CATEGORIES:2021,Jewish,March
END:VEVENT
BEGIN:VEVENT
DTSTART;VALUE=DATE:20210226
DTEND;VALUE=DATE:20210227
DTSTAMP:20260425T080405
CREATED:20190724T123756Z
LAST-MODIFIED:20210115T184956Z
UID:203-1614297600-1614383999@multi-faithcalendar.org
SUMMARY:Purim (Jewish)
DESCRIPTION:Purim\, one of the most joyous Jewish holidays\, commemorates the events in the Book of Esther. It celebrates the survival of the Jews who\, in the 5th century BCE\, were marked for death by their Persian rulers. Traditions include costumes\, retelling the story through skits and songs\, festivals geared towards children\, and giving care packages to those in need. It is tradition to eat special cookies called Hamentaschen \nMore Information \nHoliday Greeting: Purim Sameach (Happy Purim) \nThere are no restrictions for students/families.
URL:https://multi-faithcalendar.org/events/purim-jewish/
CATEGORIES:2021,Jewish,March
END:VEVENT
BEGIN:VEVENT
DTSTART;VALUE=DATE:20210128
DTEND;VALUE=DATE:20210129
DTSTAMP:20260425T080405
CREATED:20201217T174432Z
LAST-MODIFIED:20201231T183341Z
UID:1096-1611792000-1611878399@multi-faithcalendar.org
SUMMARY:Tu B'Shvat (Jewish)
DESCRIPTION:New Year of the Trees. Originally celebrated as an agricultural festival marking the emergence of spring\, today celebrations focus on environmental awareness. Trees are often planted in honor or memory of loved ones. \nMore Information
URL:https://multi-faithcalendar.org/events/tu-bshvat-jewish-2/
CATEGORIES:2021,Jewish
END:VEVENT
BEGIN:VEVENT
DTSTART;VALUE=DATE:20200210
DTEND;VALUE=DATE:20200211
DTSTAMP:20260425T080405
CREATED:20190724T122758Z
LAST-MODIFIED:20190724T122758Z
UID:191-1581292800-1581379199@multi-faithcalendar.org
SUMMARY:Tu B'Shvat (Jewish)
DESCRIPTION:
URL:https://multi-faithcalendar.org/events/tu-bshvat-jewish/
CATEGORIES:2020,February,Jewish
END:VEVENT
BEGIN:VEVENT
DTSTART;VALUE=DATE:20191222
DTEND;VALUE=DATE:20191231
DTSTAMP:20260425T080405
CREATED:20190913T221053Z
LAST-MODIFIED:20190913T221053Z
UID:961-1576972800-1577750399@multi-faithcalendar.org
SUMMARY:Hanukkah (Jewish)
DESCRIPTION:Hanukkah\, also known as Hanukah\, Chanukah\, and Chanukkah can be spelled many different ways in English. It is an eight-day celebration known as the Festival of Lights marked by the lighting of candles using a special candle holder called a menorah or chanukiah. This holiday commemorates the victory of a small group of Jewish rebels\, the Maccabees\, over the ruling power\, the Greco-Syrians\, who wanted to destroy Jewish culture. Traditions include a game involving spinning dreidels (tops)\, eating potato latkes (pancakes)\, and giving gifts. \nMore Information \nHoliday Greeting: Happy Hanukkah!
URL:https://multi-faithcalendar.org/events/hanukkah-jewish-2/
CATEGORIES:December,Jewish
END:VEVENT
BEGIN:VEVENT
DTSTART;VALUE=DATE:20191021
DTEND;VALUE=DATE:20191023
DTSTAMP:20260425T080405
CREATED:20190912T205819Z
LAST-MODIFIED:20190912T205819Z
UID:882-1571616000-1571788799@multi-faithcalendar.org
SUMMARY:Simchat Torah (Jewish)
DESCRIPTION:Simchat Torah/ Shemini Atzeret marks the conclusion of the annual reading cycle of the Torah\, the Five Books of Moses that make up the Jewish Bible. Jews celebrate the Torah by dancing and singing\, followed by reading the last word of Deuteronomy and the first word of Genesis in one breath to represent the cyclical relationship between the Jewish People and Torah. Immediately follows Sukkot. \nMore Information
URL:https://multi-faithcalendar.org/events/simchat-torah-jewish/
CATEGORIES:Jewish,October
END:VEVENT
BEGIN:VEVENT
DTSTART;VALUE=DATE:20191013
DTEND;VALUE=DATE:20191021
DTSTAMP:20260425T080405
CREATED:20190912T204500Z
LAST-MODIFIED:20190912T204500Z
UID:877-1570924800-1571615999@multi-faithcalendar.org
SUMMARY:Sukkot (Jewish)
DESCRIPTION:Sukkot is a seven-day festival marking the fall harvest in ancient Israel. This holiday is also a time in which Jews commorate forty years of wantering in the desert after the Exodus from Egypt. Celebrated by the building of a sukkah (or temporary dwelling) outdoors. Work is traditionally prohibited on the first and second days. \nMore Information \nSome students may miss school the first and second day of the festival.
URL:https://multi-faithcalendar.org/events/sukkot-jewish-2/
CATEGORIES:Jewish,October
END:VEVENT
BEGIN:VEVENT
DTSTART;VALUE=DATE:20191008
DTEND;VALUE=DATE:20191010
DTSTAMP:20260425T080405
CREATED:20190912T204151Z
LAST-MODIFIED:20190912T204151Z
UID:875-1570492800-1570665599@multi-faithcalendar.org
SUMMARY:Yom Kippur (Jewish)
DESCRIPTION:Yom Kippur is the Day of Attonement. The focus of this holiday is on contemplation repentance. Jews are taught that sins between people can only be attoned for after personal reconciliation. It is considered to be the holiest and most solemn day of the year. Fasting begins at sundown and ends after nightfall the following day. Most Jews attend synagogue on this day and the preceding evening. This holiday closes out the period of the High Holy Days.  \nMore Information \nHoliday Greeting: G’mar chatimah tovah (May you be sealed in the Book of Life) – AND – tzom kal (easy fast) \nStudents will likely miss school for this holiday. Many who are 13 or older\, will also likely be fasting.
URL:https://multi-faithcalendar.org/events/yom-kippur-jewish-2/
CATEGORIES:Jewish,September
END:VEVENT
BEGIN:VEVENT
DTSTART;VALUE=DATE:20190929
DTEND;VALUE=DATE:20190930
DTSTAMP:20260425T080405
CREATED:20190912T200552Z
LAST-MODIFIED:20190912T200552Z
UID:863-1569715200-1569801599@multi-faithcalendar.org
SUMMARY:Rosh Hashanah (Jewish)
DESCRIPTION:Rosh Hashanah is the Jewish New Year. This holiday begins the period of the High Holy Days\, which are widely observed by Jews around the world. Traditions include eating apples dipped in honey and blowing the shofar (ram’s horn). Most Jews attend synagogue on these two days and the preceding evening. \nMore Information \nHoliday Greeting: Shana Tova (Happy New Year) – AND – Shana Tova U’Mtukah (Have a happy and sweet New Year) \nNo dietary restrictions\, but most students will miss school for this holiday.
URL:https://multi-faithcalendar.org/events/rosh-hashanah-jewish-2/
CATEGORIES:Jewish,September
END:VEVENT
END:VCALENDAR