BEGIN:VCALENDAR
VERSION:2.0
PRODID:-//Cincy MultiFaith Calendar - ECPv6.15.1.1//NONSGML v1.0//EN
CALSCALE:GREGORIAN
METHOD:PUBLISH
X-WR-CALNAME:Cincy MultiFaith Calendar
X-ORIGINAL-URL:https://multi-faithcalendar.org
X-WR-CALDESC:Events for Cincy MultiFaith Calendar
REFRESH-INTERVAL;VALUE=DURATION:PT1H
X-Robots-Tag:noindex
X-PUBLISHED-TTL:PT1H
BEGIN:VTIMEZONE
TZID:America/New_York
BEGIN:DAYLIGHT
TZOFFSETFROM:-0500
TZOFFSETTO:-0400
TZNAME:EDT
DTSTART:20260308T070000
END:DAYLIGHT
BEGIN:STANDARD
TZOFFSETFROM:-0400
TZOFFSETTO:-0500
TZNAME:EST
DTSTART:20261101T060000
END:STANDARD
END:VTIMEZONE
BEGIN:VEVENT
DTSTART;VALUE=DATE:20260201
DTEND;VALUE=DATE:20260202
DTSTAMP:20260424T100253
CREATED:20251030T225137Z
LAST-MODIFIED:20251030T225137Z
UID:3050-1769904000-1769990399@multi-faithcalendar.org
SUMMARY:Imbolg (Pagan)
DESCRIPTION:Imbolg falls on February 2nd midway between Winter Solstice and Spring Equinox. Imbolg is a Gaelic word that means “in the belly” and refers to the gestation of new lambs. This holiday celebrates the return of light. It is the beginning of spring. It is also known as St. Brigid’s day\, Brigid being a Celtic goddess of fire. Symbol: dairy products. \nMore information
URL:https://multi-faithcalendar.org/events/imbolg-pagan-6/
CATEGORIES:2026,Pagan
END:VEVENT
END:VCALENDAR