BEGIN:VCALENDAR
VERSION:2.0
PRODID:-//Cincy MultiFaith Calendar - ECPv6.15.1.1//NONSGML v1.0//EN
CALSCALE:GREGORIAN
METHOD:PUBLISH
X-WR-CALNAME:Cincy MultiFaith Calendar
X-ORIGINAL-URL:https://multi-faithcalendar.org
X-WR-CALDESC:Events for Cincy MultiFaith Calendar
REFRESH-INTERVAL;VALUE=DURATION:PT1H
X-Robots-Tag:noindex
X-PUBLISHED-TTL:PT1H
BEGIN:VTIMEZONE
TZID:America/New_York
BEGIN:DAYLIGHT
TZOFFSETFROM:-0500
TZOFFSETTO:-0400
TZNAME:EDT
DTSTART:20220313T070000
END:DAYLIGHT
BEGIN:STANDARD
TZOFFSETFROM:-0400
TZOFFSETTO:-0500
TZNAME:EST
DTSTART:20221106T060000
END:STANDARD
BEGIN:DAYLIGHT
TZOFFSETFROM:-0500
TZOFFSETTO:-0400
TZNAME:EDT
DTSTART:20230312T070000
END:DAYLIGHT
BEGIN:STANDARD
TZOFFSETFROM:-0400
TZOFFSETTO:-0500
TZNAME:EST
DTSTART:20231105T060000
END:STANDARD
BEGIN:DAYLIGHT
TZOFFSETFROM:-0500
TZOFFSETTO:-0400
TZNAME:EDT
DTSTART:20240310T070000
END:DAYLIGHT
BEGIN:STANDARD
TZOFFSETFROM:-0400
TZOFFSETTO:-0500
TZNAME:EST
DTSTART:20241103T060000
END:STANDARD
BEGIN:DAYLIGHT
TZOFFSETFROM:-0500
TZOFFSETTO:-0400
TZNAME:EDT
DTSTART:20250309T070000
END:DAYLIGHT
BEGIN:STANDARD
TZOFFSETFROM:-0400
TZOFFSETTO:-0500
TZNAME:EST
DTSTART:20251102T060000
END:STANDARD
BEGIN:DAYLIGHT
TZOFFSETFROM:-0500
TZOFFSETTO:-0400
TZNAME:EDT
DTSTART:20260308T070000
END:DAYLIGHT
BEGIN:STANDARD
TZOFFSETFROM:-0400
TZOFFSETTO:-0500
TZNAME:EST
DTSTART:20261101T060000
END:STANDARD
END:VTIMEZONE
BEGIN:VEVENT
DTSTART;VALUE=DATE:20260320
DTEND;VALUE=DATE:20260321
DTSTAMP:20260424T100253
CREATED:20251030T235825Z
LAST-MODIFIED:20251030T235825Z
UID:3088-1773964800-1774051199@multi-faithcalendar.org
SUMMARY:Ostara – Spring Equinox (Pagan)
DESCRIPTION:Spring Equinox or Ostara is celebrated March 21st or 22nd.  At the spring equinox\, the hours of daylight are exactly equal to the hours of night. It is the middle of spring. This holiday celebrates the blooming of the earth. It was named after the German goddess of spring\, Ostara\, known to the Anglo Saxons as Eostre\, whose symbols were the egg\, the rabbit\, and the chick. \nMore Information
URL:https://multi-faithcalendar.org/events/ostara-spring-equinox-pagan-6/
CATEGORIES:2026,Pagan
END:VEVENT
BEGIN:VEVENT
DTSTART;VALUE=DATE:20260201
DTEND;VALUE=DATE:20260202
DTSTAMP:20260424T100253
CREATED:20251030T225137Z
LAST-MODIFIED:20251030T225137Z
UID:3050-1769904000-1769990399@multi-faithcalendar.org
SUMMARY:Imbolg (Pagan)
DESCRIPTION:Imbolg falls on February 2nd midway between Winter Solstice and Spring Equinox. Imbolg is a Gaelic word that means “in the belly” and refers to the gestation of new lambs. This holiday celebrates the return of light. It is the beginning of spring. It is also known as St. Brigid’s day\, Brigid being a Celtic goddess of fire. Symbol: dairy products. \nMore information
URL:https://multi-faithcalendar.org/events/imbolg-pagan-6/
CATEGORIES:2026,Pagan
END:VEVENT
BEGIN:VEVENT
DTSTART;VALUE=DATE:20251221
DTEND;VALUE=DATE:20260102
DTSTAMP:20260424T100253
CREATED:20251030T215750Z
LAST-MODIFIED:20251030T215750Z
UID:3024-1766275200-1767311999@multi-faithcalendar.org
SUMMARY:Yule (Pagan)
DESCRIPTION:Yule or Winter Solstice is celebrated around December 21st or 22nd and is the first pagan holiday celebrated after the ending of the old year. This is the longest night and shortest day of the year\, and most likely the oldest holiday known to humankind. It celebrates the birth of the sun – the Divine Child is born. Symbols: The Yule Log\, evergreen trees\, stars. \nMore Information
URL:https://multi-faithcalendar.org/events/yule-pagan-5/
CATEGORIES:2025,2026,Pagan
END:VEVENT
BEGIN:VEVENT
DTSTART;VALUE=DATE:20251031
DTEND;VALUE=DATE:20251102
DTSTAMP:20260424T100253
CREATED:20241217T185709Z
LAST-MODIFIED:20241217T185709Z
UID:2974-1761868800-1762041599@multi-faithcalendar.org
SUMMARY:Samhain (Pagan)
DESCRIPTION:Samhain is celebrated October 31st. This is the third harvest when all crops should be in.  Anything not harvested was left in the fields. Samhain is a Gaelic word that means “Summer’s End”\, so Samhain was the beginning of winter. For the Celtic people of Europe and the British Isles\, this was the end of the year as they began and ended their calendar with Samhain. So\, for Pagans\, it is New Year’s Eve. Samhain is also known as “the day between the years.” The day before Samhain was the last day of the old year\, and the day after Samhain is the first day of the new year\, so Samhain itself is literally the day between the years. Being between the years was a very magical time when the veils between past\, present\, and future may be lifted. It was a time of no time\, when order and structure were abolished\, and chaos could reign. For three days\, because all Celtic holidays lasted for three days\, men dressed as women\, and women as men\, children knocked on neighbor’s doors for food and treats\, practical jokes were pulled. For pastoral people Samhain was when the herds and flocks were moved to the lower winter pastures\, and when the herds were culled and animals slaughtered – a time of great anxiety – for it was necessary to slaughter enough to provide meat for the winter months ahead\, but not too many to endanger the herd. And that brings us back to Yule\, the completion of one full turn on the Wheel of the Year and the beginning of another. \nMore Information
URL:https://multi-faithcalendar.org/events/samhain-pagan-4/
CATEGORIES:2025,Pagan
END:VEVENT
BEGIN:VEVENT
DTSTART;VALUE=DATE:20250922
DTEND;VALUE=DATE:20250923
DTSTAMP:20260424T100253
CREATED:20241217T182524Z
LAST-MODIFIED:20241217T182524Z
UID:2936-1758499200-1758585599@multi-faithcalendar.org
SUMMARY:Autumn Equinox - Mabon (Pagan)
DESCRIPTION:Autumn Equinox or Mabon is celebrated September 21st or 22nd. This is second harvest and is the witches Thanksgiving. This is a time of appreciation\, reflection\, and preparation for winter. \nMore Information
URL:https://multi-faithcalendar.org/events/autumn-equinox-mabon-pagan-4/
CATEGORIES:2025,Pagan
END:VEVENT
BEGIN:VEVENT
DTSTART;VALUE=DATE:20250801
DTEND;VALUE=DATE:20250802
DTSTAMP:20260424T100253
CREATED:20241217T173742Z
LAST-MODIFIED:20241217T173742Z
UID:2903-1754006400-1754092799@multi-faithcalendar.org
SUMMARY:Lammas (Pagan)
DESCRIPTION:Lammas also called Loafmas or Lughnassadh\, after a Celtic God Lugh\, is celebrated July 31st or August 1st. The days shorten but the weather is still warm. This is the first harvest and celebrates the grains harvested for the baking of bread. \nMore Information
URL:https://multi-faithcalendar.org/events/lammas-pagan-4/
CATEGORIES:2025,Pagan
END:VEVENT
BEGIN:VEVENT
DTSTART;VALUE=DATE:20250621
DTEND;VALUE=DATE:20250622
DTSTAMP:20260424T100253
CREATED:20241117T204916Z
LAST-MODIFIED:20241117T204916Z
UID:2868-1750464000-1750550399@multi-faithcalendar.org
SUMMARY:Summer Solstice (Pagan)
DESCRIPTION:Summer Solstice is celebrated June 21st or 22nd. It is also called Midsummer or Litha. This is the longest day and shortest night of the year. The sun is at maximum power. Themes here are growth\, fruitfulness\, abundance. From now on the days get shorter\, the nights longer. This is a good time for handfastings and honeymoons. \nMore Information
URL:https://multi-faithcalendar.org/events/summer-solstice-pagan-4/
CATEGORIES:2025,Pagan
END:VEVENT
BEGIN:VEVENT
DTSTART;VALUE=DATE:20250501
DTEND;VALUE=DATE:20250502
DTSTAMP:20260424T100253
CREATED:20231227T105149Z
LAST-MODIFIED:20241117T184629Z
UID:2492-1746057600-1746143999@multi-faithcalendar.org
SUMMARY:Beltane (Pagan)
DESCRIPTION:Beltane: is celebrated on May 1st halfway between Spring Equinox and Summer Solstice. It is the beginning of summer. Among pastoral people this was when the flocks and herds were moved from the lower winter pasture to the higher summer pasture. To ensure fertility\, the livestock was herded between two fires. This holiday celebrates fertility and sexuality. This is a time for fun and frolic. Jumping over the fire is part of the ritual. \nMore Information
URL:https://multi-faithcalendar.org/events/beltane-pagan-3/
CATEGORIES:2025,Pagan
END:VEVENT
BEGIN:VEVENT
DTSTART;VALUE=DATE:20250320
DTEND;VALUE=DATE:20250321
DTSTAMP:20260424T100253
CREATED:20241117T180831Z
LAST-MODIFIED:20241117T180831Z
UID:2762-1742428800-1742515199@multi-faithcalendar.org
SUMMARY:Ostara – Spring Equinox (Pagan)
DESCRIPTION:Spring Equinox or Ostara is celebrated March 21st or 22nd.  At the spring equinox\, the hours of daylight are exactly equal to the hours of night. It is the middle of spring. This holiday celebrates the blooming of the earth. It was named after the German goddess of spring\, Ostara\, known to the Anglo Saxons as Eostre\, whose symbols were the egg\, the rabbit\, and the chick. \nMore Information
URL:https://multi-faithcalendar.org/events/ostara-spring-equinox-pagan-5/
CATEGORIES:2025,Pagan
END:VEVENT
BEGIN:VEVENT
DTSTART;VALUE=DATE:20250201
DTEND;VALUE=DATE:20250202
DTSTAMP:20260424T100253
CREATED:20241117T125234Z
LAST-MODIFIED:20241117T125234Z
UID:2732-1738368000-1738454399@multi-faithcalendar.org
SUMMARY:Imbolg (Pagan)
DESCRIPTION:Imbolg falls on February 2nd midway between Winter Solstice and Spring Equinox. Imbolg is a Gaelic word that means “in the belly” and refers to the gestation of new lambs. This holiday celebrates the return of light. It is the beginning of spring. It is also known as St. Brigid’s day\, Brigid being a Celtic goddess of fire. Symbol: dairy products. \nMore information
URL:https://multi-faithcalendar.org/events/imbolg-pagan-5/
CATEGORIES:2025,Pagan
END:VEVENT
BEGIN:VEVENT
DTSTART;VALUE=DATE:20241221
DTEND;VALUE=DATE:20250102
DTSTAMP:20260424T100253
CREATED:20231228T211919Z
LAST-MODIFIED:20231228T211919Z
UID:2654-1734739200-1735775999@multi-faithcalendar.org
SUMMARY:Yule (Pagan)
DESCRIPTION:Yule or Winter Solstice is celebrated around December 21st or 22nd and is the first pagan holiday celebrated after the ending of the old year. This is the longest night and shortest day of the year\, and most likely the oldest holiday known to humankind. It celebrates the birth of the sun – the Divine Child is born. Symbols: The Yule Log\, evergreen trees\, stars. \nMore Information
URL:https://multi-faithcalendar.org/events/yule-pagan-4/
CATEGORIES:2024,2025,Pagan
END:VEVENT
BEGIN:VEVENT
DTSTART;VALUE=DATE:20241031
DTEND;VALUE=DATE:20241102
DTSTAMP:20260424T100253
CREATED:20231228T205703Z
LAST-MODIFIED:20231228T205703Z
UID:2620-1730332800-1730505599@multi-faithcalendar.org
SUMMARY:Samhain (Pagan)
DESCRIPTION:Samhain is celebrated October 31st. This is the third harvest when all crops should be in.  Anything not harvested was left in the fields. Samhain is a Gaelic word that means “Summer’s End”\, so Samhain was the beginning of winter. For the Celtic people of Europe and the British Isles\, this was the end of the year as they began and ended their calendar with Samhain. So\, for Pagans\, it is New Year’s Eve. Samhain is also known as “the day between the years.” The day before Samhain was the last day of the old year\, and the day after Samhain is the first day of the new year\, so Samhain itself is literally the day between the years. Being between the years was a very magical time when the veils between past\, present\, and future may be lifted. It was a time of no time\, when order and structure were abolished\, and chaos could reign. For three days\, because all Celtic holidays lasted for three days\, men dressed as women\, and women as men\, children knocked on neighbor’s doors for food and treats\, practical jokes were pulled. For pastoral people Samhain was when the herds and flocks were moved to the lower winter pastures\, and when the herds were culled and animals slaughtered – a time of great anxiety – for it was necessary to slaughter enough to provide meat for the winter months ahead\, but not too many to endanger the herd. And that brings us back to Yule\, the completion of one full turn on the Wheel of the Year and the beginning of another. \nMore Information
URL:https://multi-faithcalendar.org/events/samhain-pagan-3/
CATEGORIES:2024,Pagan
END:VEVENT
BEGIN:VEVENT
DTSTART;VALUE=DATE:20240922
DTEND;VALUE=DATE:20240923
DTSTAMP:20260424T100253
CREATED:20231228T202434Z
LAST-MODIFIED:20231228T202434Z
UID:2584-1726963200-1727049599@multi-faithcalendar.org
SUMMARY:Autumn Equinox - Mabon (Pagan)
DESCRIPTION:Autumn Equinox or Mabon is celebrated September 21st or 22nd. This is second harvest and is the witches Thanksgiving. This is a time of appreciation\, reflection\, and preparation for winter. \nMore Information
URL:https://multi-faithcalendar.org/events/autumn-equinox-mabon-pagan-3/
CATEGORIES:2024,Pagan
END:VEVENT
BEGIN:VEVENT
DTSTART;VALUE=DATE:20240801
DTEND;VALUE=DATE:20240802
DTSTAMP:20260424T100253
CREATED:20231228T194153Z
LAST-MODIFIED:20231228T194153Z
UID:2550-1722470400-1722556799@multi-faithcalendar.org
SUMMARY:Lammas (Pagan)
DESCRIPTION:Lammas also called Loafmas or Lughnassadh\, after a Celtic God Lugh\, is celebrated July 31st or August 1st. The days shorten but the weather is still warm. This is the first harvest and celebrates the grains harvested for the baking of bread. \nMore Information
URL:https://multi-faithcalendar.org/events/lammas-pagan-3/
CATEGORIES:2024,Pagan
END:VEVENT
BEGIN:VEVENT
DTSTART;VALUE=DATE:20240620
DTEND;VALUE=DATE:20240621
DTSTAMP:20260424T100253
CREATED:20231229T210838Z
LAST-MODIFIED:20231229T210838Z
UID:2680-1718841600-1718927999@multi-faithcalendar.org
SUMMARY:Summer Solstice (Pagan)
DESCRIPTION:Summer Solstice is celebrated June 21st or 22nd. It is also called Midsummer or Litha. This is the longest day and shortest night of the year. The sun is at maximum power. Themes here are growth\, fruitfulness\, abundance. From now on the days get shorter\, the nights longer. This is a good time for handfastings and honeymoons. \nMore Information
URL:https://multi-faithcalendar.org/events/summer-solstice-pagan-3/
CATEGORIES:2024,Pagan
END:VEVENT
BEGIN:VEVENT
DTSTART;VALUE=DATE:20240501
DTEND;VALUE=DATE:20240502
DTSTAMP:20260424T100253
CREATED:20241117T190052Z
LAST-MODIFIED:20241117T190052Z
UID:2816-1714521600-1714607999@multi-faithcalendar.org
SUMMARY:Beltane (Pagan)
DESCRIPTION:Beltane: is celebrated on May 1st halfway between Spring Equinox and Summer Solstice. It is the beginning of summer. Among pastoral people this was when the flocks and herds were moved from the lower winter pasture to the higher summer pasture. To ensure fertility\, the livestock was herded between two fires. This holiday celebrates fertility and sexuality. This is a time for fun and frolic. Jumping over the fire is part of the ritual. \nMore Information
URL:https://multi-faithcalendar.org/events/beltane-pagan-4/
CATEGORIES:2024,Pagan
END:VEVENT
BEGIN:VEVENT
DTSTART;VALUE=DATE:20240320
DTEND;VALUE=DATE:20240321
DTSTAMP:20260424T100253
CREATED:20231129T183218Z
LAST-MODIFIED:20231129T183218Z
UID:2416-1710892800-1710979199@multi-faithcalendar.org
SUMMARY:Ostara – Spring Equinox (Pagan)
DESCRIPTION:Spring Equinox or Ostara is celebrated March 21st or 22nd.  At the spring equinox\, the hours of daylight are exactly equal to the hours of night. It is the middle of spring. This holiday celebrates the blooming of the earth. It was named after the German goddess of spring\, Ostara\, known to the Anglo Saxons as Eostre\, whose symbols were the egg\, the rabbit\, and the chick. \nMore Information
URL:https://multi-faithcalendar.org/events/ostara-spring-equinox-pagan-4/
CATEGORIES:2024,Pagan
END:VEVENT
BEGIN:VEVENT
DTSTART;VALUE=DATE:20240201
DTEND;VALUE=DATE:20240202
DTSTAMP:20260424T100253
CREATED:20231112T182834Z
LAST-MODIFIED:20231112T183017Z
UID:2395-1706745600-1706831999@multi-faithcalendar.org
SUMMARY:Imbolg (Pagan)
DESCRIPTION:Imbolg falls on February 2nd midway between Winter Solstice and Spring Equinox. Imbolg is a Gaelic word that means “in the belly” and refers to the gestation of new lambs. This holiday celebrates the return of light. It is the beginning of spring. It is also known as St. Brigid’s day\, Brigid being a Celtic goddess of fire. Symbol: dairy products. \nMore information
URL:https://multi-faithcalendar.org/events/imbolg-pagan-4/
CATEGORIES:2024,Pagan
END:VEVENT
BEGIN:VEVENT
DTSTART;VALUE=DATE:20231221
DTEND;VALUE=DATE:20240102
DTSTAMP:20260424T100253
CREATED:20230925T112837Z
LAST-MODIFIED:20230925T112837Z
UID:2360-1703116800-1704153599@multi-faithcalendar.org
SUMMARY:Yule (Pagan)
DESCRIPTION:Yule or Winter Solstice is celebrated around December 21st or 22nd and is the first pagan holiday celebrated after the ending of the old year. This is the longest night and shortest day of the year\, and most likely the oldest holiday known to humankind. It celebrates the birth of the sun – the Divine Child is born. Symbols: The Yule Log\, evergreen trees\, stars. \nMore Information
URL:https://multi-faithcalendar.org/events/yule-pagan-3/
CATEGORIES:2023,Pagan
END:VEVENT
BEGIN:VEVENT
DTSTART;VALUE=DATE:20231031
DTEND;VALUE=DATE:20231102
DTSTAMP:20260424T100253
CREATED:20230120T122644Z
LAST-MODIFIED:20230120T122644Z
UID:2318-1698710400-1698883199@multi-faithcalendar.org
SUMMARY:Samhain (Pagan)
DESCRIPTION:Samhain is celebrated October 31st. This is the third harvest when all crops should be in.  Anything not harvested was left in the fields. Samhain is a Gaelic word that means “Summer’s End”\, so Samhain was the beginning of winter. For the Celtic people of Europe and the British Isles\, this was the end of the year as they began and ended their calendar with Samhain. So\, for Pagans\, it is New Year’s Eve. Samhain is also known as “the day between the years.” The day before Samhain was the last day of the old year\, and the day after Samhain is the first day of the new year\, so Samhain itself is literally the day between the years. Being between the years was a very magical time when the veils between past\, present\, and future may be lifted. It was a time of no time\, when order and structure were abolished\, and chaos could reign. For three days\, because all Celtic holidays lasted for three days\, men dressed as women\, and women as men\, children knocked on neighbor’s doors for food and treats\, practical jokes were pulled. For pastoral people Samhain was when the herds and flocks were moved to the lower winter pastures\, and when the herds were culled and animals slaughtered – a time of great anxiety – for it was necessary to slaughter enough to provide meat for the winter months ahead\, but not too many to endanger the herd. And that brings us back to Yule\, the completion of one full turn on the Wheel of the Year and the beginning of another. \nMore Information
URL:https://multi-faithcalendar.org/events/samhain-pagan-2/
CATEGORIES:2023,Pagan
END:VEVENT
BEGIN:VEVENT
DTSTART;VALUE=DATE:20230923
DTEND;VALUE=DATE:20230924
DTSTAMP:20260424T100253
CREATED:20221221T201816Z
LAST-MODIFIED:20221221T201816Z
UID:2279-1695427200-1695513599@multi-faithcalendar.org
SUMMARY:Autumn Equinox - Mabon (Pagan)
DESCRIPTION:Autumn Equinox or Mabon is celebrated September 21st or 22nd. This is second harvest and is the witches Thanksgiving. This is a time of appreciation\, reflection\, and preparation for winter. \nMore Information
URL:https://multi-faithcalendar.org/events/autumn-equinox-mabon-pagan-2/
CATEGORIES:2023,Pagan
END:VEVENT
BEGIN:VEVENT
DTSTART;VALUE=DATE:20230801
DTEND;VALUE=DATE:20230802
DTSTAMP:20260424T100253
CREATED:20221221T192415Z
LAST-MODIFIED:20221221T192415Z
UID:2247-1690848000-1690934399@multi-faithcalendar.org
SUMMARY:Lammas (Pagan)
DESCRIPTION:Lammas also called Loafmas or Lughnassadh\, after a Celtic God Lugh\, is celebrated July 31st or August 1st. The days shorten but the weather is still warm. This is the first harvest and celebrates the grains harvested for the baking of bread. \nMore Information
URL:https://multi-faithcalendar.org/events/lammas-pagan-2/
CATEGORIES:2023,Pagan
END:VEVENT
BEGIN:VEVENT
DTSTART;VALUE=DATE:20230621
DTEND;VALUE=DATE:20230622
DTSTAMP:20260424T100253
CREATED:20221221T170008Z
LAST-MODIFIED:20221221T170008Z
UID:2215-1687305600-1687391999@multi-faithcalendar.org
SUMMARY:Summer Solstice (Pagan)
DESCRIPTION:Summer Solstice is celebrated June 21st or 22nd. It is also called Midsummer or Litha. This is the longest day and shortest night of the year. The sun is at maximum power. Themes here are growth\, fruitfulness\, abundance. From now on the days get shorter\, the nights longer. This is a good time for handfastings and honeymoons. \nMore Information
URL:https://multi-faithcalendar.org/events/summer-solstice-pagan-2/
CATEGORIES:2023,Pagan
END:VEVENT
BEGIN:VEVENT
DTSTART;VALUE=DATE:20230501
DTEND;VALUE=DATE:20230502
DTSTAMP:20260424T100253
CREATED:20221221T155901Z
LAST-MODIFIED:20221221T155901Z
UID:2165-1682899200-1682985599@multi-faithcalendar.org
SUMMARY:Beltane (Pagan)
DESCRIPTION:Beltane: is celebrated on May 1st halfway between Spring Equinox and Summer Solstice. It is the beginning of summer. Among pastoral people this was when the flocks and herds were moved from the lower winter pasture to the higher summer pasture. To ensure fertility\, the livestock was herded between two fires. This holiday celebrates fertility and sexuality. This is a time for fun and frolic. Jumping over the fire is part of the ritual. \nMore Information
URL:https://multi-faithcalendar.org/events/beltane-pagan-2/
CATEGORIES:2023,Pagan
END:VEVENT
BEGIN:VEVENT
DTSTART;VALUE=DATE:20230320
DTEND;VALUE=DATE:20230321
DTSTAMP:20260424T100253
CREATED:20221219T191607Z
LAST-MODIFIED:20221219T191607Z
UID:2098-1679270400-1679356799@multi-faithcalendar.org
SUMMARY:Ostara – Spring Equinox (Pagan)
DESCRIPTION:Spring Equinox or Ostara is celebrated March 21st or 22nd.  At the spring equinox\, the hours of daylight are exactly equal to the hours of night. It is the middle of spring. This holiday celebrates the blooming of the earth. It was named after the German goddess of spring\, Ostara\, known to the Anglo Saxons as Eostre\, whose symbols were the egg\, the rabbit\, and the chick. \nMore Information
URL:https://multi-faithcalendar.org/events/ostara-spring-equinox-pagan-3/
CATEGORIES:2023,Pagan
END:VEVENT
BEGIN:VEVENT
DTSTART;VALUE=DATE:20230202
DTEND;VALUE=DATE:20230203
DTSTAMP:20260424T100253
CREATED:20221208T101334Z
LAST-MODIFIED:20221208T101334Z
UID:2065-1675296000-1675382399@multi-faithcalendar.org
SUMMARY:Imbolg (Pagan)
DESCRIPTION:Imbolg falls on February 2nd midway between Winter Solstice and Spring Equinox. Imbolg is a Gaelic word that means “in the belly” and refers to the gestation of new lambs. This holiday celebrates the return of light. It is the beginning of spring. It is also known as St. Brigid’s day\, Brigid being a Celtic goddess of fire. Symbol: dairy products. \nMore information
URL:https://multi-faithcalendar.org/events/imbolg-pagan-3/
CATEGORIES:2023,Pagan
END:VEVENT
BEGIN:VEVENT
DTSTART;VALUE=DATE:20221221
DTEND;VALUE=DATE:20221222
DTSTAMP:20260424T100253
CREATED:20211205T150438Z
LAST-MODIFIED:20211205T150438Z
UID:1948-1671580800-1671667199@multi-faithcalendar.org
SUMMARY:Yule (Pagan)
DESCRIPTION:Yule or Winter Solstice is celebrated around December 21st or 22nd and is the first pagan holiday celebrated after the ending of the old year. This is the longest night and shortest day of the year\, and most likely the oldest holiday known to humankind. It celebrates the birth of the sun – the Divine Child is born. Symbols: The Yule Log\, evergreen trees\, stars. \nMore Information
URL:https://multi-faithcalendar.org/events/yule-pagan-2/
CATEGORIES:2022,Pagan
END:VEVENT
BEGIN:VEVENT
DTSTART;VALUE=DATE:20221031
DTEND;VALUE=DATE:20221101
DTSTAMP:20260424T100253
CREATED:20210113T164327Z
LAST-MODIFIED:20211114T181419Z
UID:1429-1667174400-1667260799@multi-faithcalendar.org
SUMMARY:Samhain (Pagan)
DESCRIPTION:Samhain is celebrated October 31st. This is the third harvest when all crops should be in.  Anything not harvested was left in the fields. Samhain is a Gaelic word that means “Summer’s End”\, so Samhain was the beginning of winter. For the Celtic people of Europe and the British Isles\, this was the end of the year as they began and ended their calendar with Samhain. So\, for Pagans\, it is New Year’s Eve. Samhain is also known as “the day between the years.” The day before Samhain was the last day of the old year\, and the day after Samhain is the first day of the new year\, so Samhain itself is literally the day between the years. Being between the years was a very magical time when the veils between past\, present\, and future may be lifted. It was a time of no time\, when order and structure were abolished\, and chaos could reign. For three days\, because all Celtic holidays lasted for three days\, men dressed as women\, and women as men\, children knocked on neighbor’s doors for food and treats\, practical jokes were pulled. For pastoral people Samhain was when the herds and flocks were moved to the lower winter pastures\, and when the herds were culled and animals slaughtered – a time of great anxiety – for it was necessary to slaughter enough to provide meat for the winter months ahead\, but not too many to endanger the herd. And that brings us back to Yule\, the completion of one full turn on the Wheel of the Year and the beginning of another. \nMore Information
URL:https://multi-faithcalendar.org/events/samhain-pagan/
CATEGORIES:2022,Pagan
END:VEVENT
BEGIN:VEVENT
DTSTART;VALUE=DATE:20220922
DTEND;VALUE=DATE:20220923
DTSTAMP:20260424T100253
CREATED:20210113T164154Z
LAST-MODIFIED:20211114T173234Z
UID:1427-1663804800-1663891199@multi-faithcalendar.org
SUMMARY:Autumn Equinox - Mabon (Pagan)
DESCRIPTION:Autumn Equinox or Mabon is celebrated September 21st or 22nd. This is second harvest and is the witches Thanksgiving. This is a time of appreciation\, reflection\, and preparation for winter. \nMore Information
URL:https://multi-faithcalendar.org/events/autumn-equinox-mabon-pagan/
CATEGORIES:2022,Pagan
END:VEVENT
BEGIN:VEVENT
DTSTART;VALUE=DATE:20220801
DTEND;VALUE=DATE:20220802
DTSTAMP:20260424T100253
CREATED:20210113T164030Z
LAST-MODIFIED:20211114T164853Z
UID:1425-1659312000-1659398399@multi-faithcalendar.org
SUMMARY:Lammas (Pagan)
DESCRIPTION:Lammas also called Loafmas or Lughnassadh\, after a Celtic God Lugh\, is celebrated July 31st or August 1st. The days shorten but the weather is still warm. This is the first harvest and celebrates the grains harvested for the baking of bread. \nMore Information
URL:https://multi-faithcalendar.org/events/lammas-pagan/
CATEGORIES:2022,Pagan
END:VEVENT
END:VCALENDAR