BEGIN:VCALENDAR
VERSION:2.0
PRODID:-//Cincy MultiFaith Calendar - ECPv6.15.1.1//NONSGML v1.0//EN
CALSCALE:GREGORIAN
METHOD:PUBLISH
X-WR-CALNAME:Cincy MultiFaith Calendar
X-ORIGINAL-URL:https://multi-faithcalendar.org
X-WR-CALDESC:Events for Cincy MultiFaith Calendar
REFRESH-INTERVAL;VALUE=DURATION:PT1H
X-Robots-Tag:noindex
X-PUBLISHED-TTL:PT1H
BEGIN:VTIMEZONE
TZID:America/New_York
BEGIN:DAYLIGHT
TZOFFSETFROM:-0500
TZOFFSETTO:-0400
TZNAME:EDT
DTSTART:20250309T070000
END:DAYLIGHT
BEGIN:STANDARD
TZOFFSETFROM:-0400
TZOFFSETTO:-0500
TZNAME:EST
DTSTART:20251102T060000
END:STANDARD
END:VTIMEZONE
BEGIN:VEVENT
DTSTART;VALUE=DATE:20251031
DTEND;VALUE=DATE:20251105
DTSTAMP:20260424T212111
CREATED:20241217T185525Z
LAST-MODIFIED:20241217T185525Z
UID:2972-1761868800-1762300799@multi-faithcalendar.org
SUMMARY:1984 Anti-Sikh Pogrom (Sikh)
DESCRIPTION:Over the course of three days\, 8\,000 – 17\,000 Sikhs were killed and about 50\,000 were displaced after Prime Minister Indira Gandhi was killed by her two Sikh bodyguards on October 31\, 1984. Upon public knowledge of her death\, Indian citizens (primarily Hindu nationalists) determinedly murdered\, raped\, burned\, and tortured innocent Sikhs in more than 100 cities in 18 states across India. Government officials in Delhi handed out weapons and even fuel and ordered residents to attack and kill Sikhs. Even police and army personnel stepped aside letting mobs run wild beating and burning Sikhs alive in the streets. The Indian government has yet to recognize these events as state sanctioned killing and genocide. After decades of advocacy and pursuit of justice\, one then member of the Indian government\, Sajjan Kumar\, was sentenced for his role in these crimes against humanity. These recent assaults on the community have shocked and greatly impacted the collective conscience. \nMore Information:\nPublications\nIndia: No Justice for 1984 Anti-Sikh Bloodshed\n \nStudents and/or Co-Workers may visit their local Gurdwara at some point during the day
URL:https://multi-faithcalendar.org/events/1984-anti-sikh-pogrom-sikh-3/
CATEGORIES:2025,Sikh
END:VEVENT
BEGIN:VEVENT
DTSTART;VALUE=DATE:20251105
DTEND;VALUE=DATE:20251106
DTSTAMP:20260424T212111
CREATED:20241217T190423Z
LAST-MODIFIED:20241217T190423Z
UID:2984-1762300800-1762387199@multi-faithcalendar.org
SUMMARY:Birth of Guru Nanak (1st Guru & Founder) (Sikh)
DESCRIPTION:“Guru Nanak came to this world in 1469 in the then-Punjab region and was the founder of Sikhism. Guru Nanak was a divinely appointed Master. His teachings are not for a particular age. His thoughts and sayings are timeless.In the person of Guru Nanak\, we meet with an unparalleled completeness of religious life.Guru Nanak was a philosopher and prophet in one. His soul soared to celestial heights and brought from there armloads of Amrit\, the divine food for our souls.Guru was a perfect Yogi and ideal householder. For the whole of his life\, he worked for the good of others. He was a gifted\, far‐sighted reformer\, who advocated on behalf of the socially depressed\, attacking the economic and political problems of his day. Through his Langar\, no distinction of caste\, race\, or creed was ever observed. Such is the ideal organization which Guru Nanak designed for human society. He ever dwelt in God\, and God ever dwelt in him. Guru Nanak was for the whole world. He conveyed his message of Love\, Service\, and Worship to all people of all places. And everywhere\, he succeeded in lighting the holy flame in the hearts of the people.” \nMore Information \nHoliday Greeting: “Vadhaaiaa Ji” – Congratulations! \nStudents and/or Co-Workers may visit their local Gurdwara at some point during the day.
URL:https://multi-faithcalendar.org/events/birth-of-guru-nanak-1st-guru-founder-sikh-5/
CATEGORIES:2025,Sikh
END:VEVENT
BEGIN:VEVENT
DTSTART;VALUE=DATE:20251124
DTEND;VALUE=DATE:20251125
DTSTAMP:20260424T212112
CREATED:20241217T190707Z
LAST-MODIFIED:20241217T190707Z
UID:2990-1763942400-1764028799@multi-faithcalendar.org
SUMMARY:Martrydom of Guru Tegh Bahadur (9th Guru) (Sikh)
DESCRIPTION:This day commemorates the martyrdom of Guru Tegh Bahadur Ji (1621-1675)\, the ninth of the Ten Sikh Gurus. He is remembered not only for his defense of the Sikh faith\, but also of Hinduism and of religious liberty\, the most fundamental human rights. \nMore Information
URL:https://multi-faithcalendar.org/events/martrydom-of-guru-tegh-bahadur-9th-guru-sikh-5/
CATEGORIES:2025,Sikh
END:VEVENT
END:VCALENDAR