BEGIN:VCALENDAR
VERSION:2.0
PRODID:-//Cincy MultiFaith Calendar - ECPv6.15.1.1//NONSGML v1.0//EN
CALSCALE:GREGORIAN
METHOD:PUBLISH
X-WR-CALNAME:Cincy MultiFaith Calendar
X-ORIGINAL-URL:https://multi-faithcalendar.org
X-WR-CALDESC:Events for Cincy MultiFaith Calendar
REFRESH-INTERVAL;VALUE=DURATION:PT1H
X-Robots-Tag:noindex
X-PUBLISHED-TTL:PT1H
BEGIN:VTIMEZONE
TZID:America/New_York
BEGIN:DAYLIGHT
TZOFFSETFROM:-0500
TZOFFSETTO:-0400
TZNAME:EDT
DTSTART:20260308T070000
END:DAYLIGHT
BEGIN:STANDARD
TZOFFSETFROM:-0400
TZOFFSETTO:-0500
TZNAME:EST
DTSTART:20261101T060000
END:STANDARD
END:VTIMEZONE
BEGIN:VEVENT
DTSTART;VALUE=DATE:20260502
DTEND;VALUE=DATE:20260503
DTSTAMP:20260424T151612
CREATED:20251105T002039Z
LAST-MODIFIED:20251105T002039Z
UID:3143-1777680000-1777766399@multi-faithcalendar.org
SUMMARY:Birth of Guru Arjan Sahib (5th Guru) (Sikh)
DESCRIPTION:The fifth Master\, Guru Arjan\, built the Golden Temple of Amritsar to emphasize that the Sikh way was open to all\, regardless of caste; the gurdwara was constructed with doors facing all four directions. He compiled the hymns of Sikh Gurus and created the Adi Granth – the foundation of the Guru Granth Sahib – and installed it. He was also the first Sikh Guru to be martyred. \nMore Information \nTraditional Greeting: “Vadhaaiaa Ji” – Congratulations!
URL:https://multi-faithcalendar.org/events/birth-of-guru-arjan-sahib-5th-guru-sikh-6/
CATEGORIES:2026,Sikh
END:VEVENT
BEGIN:VEVENT
DTSTART;VALUE=DATE:20260517
DTEND;VALUE=DATE:20260518
DTSTAMP:20260424T151612
CREATED:20251128T232655Z
LAST-MODIFIED:20251128T232655Z
UID:3158-1778976000-1779062399@multi-faithcalendar.org
SUMMARY:1746 Chhota Ghallughara (Sikh)
DESCRIPTION:The Chhota Ghallughara was the first massacre of Sikhs targeted to wipe out the entire population. Around 7\,000 Sikhs were killed\, 3\,000 were captured and later beheaded\, and the persecution lasted several decades. Gurdwaras were destroyed and scriptures were burnt. Anyone caught saying the word “Guru” was sentenced to death. \nMore Information \nStudents and/Co-Workers may visit their local Gurdwara at some point during the day
URL:https://multi-faithcalendar.org/events/1746-chhota-ghallughara-sikh-5/
CATEGORIES:2026,Sikh
END:VEVENT
END:VCALENDAR