BEGIN:VCALENDAR
VERSION:2.0
PRODID:-//Cincy MultiFaith Calendar - ECPv6.15.1.1//NONSGML v1.0//EN
CALSCALE:GREGORIAN
METHOD:PUBLISH
X-ORIGINAL-URL:https://multi-faithcalendar.org
X-WR-CALDESC:Events for Cincy MultiFaith Calendar
REFRESH-INTERVAL;VALUE=DURATION:PT1H
X-Robots-Tag:noindex
X-PUBLISHED-TTL:PT1H
BEGIN:VTIMEZONE
TZID:America/New_York
BEGIN:DAYLIGHT
TZOFFSETFROM:-0500
TZOFFSETTO:-0400
TZNAME:EDT
DTSTART:20250309T070000
END:DAYLIGHT
BEGIN:STANDARD
TZOFFSETFROM:-0400
TZOFFSETTO:-0500
TZNAME:EST
DTSTART:20251102T060000
END:STANDARD
END:VTIMEZONE
BEGIN:VEVENT
DTSTART;VALUE=DATE:20250407
DTEND;VALUE=DATE:20250409
DTSTAMP:20260425T193152
CREATED:20241117T182619Z
LAST-MODIFIED:20241117T182657Z
UID:2790-1743984000-1744156799@multi-faithcalendar.org
SUMMARY:Feast of Jalal / Glory (Baha'i)
DESCRIPTION:Wherever they live\, Baha’is gather every 19 days for what we call a Feast. Observance begins at midnight on April 7th. This is a members-only event comprising three parts: \n1. A spiritual portion that’s the time for prayer and reflection; \n2. A business portion for consultation about administrative issues (plans for forming classes\, organizing to perform community service\, observing holy days\, or any ideas or projects community members wish to discuss. It’s also a time when local members can ask their Local Assembly to forward their concerns to the National Assembly; \n3. A social portion that can consist of anything from just glasses of water to a full-course dinner.
URL:https://multi-faithcalendar.org/events/feast-of-jalal-glory-bahai-3/
CATEGORIES:2025,The Bahá’í Faith
END:VEVENT
BEGIN:VEVENT
DTSTART;VALUE=DATE:20250420
DTEND;VALUE=DATE:20250421
DTSTAMP:20260425T193152
CREATED:20241117T183628Z
LAST-MODIFIED:20241117T183628Z
UID:2802-1745107200-1745193599@multi-faithcalendar.org
SUMMARY:First Day of Ridvan (The Bahá’í Faith)
DESCRIPTION:1st Day of Festival of Ridvan-**(There are three holy Days as part of the Festival\, the first day\, the ninth and the twelfth.) The annual Baha’i Festival commemorates the 12 days when Baha’u’llah\, the founder of the Faith\, publicly proclaimed his mission as God’s messenger. Begins at sundown on April 19 and ends at sunset on April 20. \nHoliday Greeting: Happy Ridvan \nWork is to be suspended and children excused from school. \nMore Information
URL:https://multi-faithcalendar.org/events/first-day-of-ridvan-the-bahai-faith-4/
CATEGORIES:2025,April,The Bahá’í Faith
END:VEVENT
BEGIN:VEVENT
DTSTART;VALUE=DATE:20250426
DTEND;VALUE=DATE:20250428
DTSTAMP:20260425T193152
CREATED:20241117T184234Z
LAST-MODIFIED:20241117T184234Z
UID:2810-1745625600-1745798399@multi-faithcalendar.org
SUMMARY:Feast of Jamal/ Beauty (Baha'i)
DESCRIPTION:Wherever they live\, Baha’is gather every 19 days for what we call a Feast. Observance begins at midnight April 26. This is a members-only event comprising three parts: \n1. A spiritual portion that’s the time for prayer and reflection; \n2. A business portion for consultation about administrative issues (plans for forming classes\, organizing to perform community service\, observing holy days\, or any ideas or projects community members wish to discuss. It’s also a time when local members can ask their Local Assembly to forward their concerns to the National Assembly; \n3. A social portion that can consist of anything from just glasses of water to a full-course dinner.
URL:https://multi-faithcalendar.org/events/feast-of-jamal-beauty-bahai-3/
CATEGORIES:2025,The Bahá’í Faith
END:VEVENT
BEGIN:VEVENT
DTSTART;VALUE=DATE:20250428
DTEND;VALUE=DATE:20250430
DTSTAMP:20260425T193152
CREATED:20241117T184350Z
LAST-MODIFIED:20241117T184350Z
UID:2812-1745798400-1745971199@multi-faithcalendar.org
SUMMARY:9th Day of Festival of Ridvan -(The Bahá’í Faith)
DESCRIPTION:9th Day of Ridvan. There are three holy Days as part of the Festival\, the first day\, the ninth and the twelfth. The annual Baha’i Festival commemorates the 12 days when Baha’u’llah\, the founder of the Faith\, publicly proclaimed his mission as God’s messenger. \nHoliday Greeting: Happy Ridvan \nWork is to be suspended and children excused from school. \nhttps://en.wikipedia.org/wiki/Ridv%C3%A1n
URL:https://multi-faithcalendar.org/events/9th-day-of-festival-of-ridvan-the-bahai-faith-4/
CATEGORIES:2025,April,The Bahá’í Faith
END:VEVENT
BEGIN:VEVENT
DTSTART;VALUE=DATE:20250430
DTEND;VALUE=DATE:20250502
DTSTAMP:20260425T193152
CREATED:20241117T190221Z
LAST-MODIFIED:20241117T190221Z
UID:2818-1745971200-1746143999@multi-faithcalendar.org
SUMMARY:12th Day of the Festival of Ridvan (The Bahá’í Faith)
DESCRIPTION:12th Day of Ridvan. There are three holy Days as part of the Festival\, the first day\, the ninth and the twelfth. The annual Baha’i Festival commemorates the 12 days when Baha’u’llah\, the founder of the Faith\, publicly proclaimed his mission as God’s messenger. \nHoliday Greeting: Happy Ridvan \nWork is to be suspended and children excused from school. \nhttps://en.wikipedia.org/wiki/Ridv%C3%A1n
URL:https://multi-faithcalendar.org/events/12th-day-of-the-festival-of-ridvan-the-bahai-faith-4/
CATEGORIES:2025,The Bahá’í Faith
END:VEVENT
END:VCALENDAR