BEGIN:VCALENDAR
VERSION:2.0
PRODID:-//Cincy MultiFaith Calendar - ECPv6.15.1.1//NONSGML v1.0//EN
CALSCALE:GREGORIAN
METHOD:PUBLISH
X-ORIGINAL-URL:https://multi-faithcalendar.org
X-WR-CALDESC:Events for Cincy MultiFaith Calendar
REFRESH-INTERVAL;VALUE=DURATION:PT1H
X-Robots-Tag:noindex
X-PUBLISHED-TTL:PT1H
BEGIN:VTIMEZONE
TZID:America/New_York
BEGIN:DAYLIGHT
TZOFFSETFROM:-0500
TZOFFSETTO:-0400
TZNAME:EDT
DTSTART:20190310T070000
END:DAYLIGHT
BEGIN:STANDARD
TZOFFSETFROM:-0400
TZOFFSETTO:-0500
TZNAME:EST
DTSTART:20191103T060000
END:STANDARD
END:VTIMEZONE
BEGIN:VEVENT
DTSTART;VALUE=DATE:20191028
DTEND;VALUE=DATE:20191030
DTSTAMP:20260425T231639
CREATED:20191025T154331Z
LAST-MODIFIED:20191025T160832Z
UID:1039-1572220800-1572393599@multi-faithcalendar.org
SUMMARY:Birth of the Bab
DESCRIPTION:Twin Holy Birthdays: The Birth of the Báb  (October 20\, 1819) and the Birth of Bahá’u’lláh (November 12\, 1817) occurred on consecutive days according to the Islamic lunar calendar (1 and 2 Muharram\, respectively). However these dates have been adjusted to the Gregorian calendar. Baha’i dates begin and end at sunset. These Holy Days are celebrated on the first and second days of the eighth lunar month after Naw-Rúz\, and may fall as early as October 20-21 and as late as November 11-12. \nMore information on the Birth of Báb \nABOUT THE BAHÁ’Í CALENDAR AND HOLY DAYS\nThe Baha’i Faith has its own calendar\, called the Badí’ Calendar. It is a solar calendar consisting of 19 months of 19 days each (361 days)\, plus “Intercalary Days” (four in ordinary years and five in leap years) to adjust the calendar to the solar year. The days and months are named after the attributes of God. The Nineteen Day Feast\, the primary community gathering for Baha’is in each town and city\, is held on the first day of each Baha’i month. Eleven Holy Days mark significant events in Baha’i history.https://www.bahai.us/event/birth-of-the-bab-2/ – \nMore information on Baha’i Calendar
URL:https://multi-faithcalendar.org/events/birth-of-the-bab/
CATEGORIES:2019,October,The Bahá’í Faith
END:VEVENT
END:VCALENDAR