BEGIN:VCALENDAR
VERSION:2.0
PRODID:-//Cincy MultiFaith Calendar - ECPv6.15.1.1//NONSGML v1.0//EN
CALSCALE:GREGORIAN
METHOD:PUBLISH
X-WR-CALNAME:Cincy MultiFaith Calendar
X-ORIGINAL-URL:https://multi-faithcalendar.org
X-WR-CALDESC:Events for Cincy MultiFaith Calendar
REFRESH-INTERVAL;VALUE=DURATION:PT1H
X-Robots-Tag:noindex
X-PUBLISHED-TTL:PT1H
BEGIN:VTIMEZONE
TZID:America/New_York
BEGIN:DAYLIGHT
TZOFFSETFROM:-0500
TZOFFSETTO:-0400
TZNAME:EDT
DTSTART:20210314T070000
END:DAYLIGHT
BEGIN:STANDARD
TZOFFSETFROM:-0400
TZOFFSETTO:-0500
TZNAME:EST
DTSTART:20211107T060000
END:STANDARD
BEGIN:DAYLIGHT
TZOFFSETFROM:-0500
TZOFFSETTO:-0400
TZNAME:EDT
DTSTART:20220313T070000
END:DAYLIGHT
BEGIN:STANDARD
TZOFFSETFROM:-0400
TZOFFSETTO:-0500
TZNAME:EST
DTSTART:20221106T060000
END:STANDARD
BEGIN:DAYLIGHT
TZOFFSETFROM:-0500
TZOFFSETTO:-0400
TZNAME:EDT
DTSTART:20230312T070000
END:DAYLIGHT
BEGIN:STANDARD
TZOFFSETFROM:-0400
TZOFFSETTO:-0500
TZNAME:EST
DTSTART:20231105T060000
END:STANDARD
BEGIN:DAYLIGHT
TZOFFSETFROM:-0500
TZOFFSETTO:-0400
TZNAME:EDT
DTSTART:20240310T070000
END:DAYLIGHT
BEGIN:STANDARD
TZOFFSETFROM:-0400
TZOFFSETTO:-0500
TZNAME:EST
DTSTART:20241103T060000
END:STANDARD
BEGIN:DAYLIGHT
TZOFFSETFROM:-0500
TZOFFSETTO:-0400
TZNAME:EDT
DTSTART:20250309T070000
END:DAYLIGHT
BEGIN:STANDARD
TZOFFSETFROM:-0400
TZOFFSETTO:-0500
TZNAME:EST
DTSTART:20251102T060000
END:STANDARD
BEGIN:DAYLIGHT
TZOFFSETFROM:-0500
TZOFFSETTO:-0400
TZNAME:EDT
DTSTART:20260308T070000
END:DAYLIGHT
BEGIN:STANDARD
TZOFFSETFROM:-0400
TZOFFSETTO:-0500
TZNAME:EST
DTSTART:20261101T060000
END:STANDARD
END:VTIMEZONE
BEGIN:VEVENT
DTSTART;VALUE=DATE:20260422
DTEND;VALUE=DATE:20260423
DTSTAMP:20260424T130431
CREATED:20251105T002539Z
LAST-MODIFIED:20251105T002539Z
UID:3151-1776816000-1776902399@multi-faithcalendar.org
SUMMARY:Shankaracharya Birth Anniversary (Vedanta)
DESCRIPTION:This day marks the birth anniversary of Shankaracharya. Shankara taught nondualistic Vedanta and is revered. \nFor More Information: \nhttps://www.vedanta.gr/?page_id=1075 \n 
URL:https://multi-faithcalendar.org/events/shankaracharya-birth-anniversary-vedanta-4/
CATEGORIES:2026,Vedanta
END:VEVENT
BEGIN:VEVENT
DTSTART;VALUE=DATE:20250928
DTEND;VALUE=DATE:20251003
DTSTAMP:20260424T130431
CREATED:20241217T183415Z
LAST-MODIFIED:20241217T183415Z
UID:2950-1759017600-1759449599@multi-faithcalendar.org
SUMMARY:Durga Puja (Vedanta)
DESCRIPTION:Durga is one of the names of the Divine Mother  — the power of Brahman Absolute. \nLearn More: \nhttps://www.vedanet.com/the-meaning-of-durga/
URL:https://multi-faithcalendar.org/events/durga-puja-vedanta-4/
CATEGORIES:2025,Vedanta
END:VEVENT
BEGIN:VEVENT
DTSTART;VALUE=DATE:20250710
DTEND;VALUE=DATE:20250711
DTSTAMP:20260424T130431
CREATED:20241217T171226Z
LAST-MODIFIED:20241217T171226Z
UID:2881-1752105600-1752191999@multi-faithcalendar.org
SUMMARY:Guru Purnima Honoring Line of Teachers (Vedanta)
DESCRIPTION:July 3rd marks the Guru Purnima Honoring Line of Teachers in the Vedanta tradition. \nLearn More: \nhttps://www.vedanet.com/guru-purnima-spreading-the-message-of-indias-gurus/
URL:https://multi-faithcalendar.org/events/guru-purnima-honoring-line-of-teachers-vedanta-4/
CATEGORIES:2025,Vedanta
END:VEVENT
BEGIN:VEVENT
DTSTART;VALUE=DATE:20250704
DTEND;VALUE=DATE:20250705
DTSTAMP:20260424T130431
CREATED:20241217T171849Z
LAST-MODIFIED:20241217T171849Z
UID:2883-1751587200-1751673599@multi-faithcalendar.org
SUMMARY:Annual Tribute to Vivekananda (Vedanta)
DESCRIPTION:July 4th marks the annual tribute to Vivekananda. \nLearn More: \nhttps://vedantasociety.net/vivekananda
URL:https://multi-faithcalendar.org/events/annual-tribute-to-vivekananda-vedanta-4/
CATEGORIES:2025,Hindu,Vedanta
END:VEVENT
BEGIN:VEVENT
DTSTART;VALUE=DATE:20250501
DTEND;VALUE=DATE:20250502
DTSTAMP:20260424T130431
CREATED:20241117T191811Z
LAST-MODIFIED:20241117T191811Z
UID:2832-1746057600-1746143999@multi-faithcalendar.org
SUMMARY:Shankaracharya Birth Anniversary (Vedanta)
DESCRIPTION:This day marks the birth anniversary of Shankaracharya. Shankara taught nondualistic Vedanta and is revered. \nFor More Information: \nhttps://www.vedanta.gr/?page_id=1075 \n 
URL:https://multi-faithcalendar.org/events/shankaracharya-birth-anniversary-vedanta-3/
CATEGORIES:2024,Vedanta
END:VEVENT
BEGIN:VEVENT
DTSTART;VALUE=DATE:20241009
DTEND;VALUE=DATE:20241014
DTSTAMP:20260424T130431
CREATED:20231228T204644Z
LAST-MODIFIED:20231228T204644Z
UID:2608-1728432000-1728863999@multi-faithcalendar.org
SUMMARY:Durga Puja (Vedanta)
DESCRIPTION:Durga is one of the names of the Divine Mother  — the power of Brahman Absolute. \nLearn More: \nhttps://www.vedanet.com/the-meaning-of-durga/
URL:https://multi-faithcalendar.org/events/durga-puja-vedanta-3/
CATEGORIES:2024,Vedanta
END:VEVENT
BEGIN:VEVENT
DTSTART;VALUE=DATE:20240704
DTEND;VALUE=DATE:20240705
DTSTAMP:20260424T130431
CREATED:20231228T192556Z
LAST-MODIFIED:20231228T192556Z
UID:2530-1720051200-1720137599@multi-faithcalendar.org
SUMMARY:Annual Tribute to Vivekananda (Vedanta)
DESCRIPTION:July 4th marks the annual tribute to Vivekananda. \nLearn More: \nhttps://vedantasociety.net/vivekananda
URL:https://multi-faithcalendar.org/events/annual-tribute-to-vivekananda-vedanta-3/
CATEGORIES:2024,Vedanta
END:VEVENT
BEGIN:VEVENT
DTSTART;VALUE=DATE:20240703
DTEND;VALUE=DATE:20240704
DTSTAMP:20260424T130431
CREATED:20231228T192257Z
LAST-MODIFIED:20231228T192322Z
UID:2526-1719964800-1720051199@multi-faithcalendar.org
SUMMARY:Guru Purnima Honoring Line of Teachers (Vedanta)
DESCRIPTION:July 3rd marks the Guru Purnima Honoring Line of Teachers in the Vedanta tradition. \nLearn More: \nhttps://www.vedanet.com/guru-purnima-spreading-the-message-of-indias-gurus/
URL:https://multi-faithcalendar.org/events/guru-purnima-honoring-line-of-teachers-vedanta-3/
CATEGORIES:2024,Vedanta
END:VEVENT
BEGIN:VEVENT
DTSTART;VALUE=DATE:20240512
DTEND;VALUE=DATE:20240513
DTSTAMP:20260424T130431
CREATED:20231226T131414Z
LAST-MODIFIED:20231226T131434Z
UID:2481-1715472000-1715558399@multi-faithcalendar.org
SUMMARY:Shankaracharya Birth Anniversary (Vedanta)
DESCRIPTION:This day marks the birth anniversary of Shankaracharya. Shankara taught nondualistic Vedanta and is revered. \nFor More Information: \nhttps://www.vedanta.gr/?page_id=1075 \n 
URL:https://multi-faithcalendar.org/events/shankaracharya-birth-anniversary-vedanta-2/
CATEGORIES:2024,Vedanta
END:VEVENT
BEGIN:VEVENT
DTSTART;VALUE=DATE:20231020
DTEND;VALUE=DATE:20231025
DTSTAMP:20260424T130431
CREATED:20230120T115835Z
LAST-MODIFIED:20230120T115835Z
UID:2288-1697760000-1698191999@multi-faithcalendar.org
SUMMARY:Durga Puja (Vedanta)
DESCRIPTION:Durga is one of the names of the Divine Mother  — the power of Brahman Absolute. \nLearn More: \nhttps://www.vedanet.com/the-meaning-of-durga/
URL:https://multi-faithcalendar.org/events/durga-puja-vedanta-2/
CATEGORIES:2023,Vedanta
END:VEVENT
BEGIN:VEVENT
DTSTART;VALUE=DATE:20230704
DTEND;VALUE=DATE:20230705
DTSTAMP:20260424T130431
CREATED:20221221T185309Z
LAST-MODIFIED:20221221T185309Z
UID:2223-1688428800-1688515199@multi-faithcalendar.org
SUMMARY:Annual Tribute to Vivekananda (Vedanta)
DESCRIPTION:July 4th marks the annual tribute to Vivekananda. \nLearn More: \nhttps://vedantasociety.net/vivekananda
URL:https://multi-faithcalendar.org/events/annual-tribute-to-vivekananda-vedanta-2/
CATEGORIES:2023,Vedanta
END:VEVENT
BEGIN:VEVENT
DTSTART;VALUE=DATE:20230703
DTEND;VALUE=DATE:20230704
DTSTAMP:20260424T130431
CREATED:20221221T185855Z
LAST-MODIFIED:20230630T141827Z
UID:2229-1688342400-1688428799@multi-faithcalendar.org
SUMMARY:Guru Purnima Honoring Line of Teachers (Vedanta)
DESCRIPTION:July 3rd marks the Guru Purnima Honoring Line of Teachers in the Vedanta tradition. \nLearn More: \nhttps://www.vedanet.com/guru-purnima-spreading-the-message-of-indias-gurus/
URL:https://multi-faithcalendar.org/events/guru-purnima-honoring-line-of-teachers-vedanta-2/
CATEGORIES:2023,Vedanta
END:VEVENT
BEGIN:VEVENT
DTSTART;VALUE=DATE:20230425
DTEND;VALUE=DATE:20230426
DTSTAMP:20260424T130431
CREATED:20221221T161532Z
LAST-MODIFIED:20221221T161532Z
UID:2185-1682380800-1682467199@multi-faithcalendar.org
SUMMARY:Shankaracharya Birth Anniversary (Vedanta)
DESCRIPTION:May 17th marks the birth anniversary of Shankaracharya. Shankara taught nondualistic Vedanta and is revered. \nFor More Information: \nhttps://www.vedanta.gr/?page_id=1075 \n 
URL:https://multi-faithcalendar.org/events/shankaracharya-birth-anniversary-vedanta/
CATEGORIES:2023,Vedanta
END:VEVENT
BEGIN:VEVENT
DTSTART;VALUE=DATE:20221226
DTEND;VALUE=DATE:20221227
DTSTAMP:20260424T130431
CREATED:20211205T151806Z
LAST-MODIFIED:20211205T151806Z
UID:1952-1672012800-1672099199@multi-faithcalendar.org
SUMMARY:Sri Sarada Devi Birth Anniversary (Vedanta)
DESCRIPTION:December 26th marks the birth anniversary of Sri Sarada Devi. Sarada Devi was the spiritual consort of Ramakrishna. \nLearn More: \nSri Sarada Devi
URL:https://multi-faithcalendar.org/events/sri-sarada-devi-birth-anniversary-vedanta/
CATEGORIES:2022,Vedanta
END:VEVENT
BEGIN:VEVENT
DTSTART;VALUE=DATE:20221001
DTEND;VALUE=DATE:20221002
DTSTAMP:20260424T130431
CREATED:20210309T180405Z
LAST-MODIFIED:20211114T180545Z
UID:1595-1664582400-1664668799@multi-faithcalendar.org
SUMMARY:Durga Puja (Vedanta)
DESCRIPTION:Durga is one of the names of the Divine Mother  — the power of Brahman Absolute. \nLearn More: \nhttps://www.vedanet.com/the-meaning-of-durga/
URL:https://multi-faithcalendar.org/events/durga-puja-vedanta/
CATEGORIES:2022,Vedanta
END:VEVENT
BEGIN:VEVENT
DTSTART;VALUE=DATE:20220724
DTEND;VALUE=DATE:20220725
DTSTAMP:20260424T130431
CREATED:20210309T180146Z
LAST-MODIFIED:20211114T164753Z
UID:1593-1658620800-1658707199@multi-faithcalendar.org
SUMMARY:Guru Purnima Honoring Line of Teachers (Vedanta)
DESCRIPTION:July 24th marks the Guru Purnima Honoring Line of Teachers in the Vedanta tradition. \nLearn More: \nhttps://www.vedanet.com/guru-purnima-spreading-the-message-of-indias-gurus/
URL:https://multi-faithcalendar.org/events/guru-purnima-honoring-line-of-teachers-vedanta/
CATEGORIES:2022,Vedanta
END:VEVENT
BEGIN:VEVENT
DTSTART;VALUE=DATE:20220704
DTEND;VALUE=DATE:20220705
DTSTAMP:20260424T130431
CREATED:20210309T175953Z
LAST-MODIFIED:20211114T163325Z
UID:1591-1656892800-1656979199@multi-faithcalendar.org
SUMMARY:Annual Tribute to Vivekananda (Vedanta)
DESCRIPTION:July 4th marks the annual tribute to Vivekananda. \nLearn More: \nhttps://vedantasociety.net/vivekananda
URL:https://multi-faithcalendar.org/events/annual-tribute-to-vivekananda-vedanta/
CATEGORIES:2022,Vedanta
END:VEVENT
BEGIN:VEVENT
DTSTART;VALUE=DATE:20220517
DTEND;VALUE=DATE:20220518
DTSTAMP:20260424T130431
CREATED:20210309T175650Z
LAST-MODIFIED:20211113T203641Z
UID:1587-1652745600-1652831999@multi-faithcalendar.org
SUMMARY:Shankaracharya Birth Anniversary (Vedanta)
DESCRIPTION:May 17th marks the birth anniversary of Shankaracharya. Shankara taught nondualistic Vedanta and is revered. \nFor More Information: \nhttps://www.vedanta.gr/?page_id=1075 \n 
URL:https://multi-faithcalendar.org/events/shankaracharya-birth-anniv-vedanta/
CATEGORIES:2022,Vedanta
END:VEVENT
BEGIN:VEVENT
DTSTART;VALUE=DATE:20211226
DTEND;VALUE=DATE:20211227
DTSTAMP:20260424T130431
CREATED:20210309T180540Z
LAST-MODIFIED:20210309T180540Z
UID:1597-1640476800-1640563199@multi-faithcalendar.org
SUMMARY:Sri Sarada Devi Birth Anniv (Vedanta)
DESCRIPTION:December 26th marks the birth anniversary of Sri Sarada Devi. Sarada Devi was the spiritual consort of Ramakrishna. \nLearn More: \nSri Sarada Devi
URL:https://multi-faithcalendar.org/events/sri-sarada-devi-birth-anniv-vedanta/
CATEGORIES:2021,Vedanta
END:VEVENT
BEGIN:VEVENT
DTSTART;VALUE=DATE:20210315
DTEND;VALUE=DATE:20210316
DTSTAMP:20260424T130431
CREATED:20210309T175321Z
LAST-MODIFIED:20210309T175803Z
UID:1585-1615766400-1615852799@multi-faithcalendar.org
SUMMARY:Sri Ramakrishna Birth Anniv (Vedanta)
DESCRIPTION:March 15th marks the birth anniversary of Sri Ramakrishna. Ramakrishna (1836-1886) is regarded as an incarnation of God. \nFor More Information: \nSri Ramakrishna
URL:https://multi-faithcalendar.org/events/sri-ramakrishna-birth-anniv-vedanta/
CATEGORIES:2021,Vedanta
END:VEVENT
END:VCALENDAR