BEGIN:VCALENDAR
VERSION:2.0
PRODID:-//Cincy MultiFaith Calendar - ECPv6.15.1.1//NONSGML v1.0//EN
CALSCALE:GREGORIAN
METHOD:PUBLISH
X-WR-CALNAME:Cincy MultiFaith Calendar
X-ORIGINAL-URL:https://multi-faithcalendar.org
X-WR-CALDESC:Events for Cincy MultiFaith Calendar
REFRESH-INTERVAL;VALUE=DURATION:PT1H
X-Robots-Tag:noindex
X-PUBLISHED-TTL:PT1H
BEGIN:VTIMEZONE
TZID:America/New_York
BEGIN:DAYLIGHT
TZOFFSETFROM:-0500
TZOFFSETTO:-0400
TZNAME:EDT
DTSTART:20250309T070000
END:DAYLIGHT
BEGIN:STANDARD
TZOFFSETFROM:-0400
TZOFFSETTO:-0500
TZNAME:EST
DTSTART:20251102T060000
END:STANDARD
END:VTIMEZONE
BEGIN:VEVENT
DTSTART;VALUE=DATE:20250408
DTEND;VALUE=DATE:20250409
DTSTAMP:20260425T151016
CREATED:20241117T182855Z
LAST-MODIFIED:20241117T182855Z
UID:2792-1744070400-1744156799@multi-faithcalendar.org
SUMMARY:Jashan-e Fravardegan (Zoroastrian)
DESCRIPTION:Jashan-e Fravardegan is a celebration ceremony\, a Jashan\, performed on Fravardin day of\nFravardin month\, in honor of fravashis\, the souls of all the righteous people who have ever lived in our world. In Zoroastrianism\, we have special prayers dedicated to honoring and remembering with respect and love the souls of our beloved departed as well as all the righteous souls in the universe.\nRighteous people with their righteous actions throughout their lives help in progressing our world further. Hence\, in this Jashan especially\, we show our respect to all such righteous souls who have helped in the progress of our world so far\, and we seek their blessings so we too can follow in their footsteps and perform righteous actions to further the progress of our world in our lifetime.
URL:https://multi-faithcalendar.org/events/jashan-e-fravardegan-zoroastrian-4/
CATEGORIES:2025,Zoroastrian
END:VEVENT
BEGIN:VEVENT
DTSTART;VALUE=DATE:20250422
DTEND;VALUE=DATE:20250423
DTSTAMP:20260425T151016
CREATED:20241117T183943Z
LAST-MODIFIED:20241117T183943Z
UID:2806-1745280000-1745366399@multi-faithcalendar.org
SUMMARY:Jashan-e Ardavahisht (Zoroastrian)
DESCRIPTION:Jashan-e Ardavahisht is a celebration ceremony\, a Jashan\, performed on Ardibehest day of\nArdibehest month\, in honor of Ardavahisht or Ardibehest\, a Pehlavi name derived from the ancient Avestan term “Asha Vahishta” from the Gathas of Zarathushtra. Asha stands for “truth\, order\, righteousness.” Vahishta means ‘the Best’ or ‘the Highest’. So\, Asha Vahishta is the Best or the Highest Righteousness which Zarathushtra attributes to Ahura Mazda. Asha is the universal law of righteous precision. It may best be explained by stating that it means “to do the right thing\, at the right time\, in the right place\, and with the right means in order to attain the right result.” It should result in constructive and loving good not only for oneself but also for one’s fellow creatures and for God. It is the positive\, beneficial and unselfish precision par excellence. In later Zoroastrian religious history\,\nthe wise men/priests associated Ardavahisht with being the steward/guardian of all those forces that give light\, and warmth to our world. To us\, Fire is that symbol of light and warmth\, and represents God’s Righteousness to us\, that’s why a Zoroastrian prefers to pray in front of any form of light. In our temples\, the priest keeps an eternal Fire burning on a large urn\, adding wood to it five times a day. That holy fire in our temples serves as the medium of one’s concentration and communication with God. Zoroastrians are wrongly believed by many as Fire-Worshippers\, when in fact\, Fire is an element of great reverence to a Zoroastrian and reminds her/him of God’s Righteousness\, and is beneficial to have in some form in front of the devotee\, to use as a medium of meditative focus and\nconcentration\, as the devotee worships God/communicates with God\, through her/his prayers.
URL:https://multi-faithcalendar.org/events/jashan-e-ardavahisht-zoroastrian-4/
CATEGORIES:2025,Zoroastrian
END:VEVENT
BEGIN:VEVENT
DTSTART;VALUE=DATE:20250430
DTEND;VALUE=DATE:20250505
DTSTAMP:20260425T151016
CREATED:20241117T185921Z
LAST-MODIFIED:20241117T185921Z
UID:2814-1745971200-1746403199@multi-faithcalendar.org
SUMMARY:Maidyozarem Gahambar (Zoroastrian)
DESCRIPTION:Maidyozarem (literally: midgreening) Gahambar is a seasonal festival celebrated in mid-spring. It is considered a religious duty to participate in a communal jashan prayer ceremony; as well as\, fraternize and share a simple meal with fellow co-religionists from all walks of life\, rich and poor. \nMore Information
URL:https://multi-faithcalendar.org/events/maidyozarem-gahambar-zoroastrian-4/
CATEGORIES:2025,April,May,Zoroastrian
END:VEVENT
END:VCALENDAR