BEGIN:VCALENDAR
VERSION:2.0
PRODID:-//Cincy MultiFaith Calendar - ECPv6.15.1.1//NONSGML v1.0//EN
CALSCALE:GREGORIAN
METHOD:PUBLISH
X-WR-CALNAME:Cincy MultiFaith Calendar
X-ORIGINAL-URL:https://multi-faithcalendar.org
X-WR-CALDESC:Events for Cincy MultiFaith Calendar
REFRESH-INTERVAL;VALUE=DURATION:PT1H
X-Robots-Tag:noindex
X-PUBLISHED-TTL:PT1H
BEGIN:VTIMEZONE
TZID:America/New_York
BEGIN:DAYLIGHT
TZOFFSETFROM:-0500
TZOFFSETTO:-0400
TZNAME:EDT
DTSTART:20240310T070000
END:DAYLIGHT
BEGIN:STANDARD
TZOFFSETFROM:-0400
TZOFFSETTO:-0500
TZNAME:EST
DTSTART:20241103T060000
END:STANDARD
END:VTIMEZONE
BEGIN:VEVENT
DTSTART;VALUE=DATE:20240613
DTEND;VALUE=DATE:20240614
DTSTAMP:20260425T084723
CREATED:20231227T111504Z
LAST-MODIFIED:20231227T111707Z
UID:2516-1718236800-1718323199@multi-faithcalendar.org
SUMMARY:The Ascension of the Lord (Orthodox Christianity)
DESCRIPTION:This holy day commemorates the physical ascension of Jesus Christ into heaven in the presence of his 11 apostles\, which\, according to scripture\, occurred 40 days after his resurrection from the dead on Easter.
URL:https://multi-faithcalendar.org/events/the-ascension-of-the-lord-orthodox/
CATEGORIES:2024,Christian Orthodox
END:VEVENT
BEGIN:VEVENT
DTSTART;VALUE=DATE:20240611
DTEND;VALUE=DATE:20240614
DTSTAMP:20260425T084723
CREATED:20231227T111022Z
LAST-MODIFIED:20231227T111022Z
UID:2510-1718064000-1718323199@multi-faithcalendar.org
SUMMARY:Shavuot (Jewish)
DESCRIPTION:The festival of Shavuot celebrates the giving of Torah (Hebrew Bible) including the Ten Commandments at Mount Sinai. It also marks the end of the spring harvest\, and the beginning of the summer harvest. Shavuot is celebrated by studying Torah together as a community\, often late into the night. It is traditional to eat meals containing dairy. Barley and wheat are also food symbols of Shavuot. \nMore Information \nHoliday Greeting: Hag Sameach (Happy Holiday) \nCommonly observed by synagogue attendance or family gatherings. Work is traditionally prohibited; individuals may be absent from school or work.
URL:https://multi-faithcalendar.org/events/shavuot-jewish-3/
CATEGORIES:2024,Jewish,June
END:VEVENT
BEGIN:VEVENT
DTSTART;VALUE=DATE:20240610
DTEND;VALUE=DATE:20240611
DTSTAMP:20260425T084723
CREATED:20231229T210646Z
LAST-MODIFIED:20231229T210646Z
UID:2676-1717977600-1718063999@multi-faithcalendar.org
SUMMARY:Martyrdom of Guru Arjan Sahib (5th Guru) (Sikh)
DESCRIPTION:In June 1606\, the Mughal emperor\, Jahangir\, ordered that Guru Arjan be arrested\, tortured\, and sentenced to death because he refused to stop sharing the ideals of Oneness as started by Guru Nanak. The first Sikh martyr\, Guru Arjan\, is also remembered for his contributions to and compilation of the Sikh Scriptures.  \nMore Information
URL:https://multi-faithcalendar.org/events/martyrdom-of-guru-arjan-sahib-5th-guru-sikh-2/
CATEGORIES:2024,Sikh
END:VEVENT
BEGIN:VEVENT
DTSTART;VALUE=DATE:20240607
DTEND;VALUE=DATE:20240608
DTSTAMP:20260425T084723
CREATED:20231229T210750Z
LAST-MODIFIED:20231229T210750Z
UID:2678-1717718400-1717804799@multi-faithcalendar.org
SUMMARY:Sacred Heart of Jesus (Catholic)
DESCRIPTION:Today is a Solemnity – a Feast of the highest rank in the Roman Catholic Church – celebrating the love of Jesus Christ for all humankind. It is celebrated the Friday after Corpus Christi Sunday. \nMore Information
URL:https://multi-faithcalendar.org/events/sacred-heart-of-jesus-catholic-4/
CATEGORIES:2024,Catholic
END:VEVENT
BEGIN:VEVENT
DTSTART;VALUE=DATE:20240605
DTEND;VALUE=DATE:20240606
DTSTAMP:20260425T084723
CREATED:20231229T210226Z
LAST-MODIFIED:20231229T210226Z
UID:2672-1717545600-1717631999@multi-faithcalendar.org
SUMMARY:Feast of Nur / Light (Baha'i)
DESCRIPTION:Wherever they live\, Baha’is gather every 19 days for what we call a Feast. This is a members-only event comprising three parts: \n1. A spiritual portion that’s the time for prayer and reflection; \n2. A business portion for consultation about administrative issues (plans for forming classes\, organizing to perform community service\, observing holy days\, or any ideas or projects community members wish to discuss. It’s also a time when local members can ask their Local Assembly to forward their concerns to the National Assembly; \n3. A social portion that can consist of anything from just glasses of water to a full-course dinner.
URL:https://multi-faithcalendar.org/events/feast-of-nur-light-bahai-2/
CATEGORIES:2024,The Bahá’í Faith
END:VEVENT
BEGIN:VEVENT
DTSTART;VALUE=DATE:20240530
DTEND;VALUE=DATE:20240531
DTSTAMP:20260425T084723
CREATED:20231229T210324Z
LAST-MODIFIED:20231229T210324Z
UID:2674-1717027200-1717113599@multi-faithcalendar.org
SUMMARY:Corpus Christi (Catholic)
DESCRIPTION:Also known as The Most Holy Body and Blood of Christ\, today is a Solemnity\, a feast of the highest rank in the Roman Catholic Church\, honoring the Holy Eucharist\, bread and wine which is ritually blessed and consumed during mass.  Catholics believe this ritual blessing transubstantiates\, or changes the substance of the bread and wine\, so that it becomes the Real Presence\, or body and blood of Jesus Christ. This solemnity places a special emphasis on the Real Presence of the Lord Jesus Christ in the Eucharist. It is celebrated the Sunday after Trinity Sunday. \nMore Information:\nSolemnity of the Most Holy Body and Blood of Christ\nCorpus Christi
URL:https://multi-faithcalendar.org/events/corpus-christi-catholic-2/
CATEGORIES:2024,Catholic,Hispanic
END:VEVENT
BEGIN:VEVENT
DTSTART;VALUE=DATE:20240528
DTEND;VALUE=DATE:20240529
DTSTAMP:20260425T084723
CREATED:20231227T111843Z
LAST-MODIFIED:20240102T215226Z
UID:2519-1716854400-1716940799@multi-faithcalendar.org
SUMMARY:Ascension of Baha'u'llah (The Bahá’í Faith)
DESCRIPTION:Baha’is observe the anniversary of the death in exile of Baha’u’llah\, the founder of the Baha’i Faith outside of Akka (Acre) in northern Israel. \nWork is to be suspended and children excused from school. \nFor more information: \nhttps://bahaiteachings.org/prophet-passes-away-ascension-bahaullah
URL:https://multi-faithcalendar.org/events/ascension-of-bahaullah-the-bahai-faith-4/
CATEGORIES:2024,May,The Bahá’í Faith
END:VEVENT
BEGIN:VEVENT
DTSTART;VALUE=DATE:20240526
DTEND;VALUE=DATE:20240527
DTSTAMP:20260425T084723
CREATED:20231229T210135Z
LAST-MODIFIED:20240102T220232Z
UID:2670-1716681600-1716767999@multi-faithcalendar.org
SUMMARY:Trinity Sunday (Catholic & Episcopal)
DESCRIPTION:Trinity Sunday is the first Sunday after Pentecost. It is a day when catholics attend mass\, but the mass traditionally honor the Holy Trinity\, the divine union of the Father\, Son and Holy Spirit; three divine persons in one God. \nMore information about the celebration can be found here.
URL:https://multi-faithcalendar.org/events/trinity-sunday-catholic-4/
CATEGORIES:2024,Catholic,Episcopal
END:VEVENT
BEGIN:VEVENT
DTSTART;VALUE=DATE:20240523
DTEND;VALUE=DATE:20240524
DTSTAMP:20260425T084723
CREATED:20231227T110920Z
LAST-MODIFIED:20240102T215149Z
UID:2508-1716422400-1716508799@multi-faithcalendar.org
SUMMARY:Declaration of the Bab (The Bahá’í Faith)
DESCRIPTION:Commemorates May 23\, 1844 when the Bab\, the Martyred Prophet Herald of the Bahá’í Faith\, announced in Persia\, that he was the Herald of a new messenger from God in Shiraz Persia \nWork is to be suspended and children excused from school. \nhttps://www.bahaiblog.net/bahai-calendar/about-the-declaration-of-the-bab/
URL:https://multi-faithcalendar.org/events/declaration-of-the-bab-the-bahai-faith-3/
CATEGORIES:2024,May,The Bahá’í Faith
END:VEVENT
BEGIN:VEVENT
DTSTART;VALUE=DATE:20240523
DTEND;VALUE=DATE:20240524
DTSTAMP:20260425T084723
CREATED:20231227T110040Z
LAST-MODIFIED:20231227T110040Z
UID:2498-1716422400-1716508799@multi-faithcalendar.org
SUMMARY:Vesak - Buddha's Birthday (Buddhism)
DESCRIPTION:Traditionally\, Buddha’s Birthday is known as Vesak or Visakah Puja (Buddha’s Birthday Celebrations). Vesak is the major Buddhist festival of the year as it celebrates the birth\, enlightenment and death of the Buddha on the one day\, the first full moon day in May\, except in a leap year when the festival is held in June. This celebration is called Vesak being the name of the month in the Indian calendar. \nBuddhist Festivals are always joyful occasions. Typically on a festival day\, lay people will go the the local temple or monastery and offer food to the monks and take the Five Precepts and listen to a Dharma talk. In the afternoon\, they distribute food to the poor to make merit and in the evening join perhaps in a ceremony of circumambulation a stupa three time as a sign of respect to the Buddha\, Dhamma\, Sangha. The day will conclude with evening chanting of the Buddha’s teachings and meditation. \nMore Information
URL:https://multi-faithcalendar.org/events/vesak-buddhas-birthday-buddhism-3/
CATEGORIES:2024,Buddhist,May
END:VEVENT
BEGIN:VEVENT
DTSTART;VALUE=DATE:20240522
DTEND;VALUE=DATE:20240523
DTSTAMP:20260425T084723
CREATED:20231227T110741Z
LAST-MODIFIED:20231227T110741Z
UID:2506-1716336000-1716422399@multi-faithcalendar.org
SUMMARY:Zarathosht-no-Diso (Parsi Zoroastrian)
DESCRIPTION:Death anniversary of Zarathushtra (Zoroaster) the founder of Zoroastrianism. It is a day of special prayers\, with lectures and discussions held on the life and works of the prophet. There is no mourning in the Zoroastrian religion\, only remembrance and prayers for Farohars (souls) of the departed. \nMore Information
URL:https://multi-faithcalendar.org/events/zarathosht-no-diso-parsi-zoroastrian-3/
CATEGORIES:2024,May,Parsi Zoroastrian
END:VEVENT
BEGIN:VEVENT
DTSTART;VALUE=DATE:20240519
DTEND;VALUE=DATE:20240520
DTSTAMP:20260425T084723
CREATED:20231227T111200Z
LAST-MODIFIED:20240102T220159Z
UID:2512-1716076800-1716163199@multi-faithcalendar.org
SUMMARY:Pentecost Sunday (Catholic / Christian Protestant/ Episcopal)
DESCRIPTION:Pentecost is known by Christians as the birthday of their church community. The word Pentecost is Greek for “50th day.” It is celebrated fifty days after Easter Sunday\, to commemorate when the Holy Spirit came upon the Apostles and their followers\, inspiring them to begin their Earthly ministry to make disciples of all nations. \nMore Information from the Catholic Church \nMore information from the Christian Methodist Episcopal Church
URL:https://multi-faithcalendar.org/events/pentecost-sunday-catholic-christian-protestant-2/
CATEGORIES:2024,Catholic,Christian,Christian Protestant,Episcopal,Hispanic,June
END:VEVENT
BEGIN:VEVENT
DTSTART;VALUE=DATE:20240517
DTEND;VALUE=DATE:20240518
DTSTAMP:20260425T084723
CREATED:20231227T110408Z
LAST-MODIFIED:20231227T110408Z
UID:2502-1715904000-1715990399@multi-faithcalendar.org
SUMMARY:1746 Chhota Ghallughara (Sikh)
DESCRIPTION:The Chhota Ghallughara was the first massacre of Sikhs targeted to wipe out the entire population. Around 7\,000 Sikhs were killed\, 3\,000 were captured and later beheaded\, and the persecution lasted several decades. Gurdwaras were destroyed and scriptures were burnt. Anyone caught saying the word “Guru” was sentenced to death. \nMore Information \nStudents and/Co-Workers may visit their local Gurdwara at some point during the day
URL:https://multi-faithcalendar.org/events/1746-chhota-ghallughara-sikh-3/
CATEGORIES:2024,Sikh
END:VEVENT
BEGIN:VEVENT
DTSTART;VALUE=DATE:20240516
DTEND;VALUE=DATE:20240517
DTSTAMP:20260425T084723
CREATED:20231227T110138Z
LAST-MODIFIED:20240102T215110Z
UID:2500-1715817600-1715903999@multi-faithcalendar.org
SUMMARY:Feast of Azamat / Grandeur (Baha'i)
DESCRIPTION:Wherever they live\, Baha’is gather every 19 days for what we call a Feast. This is a members-only event comprising three parts: \n1. A spiritual portion that’s the time for prayer and reflection; \n2. A business portion for consultation about administrative issues (plans for forming classes\, organizing to perform community service\, observing holy days\, or any ideas or projects community members wish to discuss. It’s also a time when local members can ask their Local Assembly to forward their concerns to the National Assembly; \n3. A social portion that can consist of anything from just glasses of water to a full-course dinner.
URL:https://multi-faithcalendar.org/events/feast-of-azamat-grandeur-bahai-2/
CATEGORIES:2024,The Bahá’í Faith
END:VEVENT
BEGIN:VEVENT
DTSTART;VALUE=DATE:20240513
DTEND;VALUE=DATE:20240515
DTSTAMP:20260425T084723
CREATED:20231226T131543Z
LAST-MODIFIED:20231226T131543Z
UID:2484-1715558400-1715731199@multi-faithcalendar.org
SUMMARY:Yom HaAtzma'ut (Jewish)
DESCRIPTION:Yom HaAtzma’ut\, also known as Israel’s Independence Day\, is celebrated on the fifth day of the month of Iyar\, which is the Hebrew date of the formal establishment of the State of Israel\, when members of the “provisional government” read and signed a Declaration of Independence in Tel Aviv. The original date corresponded to May 14\, 1948. \nMore Information \nCommonly observed by synagogue attendance\, community or family gatherings.
URL:https://multi-faithcalendar.org/events/yom-haatzmaut-jewish-3/
CATEGORIES:2024,Jewish
END:VEVENT
BEGIN:VEVENT
DTSTART;VALUE=DATE:20240512
DTEND;VALUE=DATE:20240514
DTSTAMP:20260425T084723
CREATED:20231226T131300Z
LAST-MODIFIED:20231226T131300Z
UID:2479-1715472000-1715644799@multi-faithcalendar.org
SUMMARY:Yom HaZikaron (Jewish)
DESCRIPTION:Yom HaZikaron is Israel’s Memorial Day\, observed both in Israel and in many Jewish communities around the world. A day to remember and honor soldiers who lost their lives fighting in the War of Independence and subsequent battles. It is also a day to remember civilian victims of terrorism. \nMore Information \nCommonly observed by synagogue attendance\, family or community gatherings. In Israel\, at 12 noon sirens are sounded and the whole country\, even cars on highways\, will stop for a commemorative moment.
URL:https://multi-faithcalendar.org/events/yom-hazikaron-jewish-3/
CATEGORIES:2024,Jewish,May
END:VEVENT
BEGIN:VEVENT
DTSTART;VALUE=DATE:20240512
DTEND;VALUE=DATE:20240513
DTSTAMP:20260425T084723
CREATED:20231226T131414Z
LAST-MODIFIED:20231226T131434Z
UID:2481-1715472000-1715558399@multi-faithcalendar.org
SUMMARY:Shankaracharya Birth Anniversary (Vedanta)
DESCRIPTION:This day marks the birth anniversary of Shankaracharya. Shankara taught nondualistic Vedanta and is revered. \nFor More Information: \nhttps://www.vedanta.gr/?page_id=1075 \n 
URL:https://multi-faithcalendar.org/events/shankaracharya-birth-anniversary-vedanta-2/
CATEGORIES:2024,Vedanta
END:VEVENT
BEGIN:VEVENT
DTSTART;VALUE=DATE:20240509
DTEND;VALUE=DATE:20240510
DTSTAMP:20260425T084723
CREATED:20231227T110551Z
LAST-MODIFIED:20240102T220112Z
UID:2504-1715212800-1715299199@multi-faithcalendar.org
SUMMARY:The Ascension of the Lord (Catholic & Episcopal)
DESCRIPTION:This holy day commemorates the physical ascension of Jesus Christ into heaven in the presence of his 11 apostles\, which\, according to scripture\, occurred 40 days after his resurrection from the dead on Easter. \nThis is a holy day of obligation for Catholics. \nMore information can be found here.
URL:https://multi-faithcalendar.org/events/the-ascension-of-the-lord-catholic-2/
CATEGORIES:2024,Catholic,Episcopal
END:VEVENT
BEGIN:VEVENT
DTSTART;VALUE=DATE:20240505
DTEND;VALUE=DATE:20240507
DTSTAMP:20260425T084723
CREATED:20231226T130208Z
LAST-MODIFIED:20231226T130208Z
UID:2471-1714867200-1715039999@multi-faithcalendar.org
SUMMARY:Yom Ha'shoah (Jewish)
DESCRIPTION:Known in English as Holocaust Remembrance Day\, Yom Ha’Shoah commemorates the approximately six million Jews\, and five million others who perished in the Holocaust. Shoah in Hebrew means catastrophe. This is a national public holiday in Israel. In homes and synagogues around the world\, Jews will light memorial candles in commemoration of lives lost. The Holocaust and Humanity Center Museum located in Cincinnati’s Union Terminal highlights the history\, artifacts\, humanity education\, and stories of survivors and others who experienced the Holocaust. \nMore Information \nCommonly observed by synagogue attendance or family gatherings. Work is traditionally prohibited; individuals may be absent from school or work.
URL:https://multi-faithcalendar.org/events/yom-hashoah-jewish-3/
CATEGORIES:2024,Jewish
END:VEVENT
BEGIN:VEVENT
DTSTART;VALUE=DATE:20240505
DTEND;VALUE=DATE:20240506
DTSTAMP:20260425T084723
CREATED:20231226T124332Z
LAST-MODIFIED:20231226T124332Z
UID:2461-1714867200-1714953599@multi-faithcalendar.org
SUMMARY:Easter / Pascha (Christian Orthodox)
DESCRIPTION:On the Great and Holy Feast of Pascha\, Orthodox Christians celebrate the life-giving Resurrection of our Lord and Savior Jesus Christ. This feast of feasts is the most significant day in the life of the Church. It is a celebration of the defeat of death\, as neither death itself nor the power of the grave could hold our Savior captive. In this victory that came through the Cross\, Christ broke the bondage of sin\, and through faith offers us restoration\, transformation\, and eternal life. \nLearn more here.
URL:https://multi-faithcalendar.org/events/easter-pascha-christian-orthodox-3/
CATEGORIES:2024,Christian Orthodox
END:VEVENT
BEGIN:VEVENT
DTSTART;VALUE=DATE:20240503
DTEND;VALUE=DATE:20240504
DTSTAMP:20260425T084723
CREATED:20231226T124218Z
LAST-MODIFIED:20231226T124218Z
UID:2459-1714694400-1714780799@multi-faithcalendar.org
SUMMARY:Great and Holy Friday (Christian Orthodox)
DESCRIPTION:On Great and Holy Friday the Orthodox Church commemorates the death of Christ on the Cross. This is the culmination of the observance of His Passion by which our Lord suffered and died for our sins. This commemoration begins on Thursday evening with the Matins of Holy Friday and concludes with a Vespers on Friday afternoon that observes the unnailing of Christ from the Cross and the placement of His body in the tomb. \n\n\nMore information can be found here. \n\nThis is a day of fasting and abstinence for most over the age of 14.
URL:https://multi-faithcalendar.org/events/great-and-holy-friday-christian-orthodox-2/
CATEGORIES:2024,Christian Orthodox
END:VEVENT
BEGIN:VEVENT
DTSTART;VALUE=DATE:20240502
DTEND;VALUE=DATE:20240503
DTSTAMP:20260425T084723
CREATED:20231226T123707Z
LAST-MODIFIED:20231226T123707Z
UID:2453-1714608000-1714694399@multi-faithcalendar.org
SUMMARY:Holy Thursday (Christian Orthodox)
DESCRIPTION:On Thursday of Holy Week four events are commemorated: the washing of the disciples’ feet\, the institution of the Sacrament of the Holy Eucharist at the Last Supper\, the agony in the garden of Gethsemane\, and the betrayal of Christ by Judas. \nYou can learn more here.
URL:https://multi-faithcalendar.org/events/holy-thursday-christian-orthodox-3/
CATEGORIES:2024,Christian Orthodox
END:VEVENT
BEGIN:VEVENT
DTSTART;VALUE=DATE:20240501
DTEND;VALUE=DATE:20240502
DTSTAMP:20260425T084723
CREATED:20241117T190052Z
LAST-MODIFIED:20241117T190052Z
UID:2816-1714521600-1714607999@multi-faithcalendar.org
SUMMARY:Beltane (Pagan)
DESCRIPTION:Beltane: is celebrated on May 1st halfway between Spring Equinox and Summer Solstice. It is the beginning of summer. Among pastoral people this was when the flocks and herds were moved from the lower winter pasture to the higher summer pasture. To ensure fertility\, the livestock was herded between two fires. This holiday celebrates fertility and sexuality. This is a time for fun and frolic. Jumping over the fire is part of the ritual. \nMore Information
URL:https://multi-faithcalendar.org/events/beltane-pagan-4/
CATEGORIES:2024,Pagan
END:VEVENT
BEGIN:VEVENT
DTSTART;VALUE=DATE:20240501
DTEND;VALUE=DATE:20240502
DTSTAMP:20260425T084723
CREATED:20231227T105323Z
LAST-MODIFIED:20240102T215043Z
UID:2494-1714521600-1714607999@multi-faithcalendar.org
SUMMARY:12th Day of the Festival of Ridvan (The Bahá’í Faith)
DESCRIPTION:12th Day of Ridvan. There are three holy Days as part of the Festival\, the first day\, the ninth and the twelfth. The annual Baha’i Festival commemorates the 12 days when Baha’u’llah\, the founder of the Faith\, publicly proclaimed his mission as God’s messenger. \nHoliday Greeting: Happy Ridvan \nWork is to be suspended and children excused from school. \nhttps://en.wikipedia.org/wiki/Ridv%C3%A1n
URL:https://multi-faithcalendar.org/events/12th-day-of-the-festival-of-ridvan-the-bahai-faith-3/
CATEGORIES:2024,May,The Bahá’í Faith
END:VEVENT
BEGIN:VEVENT
DTSTART;VALUE=DATE:20240430
DTEND;VALUE=DATE:20240505
DTSTAMP:20260425T084723
CREATED:20231226T131833Z
LAST-MODIFIED:20231226T131833Z
UID:2490-1714435200-1714867199@multi-faithcalendar.org
SUMMARY:Maidyozarem Gahambar (Zoroastrian)
DESCRIPTION:Maidyozarem (literally: midgreening) Gahambar is a seasonal festival celebrated in mid-spring. It is considered a religious duty to participate in a communal jashan prayer ceremony; as well as\, fraternize and share a simple meal with fellow co-religionists from all walks of life\, rich and poor. \nMore Information
URL:https://multi-faithcalendar.org/events/maidyozarem-gahambar-zoroastrian-3/
CATEGORIES:2024,April,May,Zoroastrian
END:VEVENT
BEGIN:VEVENT
DTSTART;VALUE=DATE:20240429
DTEND;VALUE=DATE:20240430
DTSTAMP:20260425T084723
CREATED:20231226T131749Z
LAST-MODIFIED:20231226T131749Z
UID:2488-1714348800-1714435199@multi-faithcalendar.org
SUMMARY:9th Day of Festival of Ridvan -(The Bahá’í Faith)
DESCRIPTION:9th Day of Ridvan. There are three holy Days as part of the Festival\, the first day\, the ninth and the twelfth. The annual Baha’i Festival commemorates the 12 days when Baha’u’llah\, the founder of the Faith\, publicly proclaimed his mission as God’s messenger. \nHoliday Greeting: Happy Ridvan \nWork is to be suspended and children excused from school. \nhttps://en.wikipedia.org/wiki/Ridv%C3%A1n
URL:https://multi-faithcalendar.org/events/9th-day-of-festival-of-ridvan-the-bahai-faith-3/
CATEGORIES:2024,April,The Bahá’í Faith
END:VEVENT
BEGIN:VEVENT
DTSTART;VALUE=DATE:20240426
DTEND;VALUE=DATE:20240428
DTSTAMP:20260425T084723
CREATED:20231226T131646Z
LAST-MODIFIED:20240102T215003Z
UID:2486-1714089600-1714262399@multi-faithcalendar.org
SUMMARY:Feast of Jamal/ Beauty (Baha'i)
DESCRIPTION:Wherever they live\, Baha’is gather every 19 days for what we call a Feast. Observance begins at midnight April 26. This is a members-only event comprising three parts: \n1. A spiritual portion that’s the time for prayer and reflection; \n2. A business portion for consultation about administrative issues (plans for forming classes\, organizing to perform community service\, observing holy days\, or any ideas or projects community members wish to discuss. It’s also a time when local members can ask their Local Assembly to forward their concerns to the National Assembly; \n3. A social portion that can consist of anything from just glasses of water to a full-course dinner.
URL:https://multi-faithcalendar.org/events/feast-of-jamal-beauty-bahai-2/
CATEGORIES:2024,The Bahá’í Faith
END:VEVENT
BEGIN:VEVENT
DTSTART;TZID=America/New_York:20240422T180000
DTEND;TZID=America/New_York:20240430T180000
DTSTAMP:20260425T084723
CREATED:20231226T123529Z
LAST-MODIFIED:20231226T123529Z
UID:2451-1713808800-1714500000@multi-faithcalendar.org
SUMMARY:Passover (Jewish)
DESCRIPTION:Passover\, known in Hebrew as Pesach\, commemorates the liberation of the Hebrew slaves from Egypt. A feast called a seder is held on the first two nights. During the seder\, the Exodus story is read aloud and freedom from slavery is celebrated. This is one of the most widely observed Jewish holidays. \nMore Information \nHoliday Greeting: Pesach Sameach (Happy Passover) \nNo food that is leavened (e.g.\, bread\, cake) or contains wheat is eaten. Matzah (unleavened bread) is often consumed instead. Work is traditionally prohibited on the first\, second\, seventh\, and eighth days. Absences may vary based on religious observance of the holiday.
URL:https://multi-faithcalendar.org/events/passover-jewish-2/
CATEGORIES:2024,April,Jewish
END:VEVENT
BEGIN:VEVENT
DTSTART;VALUE=DATE:20240422
DTEND;VALUE=DATE:20240423
DTSTAMP:20260425T084723
CREATED:20231226T131118Z
LAST-MODIFIED:20231226T131118Z
UID:2477-1713744000-1713830399@multi-faithcalendar.org
SUMMARY:Jashan-e Ardavahisht (Zoroastrian)
DESCRIPTION:Jashan-e Ardavahisht is a celebration ceremony\, a Jashan\, performed on Ardibehest day of\nArdibehest month\, in honor of Ardavahisht or Ardibehest\, a Pehlavi name derived from the ancient Avestan term “Asha Vahishta” from the Gathas of Zarathushtra. Asha stands for “truth\, order\, righteousness.” Vahishta means ‘the Best’ or ‘the Highest’. So\, Asha Vahishta is the Best or the Highest Righteousness which Zarathushtra attributes to Ahura Mazda. Asha is the universal law of righteous precision. It may best be explained by stating that it means “to do the right thing\, at the right time\, in the right place\, and with the right means in order to attain the right result.” It should result in constructive and loving good not only for oneself but also for one’s fellow creatures and for God. It is the positive\, beneficial and unselfish precision par excellence. In later Zoroastrian religious history\,\nthe wise men/priests associated Ardavahisht with being the steward/guardian of all those forces that give light\, and warmth to our world. To us\, Fire is that symbol of light and warmth\, and represents God’s Righteousness to us\, that’s why a Zoroastrian prefers to pray in front of any form of light. In our temples\, the priest keeps an eternal Fire burning on a large urn\, adding wood to it five times a day. That holy fire in our temples serves as the medium of one’s concentration and communication with God. Zoroastrians are wrongly believed by many as Fire-Worshippers\, when in fact\, Fire is an element of great reverence to a Zoroastrian and reminds her/him of God’s Righteousness\, and is beneficial to have in some form in front of the devotee\, to use as a medium of meditative focus and\nconcentration\, as the devotee worships God/communicates with God\, through her/his prayers.
URL:https://multi-faithcalendar.org/events/jashan-e-ardavahisht-zoroastrian-3/
CATEGORIES:2024,Zoroastrian
END:VEVENT
BEGIN:VEVENT
DTSTART;VALUE=DATE:20240421
DTEND;VALUE=DATE:20240422
DTSTAMP:20260425T084723
CREATED:20231226T123138Z
LAST-MODIFIED:20231226T123138Z
UID:2449-1713657600-1713743999@multi-faithcalendar.org
SUMMARY:Mahavir Jayanti (Jain)
DESCRIPTION:Mahavir Jayanti is the anniversary of birth of the 24th and last Tirthankara for the followers of Jain religion and culture\, or Lord Mahavir. The festival is celebrated to champion the cause of peace and harmony\, and also spread the teachings of Lord Mahavira. A procession is carried out in the form of “rath yatra” with Lord Mahavira’s murti placed on the top. Jain temples are decorated with flags\, while the Jains offer food and clothes to the needy. Also\, prayers are offered in temples dedicated to Lord Mahavira and some devotees often engage in meditation—a practice championed by Mahavir. \nMore information can be found here. \nTypical greetings would be as follows: “May Lord Mahavir bless you abundantly and fill your life with the virtue of Truth\, Nonviolence and External compassion. Happy Mahavir Jayanti\,” or “Prayers for Peace and Harmony for all humankind on this auspicious day of Mahavir Jayanti.”
URL:https://multi-faithcalendar.org/events/mahavir-jayanti-jain-3/
CATEGORIES:2024,April,Jain
END:VEVENT
END:VCALENDAR