BEGIN:VCALENDAR
VERSION:2.0
PRODID:-//Cincy MultiFaith Calendar - ECPv6.15.1.1//NONSGML v1.0//EN
CALSCALE:GREGORIAN
METHOD:PUBLISH
X-WR-CALNAME:Cincy MultiFaith Calendar
X-ORIGINAL-URL:https://multi-faithcalendar.org
X-WR-CALDESC:Events for Cincy MultiFaith Calendar
REFRESH-INTERVAL;VALUE=DURATION:PT1H
X-Robots-Tag:noindex
X-PUBLISHED-TTL:PT1H
BEGIN:VTIMEZONE
TZID:America/New_York
BEGIN:DAYLIGHT
TZOFFSETFROM:-0500
TZOFFSETTO:-0400
TZNAME:EDT
DTSTART:20250309T070000
END:DAYLIGHT
BEGIN:STANDARD
TZOFFSETFROM:-0400
TZOFFSETTO:-0500
TZNAME:EST
DTSTART:20251102T060000
END:STANDARD
END:VTIMEZONE
BEGIN:VEVENT
DTSTART;VALUE=DATE:20250710
DTEND;VALUE=DATE:20250711
DTSTAMP:20260425T092023
CREATED:20241217T172700Z
LAST-MODIFIED:20241217T172700Z
UID:2893-1752105600-1752191999@multi-faithcalendar.org
SUMMARY:Asalha Puja (Buddhism)
DESCRIPTION:Asalha Puja means to pay homage to the Buddha on the full moon day of the 8th lunar month (approximately July). It commemorates the Buddha’s first teaching: the turning of the wheel of the Dhamma (Dhammacakkappavattana Sutta) to the five ascetics at the Deer Park (Sarnath) near Benares city\, India. Where Kondanna\, the senior ascetic attained the first level of enlightenment (the Sotapanna level of mind purity). \nMore Information
URL:https://multi-faithcalendar.org/events/asalha-puja-buddhism-4/
CATEGORIES:2025,Buddhist
END:VEVENT
BEGIN:VEVENT
DTSTART;VALUE=DATE:20250712
DTEND;VALUE=DATE:20250713
DTSTAMP:20260425T092023
CREATED:20241217T172501Z
LAST-MODIFIED:20241217T172501Z
UID:2889-1752278400-1752364799@multi-faithcalendar.org
SUMMARY:Feast of Kalimat / Words (Baha'i)
DESCRIPTION:Wherever they live\, Baha’is gather every 19 days for what we call a Feast. This is a members-only event comprising three parts: \n1. A spiritual portion that’s the time for prayer and reflection; \n2. A business portion for consultation about administrative issues (plans for forming classes\, organizing to perform community service\, observing holy days\, or any ideas or projects community members wish to discuss. It’s also a time when local members can ask their Local Assembly to forward their concerns to the National Assembly; \n3. A social portion that can consist of anything from just glasses of water to a full-course dinner.
URL:https://multi-faithcalendar.org/events/feast-of-kalimat-words-bahai-3/
CATEGORIES:2025,The Bahá’í Faith
END:VEVENT
BEGIN:VEVENT
DTSTART;VALUE=DATE:20250714
DTEND;VALUE=DATE:20250715
DTSTAMP:20260425T092023
CREATED:20241217T172550Z
LAST-MODIFIED:20241217T172556Z
UID:2891-1752451200-1752537599@multi-faithcalendar.org
SUMMARY:Feast of Saint Kateri Tekakwitha (Catholic)
DESCRIPTION:Informally known as Lily of the Mohawks\, St. Kateri Tekakwitha is the first Native American saint in the United States. It is said that after her death\, the marks on her face from smallpox faded away. St. Kateri Tekakwitha is the patroness of ecology and the environment\, as well as people in exile and Native Americans. \nMore Information
URL:https://multi-faithcalendar.org/events/feast-of-saint-kateri-tekakwitha-catholic-4/
CATEGORIES:2025,Catholic,July
END:VEVENT
BEGIN:VEVENT
DTSTART;VALUE=DATE:20250723
DTEND;VALUE=DATE:20250724
DTSTAMP:20260425T092023
CREATED:20241217T173309Z
LAST-MODIFIED:20241217T173309Z
UID:2895-1753228800-1753315199@multi-faithcalendar.org
SUMMARY:Birth of Guru Harkrishan (8th Guru) (Sikh)
DESCRIPTION:Guru Harkrishan is the eighth and youngest of the Sikh Gurus. In 1663\, Guru Harkrishan was in Delhi when the cholera and smallpox epidemic broke out. He served and tended to the sick with complete love and devotion at the young age of seven. Soon after\, he became sick himself and passed away at the age of eight. \nMore Information \nTraditional Greeting: “Vadhaaiaa Ji” – Congratulations!
URL:https://multi-faithcalendar.org/events/birth-of-guru-harkrishan-8th-guru-sikh-4/
CATEGORIES:2025,Sikh
END:VEVENT
BEGIN:VEVENT
DTSTART;VALUE=DATE:20250724
DTEND;VALUE=DATE:20250725
DTSTAMP:20260425T092023
CREATED:20241217T173420Z
LAST-MODIFIED:20241217T173420Z
UID:2897-1753315200-1753401599@multi-faithcalendar.org
SUMMARY:Pioneer Day (The Church of Jesus Christ of Latter-day Saints)
DESCRIPTION:Pioneer Day commemorates the arrival of the first group of Latter-day Saint pioneers to the Salt Lake Valley\, on July 24\, 1847.  In Utah it is an official state holiday\, and the associated celebration\, including a parade\, is referred to as Days of ’47.  It is a time for recognizing all people who have contributed to building the state\, regardless of religion or background.\nhttps://www.churchofjesuschrist.org/study/new-era/2010/07/to-the-point/what-is-the-significance-of-pioneer-day-is-it-celebrated-all-over-the-church?lang=eng\n\nVideo link:  https://www.youtube.com/watch?v=-1Bv60HRR38
URL:https://multi-faithcalendar.org/events/pioneer-day-the-church-of-jesus-christ-of-latter-day-saints-5/
CATEGORIES:2025,The Church of Jesus Christ of Latter-day Saints
END:VEVENT
BEGIN:VEVENT
DTSTART;VALUE=DATE:20250725
DTEND;VALUE=DATE:20250726
DTSTAMP:20260425T092023
CREATED:20241217T173544Z
LAST-MODIFIED:20241217T173544Z
UID:2899-1753401600-1753487999@multi-faithcalendar.org
SUMMARY:Jashan-e Amardad (Zoroastrian)
DESCRIPTION:Jashan-e Amardad is a celebration ceremony\, a Jashan\, performed on Amardad day of Amardad month\, in honor of Amardad\, a Pehlavi name derived from the ancient Avestan term “Ameretat” from the Gathas of Zarathushtra. Ameretat\, according to Zarathushtra\, is that attribute of Ahura Mazda which represents “deathlessness” and “immortality.” Together with Haurvatât\, it is the ultimate goal and represents the completion of our evolutionary development and the final achievement of our life on earth. It reminds a Zoroastrian that when mankind collectively will live their lives with complete righteousness in their thoughts\, words\, and deeds\, our world will achieve immortal/eternal happiness and peace\, and will become completely free of all evil – it will become perfect – like the kingdom of God on Earth! In later Zoroastrian religious history\, the wise men/priests associated Amardad to be the steward/guardian of the plant kingdom in the world. Plants/vegetation on Earth is the longest living of all of God’s creation\, and hence the Zoroastrians associate it with God’s attribute of eternity/immortality. Due to our immense reverence for nature and plants\, protecting nature from pollution and keeping it pure and prosperous for everyone in the world is our religious duty.
URL:https://multi-faithcalendar.org/events/jashan-e-amardad-zoroastrian-4/
CATEGORIES:2025,Zoroastrian
END:VEVENT
BEGIN:VEVENT
DTSTART;VALUE=DATE:20250731
DTEND;VALUE=DATE:20250801
DTSTAMP:20260425T092023
CREATED:20241217T173633Z
LAST-MODIFIED:20241217T173633Z
UID:2901-1753920000-1754006399@multi-faithcalendar.org
SUMMARY:Feast of Kamal / Perfection (Baha'i)
DESCRIPTION:Wherever they live\, Baha’is gather every 19 days for what we call a Feast. This is a members-only event comprising three parts: \n1. A spiritual portion that’s the time for prayer and reflection; \n2. A business portion for consultation about administrative issues (plans for forming classes\, organizing to perform community service\, observing holy days\, or any ideas or projects community members wish to discuss. It’s also a time when local members can ask their Local Assembly to forward their concerns to the National Assembly; \n3. A social portion that can consist of anything from just glasses of water to a full-course dinner.
URL:https://multi-faithcalendar.org/events/feast-of-kamal-perfection-bahai-3/
CATEGORIES:2025,July,The Bahá’í Faith
END:VEVENT
BEGIN:VEVENT
DTSTART;VALUE=DATE:20250801
DTEND;VALUE=DATE:20250802
DTSTAMP:20260425T092023
CREATED:20241217T173742Z
LAST-MODIFIED:20241217T173742Z
UID:2903-1754006400-1754092799@multi-faithcalendar.org
SUMMARY:Lammas (Pagan)
DESCRIPTION:Lammas also called Loafmas or Lughnassadh\, after a Celtic God Lugh\, is celebrated July 31st or August 1st. The days shorten but the weather is still warm. This is the first harvest and celebrates the grains harvested for the baking of bread. \nMore Information
URL:https://multi-faithcalendar.org/events/lammas-pagan-4/
CATEGORIES:2025,Pagan
END:VEVENT
BEGIN:VEVENT
DTSTART;TZID=America/New_York:20250802T180000
DTEND;TZID=America/New_York:20250803T210000
DTSTAMP:20260425T092023
CREATED:20241217T174548Z
LAST-MODIFIED:20241217T174548Z
UID:2907-1754157600-1754254800@multi-faithcalendar.org
SUMMARY:Tisha B’Av (Jewish)
DESCRIPTION:Tisha B’Av is the annual fast day commemorating the destruction of the First and Second Temples in Jerusalem and the subsequent exile of the Jews from the land of Israel. Over the centuries\, other tragic events have come to be commemorated on this day\, including the massacres of the Crusades\, the Jewish expulsion from Spain\, and the Holocaust. Today in many modern Jewish communities\, Tishah B’Av stands as a day to reflect on the suffering that still occurs in our world. \nMore Information \nHoliday Greeting: On Tisha B’Av we do not exchange greetings; we do not say “hello” or “how are you” and the like. \nObservant Jews will fast\, mourn and pray on this day.
URL:https://multi-faithcalendar.org/events/tisha-bav-jewish-4/
CATEGORIES:2025,August,Jewish
END:VEVENT
BEGIN:VEVENT
DTSTART;VALUE=DATE:20250805
DTEND;VALUE=DATE:20250815
DTSTAMP:20260425T092023
CREATED:20241217T174428Z
LAST-MODIFIED:20241217T174428Z
UID:2905-1754352000-1755215999@multi-faithcalendar.org
SUMMARY:Muktad or Fravardegan (Parsi Zoroastrian)
DESCRIPTION:Today marks the first of ten days of commemoration\, at the end of the Zoroastrian year. During this time\, the community commemorates and remembers fravarshis (departed souls) with fresh flowers and a lighted oil lamp. Homes and temples are thoroughly cleaned; for it is believed that the fravashis visit the physical world during this time\, to bless and protect the living. \nMore Information
URL:https://multi-faithcalendar.org/events/muktad-or-fravardegan-parsi-zoroastrian-4/
CATEGORIES:2025,August,Parsi Zoroastrian
END:VEVENT
BEGIN:VEVENT
DTSTART;VALUE=DATE:20250808
DTEND;VALUE=DATE:20250809
DTSTAMP:20260425T092023
CREATED:20241217T175945Z
LAST-MODIFIED:20241217T175945Z
UID:2918-1754611200-1754697599@multi-faithcalendar.org
SUMMARY:Raksha Bandham (Hindu)
DESCRIPTION:Also called Rakhi or Rakhi Purnima\, this day celebrates the bonds between sisters and brothers. Sisters of all ages tie a sacred thread\, called the rakhi\, around the wrists of their brothers\, symbolically protecting them\, and in return they receive a gift from their brothers.  Traditionally\, brothers also promise to take a share of the responsibility for ensuring the well-being of their sisters. \nMore information can be found here and here.
URL:https://multi-faithcalendar.org/events/raksha-bandham-hindu-3/
CATEGORIES:2025,August,Hindu
END:VEVENT
BEGIN:VEVENT
DTSTART;VALUE=DATE:20250815
DTEND;VALUE=DATE:20250816
DTSTAMP:20260425T092023
CREATED:20241217T174729Z
LAST-MODIFIED:20241217T175720Z
UID:2909-1755216000-1755302399@multi-faithcalendar.org
SUMMARY:Pateti (Parsi Zoroastrian)
DESCRIPTION:Pateti (literally: penitence) is the last day of the Parsi Zoroastrian year. It is a day for a person to reflect on their thoughts\, words and deeds of the previous year and to repent for those that were not good. The repentance allows dedicating the new year to good thoughts\, words and deeds in a process of ethical growth. \nMore Information
URL:https://multi-faithcalendar.org/events/pateti-parsi-zoroastrian-4/
CATEGORIES:2025,August,Parsi Zoroastrian
END:VEVENT
BEGIN:VEVENT
DTSTART;VALUE=DATE:20250815
DTEND;VALUE=DATE:20250816
DTSTAMP:20260425T092023
CREATED:20241217T174830Z
LAST-MODIFIED:20241217T174830Z
UID:2911-1755216000-1755302399@multi-faithcalendar.org
SUMMARY:Feast of the Assumption (Catholic)
DESCRIPTION:The feast day of the Assumption of Mary celebrates the Christian belief that God assumed the Virgin Mary into Heaven\, body and soul\, following her death. \nMore Information
URL:https://multi-faithcalendar.org/events/feast-of-the-assumption-catholic-5/
CATEGORIES:2025,August,Catholic
END:VEVENT
BEGIN:VEVENT
DTSTART;VALUE=DATE:20250815
DTEND;VALUE=DATE:20250816
DTSTAMP:20260425T092023
CREATED:20241217T175102Z
LAST-MODIFIED:20241217T175711Z
UID:2913-1755216000-1755302399@multi-faithcalendar.org
SUMMARY:Navroze / New Year (Parsi Zoroastrian)
DESCRIPTION:Weeks before Navroze\, homes are given a cleaning and festive foods are prepared. The arrival of the new year is celebrated by prayers at the Fire temple (Atashbehram) followed by a special meal shared with family. \nMore Information \nHoliday Greeting: Navroze Mubarak \nChildren may miss school to celebrate with families
URL:https://multi-faithcalendar.org/events/navroze-new-year-parsi-zoroastrian-3/
CATEGORIES:2025,August,Parsi Zoroastrian
END:VEVENT
BEGIN:VEVENT
DTSTART;VALUE=DATE:20250819
DTEND;VALUE=DATE:20250820
DTSTAMP:20260425T092023
CREATED:20241217T175851Z
LAST-MODIFIED:20241217T175851Z
UID:2916-1755561600-1755647999@multi-faithcalendar.org
SUMMARY:Feast of Asma / Names (Baha'i)
DESCRIPTION:Wherever they live\, Baha’is gather every 19 days for what we call a Feast. This is a members-only event comprising three parts: \n1. A spiritual portion that’s the time for prayer and reflection; \n2. A business portion for consultation about administrative issues (plans for forming classes\, organizing to perform community service\, observing holy days\, or any ideas or projects community members wish to discuss. It’s also a time when local members can ask their Local Assembly to forward their concerns to the National Assembly; \n3. A social portion that can consist of anything from just glasses of water to a full-course dinner.
URL:https://multi-faithcalendar.org/events/feast-of-asma-names-bahai-3/
CATEGORIES:2025,August,The Bahá’í Faith
END:VEVENT
BEGIN:VEVENT
DTSTART;VALUE=DATE:20250820
DTEND;VALUE=DATE:20250821
DTSTAMP:20260425T092023
CREATED:20241217T180132Z
LAST-MODIFIED:20241217T180132Z
UID:2920-1755648000-1755734399@multi-faithcalendar.org
SUMMARY:Khordad Sal (Parsi Zoroastrian)
DESCRIPTION:Birth anniversary of Zarathushtra (Zoroaster)\, the founder of Zoroastrianism. Zoroastrians gather in Fire temples for prayers and then celebrate with a family feast. \nMore Information
URL:https://multi-faithcalendar.org/events/khordad-sal-parsi-zoroastrian-8/
CATEGORIES:2025,August,Parsi Zoroastrian
END:VEVENT
BEGIN:VEVENT
DTSTART;VALUE=DATE:20250821
DTEND;VALUE=DATE:20250829
DTSTAMP:20260425T092023
CREATED:20241217T180302Z
LAST-MODIFIED:20241217T180302Z
UID:2922-1755734400-1756425599@multi-faithcalendar.org
SUMMARY:Paryushan (Jain)
DESCRIPTION:Paryushan is a time (period) for self-analysis and soul searching\, for reflecting and contemplating on past conduct\, in light of the teachings of Jainism and re-dedication to leading a spiritually cleaner life in the future. An important day is the last day of Paryushan (Shwetambar sect)\, or Saṃvatsarī (Sanskrit: संवत्सरी) (Forgiveness Day)\, when Jains forgive and seek forgiveness for their mistakes committed knowingly or unknowingly from all the living beings. \nDuring this period\, Jains would typically greet each other by saying “Michhami Dukkadam” which essentially signifies forgiveness (both forgiving and seeking forgiveness). \nMore information can be found here. \nTo connect with the Jain community in Cincinnati and Dayton visit this website.
URL:https://multi-faithcalendar.org/events/paryushan-jain-3/
CATEGORIES:2025,August,Jain,September
END:VEVENT
BEGIN:VEVENT
DTSTART;VALUE=DATE:20250901
DTEND;VALUE=DATE:20250902
DTSTAMP:20260425T092023
CREATED:20241217T180706Z
LAST-MODIFIED:20241217T180706Z
UID:2924-1756684800-1756771199@multi-faithcalendar.org
SUMMARY:Parkash of Guru Granth Sahib (Eternal Guru) (Sikh)
DESCRIPTION:This day celebrates Gobind Singh Ji’s passing on guruship to Scripture\, henceforth known as the Guru Granth Sahib. \nMore Information \nTraditional Greeting: “Vadhaaiaa Ji” – Congratulations!
URL:https://multi-faithcalendar.org/events/parkash-of-guru-granth-sahib-eternal-guru-sikh-4/
CATEGORIES:2025,September,Sikh
END:VEVENT
BEGIN:VEVENT
DTSTART;VALUE=DATE:20250907
DTEND;VALUE=DATE:20250908
DTSTAMP:20260425T092023
CREATED:20241217T180853Z
LAST-MODIFIED:20241217T180853Z
UID:2928-1757203200-1757289599@multi-faithcalendar.org
SUMMARY:Feast of Izzat / Might (Baha'i)
DESCRIPTION:Wherever they live\, Baha’is gather every 19 days for what we call a Feast. This is a members-only event comprising three parts: \n1. A spiritual portion that’s the time for prayer and reflection; \n2. A business portion for consultation about administrative issues (plans for forming classes\, organizing to perform community service\, observing holy days\, or any ideas or projects community members wish to discuss. It’s also a time when local members can ask their Local Assembly to forward their concerns to the National Assembly; \n3. A social portion that can consist of anything from just glasses of water to a full-course dinner.
URL:https://multi-faithcalendar.org/events/feast-of-izzat-might-bahai-3/
CATEGORIES:2025,The Bahá’í Faith
END:VEVENT
BEGIN:VEVENT
DTSTART;VALUE=DATE:20250912
DTEND;VALUE=DATE:20250917
DTSTAMP:20260425T092023
CREATED:20241217T181003Z
LAST-MODIFIED:20241217T181003Z
UID:2930-1757635200-1758067199@multi-faithcalendar.org
SUMMARY:Paitishahem Gahambar (Zoroastrian)
DESCRIPTION:Paitishahem (literally: bringing in the harvest) Gahambar is a harvest seasonal festival. It is considered a religious duty to participate in a communal jashan prayer ceremony; as well as\, fraternize and share a simple meal with fellow co-religionists from all walks of life\, rich and poor. \nMore Information
URL:https://multi-faithcalendar.org/events/paitishahem-gahambar-zoroastrian-5/
CATEGORIES:2025,September,Zoroastrian
END:VEVENT
BEGIN:VEVENT
DTSTART;VALUE=DATE:20250912
DTEND;VALUE=DATE:20250913
DTSTAMP:20260425T092023
CREATED:20241217T182435Z
LAST-MODIFIED:20241217T182435Z
UID:2934-1757635200-1757721599@multi-faithcalendar.org
SUMMARY:GurGaddi of Guru Angad Sahib (2nd Guru) (Sikh)
DESCRIPTION:Guru Angad Dev Ji was originally a humble Sikh named Lehna. Upon meeting the founder of Sikhism\, Guru Nanak\, his life transformed and he never left the Guru’s side serving the community for many years to follow. When the time came\, Guru Nanak approached Lehna and said you have now become a part of me\, Ang\, and henceforth you shall carry on the Guru’s work as Angad. Guru Angad was responsible for establishing the script of the Guru\, Gurmukhi\, which is commonly known today as the Punjabi script. \nMore Information \nHoliday Greeting: “Vadhaaiaa Ji” – Congratulations! \nStudents and/Co-Workers may visit their local Gurdwara at some point during the day
URL:https://multi-faithcalendar.org/events/gurgaddi-of-guru-angad-sahib-2nd-guru-sikh-4/
CATEGORIES:2025,Sikh
END:VEVENT
BEGIN:VEVENT
DTSTART;VALUE=DATE:20250914
DTEND;VALUE=DATE:20250915
DTSTAMP:20260425T092023
CREATED:20241217T181108Z
LAST-MODIFIED:20241217T181108Z
UID:2932-1757808000-1757894399@multi-faithcalendar.org
SUMMARY:Exaltation of the Holy Cross (Orthodox Christianity)
DESCRIPTION:The Feast of the Universal Exaltation of the Precious and Life-Giving Cross is celebrated each year on September 14. The Feast commemorates the finding of the True Cross of our Lord and Savior Jesus Christ by Saint Helen\, the mother of the Emperor Constantine. \nYou can learn more about this celebration here.
URL:https://multi-faithcalendar.org/events/exaltation-of-the-holy-cross-orthodox-christianity-4/
CATEGORIES:2025,Christian Orthodox
END:VEVENT
BEGIN:VEVENT
DTSTART;VALUE=DATE:20250922
DTEND;VALUE=DATE:20250923
DTSTAMP:20260425T092023
CREATED:20241217T182524Z
LAST-MODIFIED:20241217T182524Z
UID:2936-1758499200-1758585599@multi-faithcalendar.org
SUMMARY:Autumn Equinox - Mabon (Pagan)
DESCRIPTION:Autumn Equinox or Mabon is celebrated September 21st or 22nd. This is second harvest and is the witches Thanksgiving. This is a time of appreciation\, reflection\, and preparation for winter. \nMore Information
URL:https://multi-faithcalendar.org/events/autumn-equinox-mabon-pagan-4/
CATEGORIES:2025,Pagan
END:VEVENT
BEGIN:VEVENT
DTSTART;VALUE=DATE:20250922
DTEND;VALUE=DATE:20251003
DTSTAMP:20260425T092023
CREATED:20241217T183132Z
LAST-MODIFIED:20241217T183132Z
UID:2946-1758499200-1759449599@multi-faithcalendar.org
SUMMARY:Navaratri (Hindu)
DESCRIPTION:The festival literally means “nine nights” in Sanskrit and occurs over ten days and nine nights.  It is celebrated differently in various parts of India with prayer\, elaborate pandals (platforms)\, fasting\, folk dances\, displays of dolls\, sharing of sweets\, and bonfires. The festival celebrates the triumph of good over evil and the restoration of righteousness\, accomplished through the victory of the Goddess Durga over the buffalo demon Mahishasura. \nMore information can be found here.
URL:https://multi-faithcalendar.org/events/navaratri-hindu-3/
CATEGORIES:2025,Hindu,October
END:VEVENT
BEGIN:VEVENT
DTSTART;TZID=America/New_York:20250922T180000
DTEND;TZID=America/New_York:20250922T235900
DTSTAMP:20260425T092023
CREATED:20241217T182917Z
LAST-MODIFIED:20241217T182917Z
UID:2942-1758564000-1758585540@multi-faithcalendar.org
SUMMARY:Erev (eve of) Rosh Hashanah (Jewish)
DESCRIPTION:This evening is the beginning of Rosh Hashanah\, the Jewish New Year. This holiday begins the period of the High Holy Days\, which are widely observed by Jews around the world. It is both a time of rejoicing and of serious introspection\, a time to celebrate the completion of another year while also taking stock of one’s life. Traditions include eating apples dipped in honey and blowing the shofar (ram’s horn).   Most Jews attend synagogue on these two days and the preceding evening. \nMore Information \nHoliday Greeting: Shana Tova (Happy New Year) – AND – Shana Tova U’Mtukah (Have a happy and sweet New Year) \nNo dietary restrictions\, but most students will miss school for this holiday. Commonly observed by synagogue attendance or family gatherings. Work is traditionally prohibited.
URL:https://multi-faithcalendar.org/events/erev-eve-of-rosh-hashanah-jewish-4/
CATEGORIES:2025,Jewish,September
END:VEVENT
BEGIN:VEVENT
DTSTART;VALUE=DATE:20250923
DTEND;VALUE=DATE:20250925
DTSTAMP:20260425T092023
CREATED:20241217T183019Z
LAST-MODIFIED:20241217T183019Z
UID:2944-1758585600-1758758399@multi-faithcalendar.org
SUMMARY:Rosh Hashanah (Jewish)
DESCRIPTION:Rosh Hashanah is the Jewish New Year. This holiday begins the period of the High Holy Days\, which are widely observed by Jews around the world. It is both a time of rejoicing and of serious introspection\, a time to celebrate the completion of another year while also taking stock of one’s life. Traditions include eating apples dipped in honey and blowing the shofar (ram’s horn).   Most Jews attend synagogue on these two days and the preceding evening. \nMore Information \nHoliday Greeting: Shana Tova (Happy New Year) – AND – Shana Tova U’Mtukah (Have a happy and sweet New Year) \nNo dietary restrictions\, but most students will miss school for this holiday. Commonly observed by synagogue attendance or family gatherings. Work is traditionally prohibited.
URL:https://multi-faithcalendar.org/events/rosh-hashanah-jewish-5/
CATEGORIES:2025,Jewish,September
END:VEVENT
BEGIN:VEVENT
DTSTART;VALUE=DATE:20250926
DTEND;VALUE=DATE:20250927
DTSTAMP:20260425T092023
CREATED:20241217T182623Z
LAST-MODIFIED:20241217T182623Z
UID:2938-1758844800-1758931199@multi-faithcalendar.org
SUMMARY:Feast of Mashiyyat / Will (Baha'i)
DESCRIPTION:Wherever they live\, Baha’is gather every 19 days for what we call a Feast. This is a members-only event comprising three parts: \n1. A spiritual portion that’s the time for prayer and reflection; \n2. A business portion for consultation about administrative issues (plans for forming classes\, organizing to perform community service\, observing holy days\, or any ideas or projects community members wish to discuss. It’s also a time when local members can ask their Local Assembly to forward their concerns to the National Assembly; \n3. A social portion that can consist of anything from just glasses of water to a full-course dinner.
URL:https://multi-faithcalendar.org/events/feast-of-mashiyyat-will-bahai-3/
CATEGORIES:2025,The Bahá’í Faith
END:VEVENT
BEGIN:VEVENT
DTSTART;VALUE=DATE:20250928
DTEND;VALUE=DATE:20251003
DTSTAMP:20260425T092023
CREATED:20241217T183415Z
LAST-MODIFIED:20241217T183415Z
UID:2950-1759017600-1759449599@multi-faithcalendar.org
SUMMARY:Durga Puja (Vedanta)
DESCRIPTION:Durga is one of the names of the Divine Mother  — the power of Brahman Absolute. \nLearn More: \nhttps://www.vedanet.com/the-meaning-of-durga/
URL:https://multi-faithcalendar.org/events/durga-puja-vedanta-4/
CATEGORIES:2025,Vedanta
END:VEVENT
BEGIN:VEVENT
DTSTART;TZID=America/New_York:20251001T190000
DTEND;TZID=America/New_York:20251002T190000
DTSTAMP:20260425T092023
CREATED:20241217T183619Z
LAST-MODIFIED:20241217T183619Z
UID:2952-1759345200-1759431600@multi-faithcalendar.org
SUMMARY:Yom Kippur (Jewish)
DESCRIPTION:Yom Kippur is the Day of Atonement. The focus of this holiday is on contemplation repentance. Jews are taught that sins between people can only be atoned for after personal reconciliation. It is considered to be the holiest and most solemn day of the year. Fasting begins at sundown and ends after nightfall the following day. Most Jews attend synagogue on this day and the preceding evening. This holiday closes out the period of the High Holy Days. \nMore Information \nHoliday Greeting: G’mar chatimah tovah (May you be sealed in the Book of Life) – AND – tzom kal (easy fast) \nCommonly observed by synagogue attendance or family gatherings. Individuals may be absent from school or work. Students will likely miss school for this holiday. Many who are 13 or older\, will also likely be fasting. Work is traditionally prohibited.
URL:https://multi-faithcalendar.org/events/yom-kippur-jewish-5/
CATEGORIES:2025,Jewish,September
END:VEVENT
BEGIN:VEVENT
DTSTART;VALUE=DATE:20251002
DTEND;VALUE=DATE:20251003
DTSTAMP:20260425T092023
CREATED:20241217T184210Z
LAST-MODIFIED:20241217T184210Z
UID:2956-1759363200-1759449599@multi-faithcalendar.org
SUMMARY:Dussehra (Hindu)
DESCRIPTION:Dussehra (Vijaya Dashami\, Dasara\, or Dashain) is a Hindu festival that celebrates the victory of good over evil.  It specifically commemorates when Lord Rama killed Ravana\, as told in the Hindu epic Ramayana. It is a gazetted holiday in India\, which is marked on the 10th and last day of Navratri\, according to the Hindu calendar. \nCelebrations can include burning effigies of Ravana\, setting off fireworks\, reenactments of segments of the Ramayana\, or processions to bodies of water to dissolve clay images of deities. \nMore information can be found here.
URL:https://multi-faithcalendar.org/events/dussehra-hindu-6/
CATEGORIES:2025,Hindu
END:VEVENT
END:VCALENDAR