BEGIN:VCALENDAR
VERSION:2.0
PRODID:-//Cincy MultiFaith Calendar - ECPv6.15.1.1//NONSGML v1.0//EN
CALSCALE:GREGORIAN
METHOD:PUBLISH
X-WR-CALNAME:Cincy MultiFaith Calendar
X-ORIGINAL-URL:https://multi-faithcalendar.org
X-WR-CALDESC:Events for Cincy MultiFaith Calendar
REFRESH-INTERVAL;VALUE=DURATION:PT1H
X-Robots-Tag:noindex
X-PUBLISHED-TTL:PT1H
BEGIN:VTIMEZONE
TZID:America/New_York
BEGIN:DAYLIGHT
TZOFFSETFROM:-0500
TZOFFSETTO:-0400
TZNAME:EDT
DTSTART:20240310T070000
END:DAYLIGHT
BEGIN:STANDARD
TZOFFSETFROM:-0400
TZOFFSETTO:-0500
TZNAME:EST
DTSTART:20241103T060000
END:STANDARD
END:VTIMEZONE
BEGIN:VEVENT
DTSTART;VALUE=DATE:20240320
DTEND;VALUE=DATE:20240321
DTSTAMP:20260425T113055
CREATED:20231129T184013Z
LAST-MODIFIED:20231129T184013Z
UID:2434-1710892800-1710979199@multi-faithcalendar.org
SUMMARY:Jamshedi Navroze (Parsi Zoroastrian)
DESCRIPTION:The spring equinox festival celebrated by Parsi Zoroastrians with family and friends. Celebrations may also include the Sofreh-e-Haft Seen table. \nHoliday Greeting: Navroze Mubarak \nChildren may miss school to celebrate with families \nMore Information
URL:https://multi-faithcalendar.org/events/jamshedi-navroze-parsi-zoroastrian-4/
CATEGORIES:2024,Parsi Zoroastrian
END:VEVENT
BEGIN:VEVENT
DTSTART;VALUE=DATE:20240321
DTEND;VALUE=DATE:20240322
DTSTAMP:20260425T113055
CREATED:20231129T184117Z
LAST-MODIFIED:20231129T184117Z
UID:2436-1710979200-1711065599@multi-faithcalendar.org
SUMMARY:Feast of Baha / Splendor (Baha'i)
DESCRIPTION:Wherever they live\, Baha’is gather every 19 days for what we call a Feast. This is a members-only event comprising three parts: \n1. A spiritual portion that’s the time for prayer and reflection; \n2. A business portion for consultation about administrative issues (plans for forming classes\, organizing to perform community service\, observing holy days\, or any ideas or projects community members wish to discuss. It’s also a time when local members can ask their Local Assembly to forward their concerns to the National Assembly; \n3. A social portion that can consist of anything from just glasses of water to a full-course dinner.
URL:https://multi-faithcalendar.org/events/feast-of-baha-splendor-bahai-2/
CATEGORIES:2024,The Bahá’í Faith
END:VEVENT
BEGIN:VEVENT
DTSTART;VALUE=DATE:20240323
DTEND;VALUE=DATE:20240325
DTSTAMP:20260425T113055
CREATED:20231129T182736Z
LAST-MODIFIED:20231129T182736Z
UID:2412-1711152000-1711324799@multi-faithcalendar.org
SUMMARY:Purim (Jewish)
DESCRIPTION:Purim\, one of the most joyous Jewish holidays\, commemorates the events in the Book of Esther. It celebrates the survival of the Jews who\, in the 5th century BCE\, were marked for death by their Persian rulers. Traditions include costumes\, retelling the story through skits and songs\, festivals geared towards children\, and giving care packages to those in need. It is tradition to eat special cookies called Hamentaschen \nMore Information \nHoliday Greeting: Purim Sameach (Happy Purim) \nThere are no restrictions for students/families.
URL:https://multi-faithcalendar.org/events/purim-jewish-4/
CATEGORIES:2024,Jewish
END:VEVENT
BEGIN:VEVENT
DTSTART;VALUE=DATE:20240324
DTEND;VALUE=DATE:20240325
DTSTAMP:20260425T113055
CREATED:20231226T123038Z
LAST-MODIFIED:20231226T123038Z
UID:2447-1711238400-1711324799@multi-faithcalendar.org
SUMMARY:Palm Sunday (Christian Protestant/ Catholic/ Hispanic/ The Church of Jesus Christ of Latter-Day Saints)
DESCRIPTION:Palm Sunday is the final Sunday of Lent\, the beginning of Holy Week\, and commemorates the triumphant arrival of Christ in Jerusalem\, days before he was crucified. In the Gospels\, Jesus entered Jerusalem riding a young donkey\, and to the lavish praise of the townspeople who threw clothes\, or possibly palms or small branches\, in front of him as a sign of homage. This was a customary practice for people of great respect. \nMore Information:\nPalms for the Lord – from The Church of Jesus Christ of Latter-Day Saints \nFrom the Christian Methodist Episcopal Church
URL:https://multi-faithcalendar.org/events/palm-sunday-christian-protestant-catholic-hispanic-the-church-of-jesus-christ-of-latter-day-saints-2/
CATEGORIES:2024,Catholic,Christian,Christian Protestant,Hispanic,The Church of Jesus Christ of Latter-day Saints
END:VEVENT
BEGIN:VEVENT
DTSTART;VALUE=DATE:20240325
DTEND;VALUE=DATE:20240326
DTSTAMP:20260425T113055
CREATED:20231129T182853Z
LAST-MODIFIED:20231129T182853Z
UID:2414-1711324800-1711411199@multi-faithcalendar.org
SUMMARY:Holi (Hindu)
DESCRIPTION:This is the “festival of colors” or the “festival of love.” Holi signifies the victory of good over evil and the arrival of spring. It is also celebrated as a thanksgiving for a good harvest. People celebrate this day by meeting together and tossing colored powders or colored water on each other. \nMore information can be found here.
URL:https://multi-faithcalendar.org/events/holi-hindu-4/
CATEGORIES:2024,Hindu,March
END:VEVENT
BEGIN:VEVENT
DTSTART;VALUE=DATE:20240325
DTEND;VALUE=DATE:20240328
DTSTAMP:20260425T113055
CREATED:20231129T183625Z
LAST-MODIFIED:20231129T183625Z
UID:2424-1711324800-1711583999@multi-faithcalendar.org
SUMMARY:Hola Mahalla (Sikh)
DESCRIPTION:Hola Mohalla takes place on the first day of the lunar month of Chet\, which generally falls in March. This tradition was established by the tenth Guru\, Guru Gobind Singh\, in 1701 for Sikhs to demonstrate their martial skills in controlled battles. Hola Mohalla became an annual event and continues to be celebrated with martial exhibitions\, music and poetry competitions\, and horseback riding. \nMore Information \nHoliday Greeting: “Vadhaaiaa Ji” – Congratulations! \nDevout Sikhs may be absent this day to celebrate with family and the community at their local Gurdwara.
URL:https://multi-faithcalendar.org/events/hola-mahalla-sikh-4/
CATEGORIES:2024,Sikh
END:VEVENT
BEGIN:VEVENT
DTSTART;VALUE=DATE:20240326
DTEND;VALUE=DATE:20240327
DTSTAMP:20260425T113055
CREATED:20231129T184423Z
LAST-MODIFIED:20231129T184423Z
UID:2442-1711411200-1711497599@multi-faithcalendar.org
SUMMARY:Khordad Sal (Parsi Zoroastrian)
DESCRIPTION:Birth anniversary of Zarathushtra (Zoroaster)\, the founder of Zoroastrianism. Zoroastrians gather in Fire temples for prayers and then celebrate with a family feast. \nMore Information
URL:https://multi-faithcalendar.org/events/khordad-sal-parsi-zoroastrian-5/
CATEGORIES:2024,March,Parsi Zoroastrian
END:VEVENT
BEGIN:VEVENT
DTSTART;VALUE=DATE:20240328
DTEND;VALUE=DATE:20240329
DTSTAMP:20260425T113055
CREATED:20231226T123811Z
LAST-MODIFIED:20231226T123811Z
UID:2455-1711584000-1711670399@multi-faithcalendar.org
SUMMARY:Holy Thursday (Catholic/ Christian Protestant/ The Church of Jesus Christ of Latter-day Saints)
DESCRIPTION:Holy Thursday is the commemoration of the Last Supper of Jesus Christ\, when\, prior to his arrest and crucifixion\, he established the practice of communion\, which is considered a sacrament among most Christian communities. Later that evening\, he prays in the Garden of Gethsemane.\nMore information from the Catholic Church\nMore information from The Church of Jesus Christ of Latter-day Saints\nMore information from the Christian Methodist Episcopal Church\n 
URL:https://multi-faithcalendar.org/events/holy-thursday-catholic-christian-protestant-the-church-of-jesus-christ-of-latter-day-saints-2/
CATEGORIES:2024,Catholic,Christian,Christian Protestant,Hispanic,The Church of Jesus Christ of Latter-day Saints
END:VEVENT
BEGIN:VEVENT
DTSTART;VALUE=DATE:20240329
DTEND;VALUE=DATE:20240330
DTSTAMP:20260425T113055
CREATED:20231226T124012Z
LAST-MODIFIED:20231226T124012Z
UID:2457-1711670400-1711756799@multi-faithcalendar.org
SUMMARY:Good Friday (Christian Protestant/ Catholic/ The Church of Jesus Christ of Latter-day Saints)
DESCRIPTION:Good Friday is the day on which Christians commemorate the crucifixion and death of Jesus Christ.\n\nMore information from The Church of Jesus Christ of Latter-day Saints\nMore information from the Catholic Church\nMore information from the Christian Methodist Episcopal Church\n\nThis is a day of fasting and abstinence from meat for Catholics over the age of 14.
URL:https://multi-faithcalendar.org/events/good-friday-christian-protestant-catholic-the-church-of-jesus-christ-of-latter-day-saints-2/
CATEGORIES:2024,Catholic,Christian,Christian Protestant,The Church of Jesus Christ of Latter-day Saints
END:VEVENT
BEGIN:VEVENT
DTSTART;VALUE=DATE:20240330
DTEND;VALUE=DATE:20240331
DTSTAMP:20260425T113055
CREATED:20240102T220453Z
LAST-MODIFIED:20240102T222400Z
UID:2702-1711756800-1711843199@multi-faithcalendar.org
SUMMARY:Holy Saturday/The Great Vigil of Easter (Catholic/ Protestant/ Episcopal)
DESCRIPTION:On this most holy night\, in which our Lord Jesus passed over from death to life\, the Church invites her members\, dispersed throughout the world\, to gather in vigil and prayer. For this is the Passover of the Lord\, in which\, by hearing God’s Word and celebrating the Sacraments\, we share in Christ’s victory over death. (From the Episcopal Book of Common Prayer)
URL:https://multi-faithcalendar.org/events/holy-saturday-the-great-vigil-of-easter-catholic-protestant-episcopal/
CATEGORIES:2024,Catholic,Christian,Episcopal
END:VEVENT
BEGIN:VEVENT
DTSTART;VALUE=DATE:20240331
DTEND;VALUE=DATE:20240401
DTSTAMP:20260425T113055
CREATED:20231129T184536Z
LAST-MODIFIED:20231129T184536Z
UID:2444-1711843200-1711929599@multi-faithcalendar.org
SUMMARY:Easter Sunday (Catholic / Christian Protestant/ The Church of Jesus Christ of Latter-Day Saints)
DESCRIPTION:A festival and holiday celebrating the resurrection of Jesus Christ from the dead.  After He died on the cross\, his body was placed in a tomb\, where it remained for three days\, separated from His spirit\, until on Sunday\, when he was resurrected. It is the most important day of the Christian calendar. \nMore information from The Church of Jesus Christ of Latter-day Saints\nMore information from the Catholic Church\nMore information from the Christian Methodist Episcopal Church\nHoliday Greeting: Happy Easter!
URL:https://multi-faithcalendar.org/events/easter-sunday-catholic-christian-protestant-the-church-of-jesus-christ-of-latter-day-saints-2/
CATEGORIES:2024,Catholic,Christian,Christian Protestant,Hispanic,The Church of Jesus Christ of Latter-day Saints
END:VEVENT
BEGIN:VEVENT
DTSTART;VALUE=DATE:20240407
DTEND;VALUE=DATE:20240409
DTSTAMP:20260425T113055
CREATED:20231226T124828Z
LAST-MODIFIED:20240102T214826Z
UID:2465-1712448000-1712620799@multi-faithcalendar.org
SUMMARY:Feast of Jalal / Glory (Baha'i)
DESCRIPTION:Wherever they live\, Baha’is gather every 19 days for what we call a Feast. Observance begins at midnight on April 7th. This is a members-only event comprising three parts: \n1. A spiritual portion that’s the time for prayer and reflection; \n2. A business portion for consultation about administrative issues (plans for forming classes\, organizing to perform community service\, observing holy days\, or any ideas or projects community members wish to discuss. It’s also a time when local members can ask their Local Assembly to forward their concerns to the National Assembly; \n3. A social portion that can consist of anything from just glasses of water to a full-course dinner.
URL:https://multi-faithcalendar.org/events/feast-of-jalal-glory-bahai-2/
CATEGORIES:2024,The Bahá’í Faith
END:VEVENT
BEGIN:VEVENT
DTSTART;VALUE=DATE:20240408
DTEND;VALUE=DATE:20240409
DTSTAMP:20260425T113055
CREATED:20231226T124653Z
LAST-MODIFIED:20231226T124653Z
UID:2463-1712534400-1712620799@multi-faithcalendar.org
SUMMARY:Jashan-e Fravardegan (Zoroastrian)
DESCRIPTION:Jashan-e Fravardegan is a celebration ceremony\, a Jashan\, performed on Fravardin day of\nFravardin month\, in honor of fravashis\, the souls of all the righteous people who have ever lived in our world. In Zoroastrianism\, we have special prayers dedicated to honoring and remembering with respect and love the souls of our beloved departed as well as all the righteous souls in the universe.\nRighteous people with their righteous actions throughout their lives help in progressing our world further. Hence\, in this Jashan especially\, we show our respect to all such righteous souls who have helped in the progress of our world so far\, and we seek their blessings so we too can follow in their footsteps and perform righteous actions to further the progress of our world in our lifetime.
URL:https://multi-faithcalendar.org/events/jashan-e-fravardegan-zoroastrian-3/
CATEGORIES:2024,Zoroastrian
END:VEVENT
BEGIN:VEVENT
DTSTART;VALUE=DATE:20240409
DTEND;VALUE=DATE:20240410
DTSTAMP:20260425T113055
CREATED:20231129T184240Z
LAST-MODIFIED:20231129T184240Z
UID:2439-1712620800-1712707199@multi-faithcalendar.org
SUMMARY:Ramadan Ends (Islam)
DESCRIPTION:This marks the the holy month where Muslims fast from sunrise to sunset for 30 days abstaining from food and drinks. \nMore Information \nHoliday Greeting: Ramadan Mubarak \nThere are evening prayers that some students may attend at the mosque during this month. Mostly middle and high school students will be fasting.
URL:https://multi-faithcalendar.org/events/ramadan-ends-islam-3/
CATEGORIES:2024,Islam
END:VEVENT
BEGIN:VEVENT
DTSTART;VALUE=DATE:20240409
DTEND;VALUE=DATE:20240411
DTSTAMP:20260425T113055
CREATED:20231226T130826Z
LAST-MODIFIED:20231226T130826Z
UID:2475-1712620800-1712793599@multi-faithcalendar.org
SUMMARY:Eid al-Fitr (Islam)
DESCRIPTION:This holiday marks the end of Ramadan\, the fasting month. It is a time of celebration and thankfulness of the self control practiced during the month. \nMore Information \nHoliday Greeting: “Eid Mubarak! (Happy Eid)” \nStudents will miss school to attend congregational prayers at the mosque and celebrate the holiday with their families/friends.
URL:https://multi-faithcalendar.org/events/eid-al-fitr-islam-3/
CATEGORIES:2024,Islam
END:VEVENT
BEGIN:VEVENT
DTSTART;VALUE=DATE:20240413
DTEND;VALUE=DATE:20240414
DTSTAMP:20260425T113055
CREATED:20231226T124932Z
LAST-MODIFIED:20231226T124932Z
UID:2467-1712966400-1713052799@multi-faithcalendar.org
SUMMARY:Puthandu (Hindu)
DESCRIPTION:Today is Puthandu (also called Puthuvarudam or Tamil New Year). Many Hindus consider today the solar new year and mark the occasion  by thanking God/Universe for another new year and new beginnings. \nTraditional celebrations include an elaborate feast with 6 different tastes – sweet\, sour\, spice (hot)\, salt\, bitter and ‘thuvarpu’ (like Umami). This is to symbolize that our life is filled with different experiences and emotions and remember to embrace and enjoy them all. Celebrants will typically make one dish with all of these tastes in it. The recipe is all about balancing each of the ingredients\, like the recipe to a balanced life. \nYou can learn more about this holiday here. \nTraditional Tamil greetings include: “Puthāaṇdu vāazhthugal!” or “Iṉiya puthaandu nalvāazhthugal!”\, which is equivalent to “Happy new year”.
URL:https://multi-faithcalendar.org/events/puthandu-hindu-3/
CATEGORIES:2024,April,Hindu
END:VEVENT
BEGIN:VEVENT
DTSTART;VALUE=DATE:20240413
DTEND;VALUE=DATE:20240414
DTSTAMP:20260425T113055
CREATED:20231226T125048Z
LAST-MODIFIED:20231226T125048Z
UID:2469-1712966400-1713052799@multi-faithcalendar.org
SUMMARY:Vaisakhi – Khalsa Day (Sikh)
DESCRIPTION:On Vaisakhi in 1699\, the tenth Guru\, Guru Gobind Singh\, established the initiated community of Sikhs\, the Khalsa\, through the Amrit ceremony and became initiated himself too. Vaisakhi holds great significance in the history of the community. Sikhs acquire their formal\, distinct identity from this day onward. The identity includes the unique physical appearance and the names of Singh and Kaur. This new community of equals were to dedicate their lives to the service of others and pursuit of justice for all faiths. Vaisakhi has a deep spirit of equality\, unity\, identity\, and commitment for the Sikhs. Sikhs celebrate Vaisakhi by organizing religious services\, martial arts exhibitions\, parades\, etc. \nMore Information \nHoliday Greeting: “Vaisakhi di Lakh Lakh Vadhaaiaa Ji” – Infinite Congratulations for Vaisakhi \nStudents and Co-Workers may be absent this day to celebrate at home with their family and with the entire community at their local Gurdwara
URL:https://multi-faithcalendar.org/events/vaisakhi-khalsa-day-sikh-3/
CATEGORIES:2024,Sikh
END:VEVENT
BEGIN:VEVENT
DTSTART;VALUE=DATE:20240415
DTEND;VALUE=DATE:20240416
DTSTAMP:20260425T113055
CREATED:20231227T105906Z
LAST-MODIFIED:20231227T105906Z
UID:2496-1713139200-1713225599@multi-faithcalendar.org
SUMMARY:Birth of Guru Arjan Sahib (5th Guru) (Sikh)
DESCRIPTION:The fifth Master\, Guru Arjan\, built the Golden Temple of Amritsar to emphasize that the Sikh way was open to all\, regardless of caste; the gurdwara was constructed with doors facing all four directions. He compiled the hymns of Sikh Gurus and created the Adi Granth – the foundation of the Guru Granth Sahib – and installed it. He was also the first Sikh Guru to be martyred. \nMore Information \nTraditional Greeting: “Vadhaaiaa Ji” – Congratulations!
URL:https://multi-faithcalendar.org/events/birth-of-guru-arjan-sahib-5th-guru-sikh-4/
CATEGORIES:2024,Sikh
END:VEVENT
BEGIN:VEVENT
DTSTART;VALUE=DATE:20240420
DTEND;VALUE=DATE:20240421
DTSTAMP:20260425T113055
CREATED:20231226T130635Z
LAST-MODIFIED:20240102T214858Z
UID:2473-1713571200-1713657599@multi-faithcalendar.org
SUMMARY:First Day of Ridvan (The Bahá’í Faith)
DESCRIPTION:1st Day of Festival of Ridvan-**(There are three holy Days as part of the Festival\, the first day\, the ninth and the twelfth.) The annual Baha’i Festival commemorates the 12 days when Baha’u’llah\, the founder of the Faith\, publicly proclaimed his mission as God’s messenger. Begins at sundown on April 19 and ends at sunset on April 20. \nHoliday Greeting: Happy Ridvan \nWork is to be suspended and children excused from school. \nMore Information
URL:https://multi-faithcalendar.org/events/first-day-of-ridvan-the-bahai-faith-3/
CATEGORIES:2024,April,The Bahá’í Faith
END:VEVENT
BEGIN:VEVENT
DTSTART;VALUE=DATE:20240421
DTEND;VALUE=DATE:20240422
DTSTAMP:20260425T113055
CREATED:20231226T123138Z
LAST-MODIFIED:20231226T123138Z
UID:2449-1713657600-1713743999@multi-faithcalendar.org
SUMMARY:Mahavir Jayanti (Jain)
DESCRIPTION:Mahavir Jayanti is the anniversary of birth of the 24th and last Tirthankara for the followers of Jain religion and culture\, or Lord Mahavir. The festival is celebrated to champion the cause of peace and harmony\, and also spread the teachings of Lord Mahavira. A procession is carried out in the form of “rath yatra” with Lord Mahavira’s murti placed on the top. Jain temples are decorated with flags\, while the Jains offer food and clothes to the needy. Also\, prayers are offered in temples dedicated to Lord Mahavira and some devotees often engage in meditation—a practice championed by Mahavir. \nMore information can be found here. \nTypical greetings would be as follows: “May Lord Mahavir bless you abundantly and fill your life with the virtue of Truth\, Nonviolence and External compassion. Happy Mahavir Jayanti\,” or “Prayers for Peace and Harmony for all humankind on this auspicious day of Mahavir Jayanti.”
URL:https://multi-faithcalendar.org/events/mahavir-jayanti-jain-3/
CATEGORIES:2024,April,Jain
END:VEVENT
BEGIN:VEVENT
DTSTART;VALUE=DATE:20240422
DTEND;VALUE=DATE:20240423
DTSTAMP:20260425T113055
CREATED:20231226T131118Z
LAST-MODIFIED:20231226T131118Z
UID:2477-1713744000-1713830399@multi-faithcalendar.org
SUMMARY:Jashan-e Ardavahisht (Zoroastrian)
DESCRIPTION:Jashan-e Ardavahisht is a celebration ceremony\, a Jashan\, performed on Ardibehest day of\nArdibehest month\, in honor of Ardavahisht or Ardibehest\, a Pehlavi name derived from the ancient Avestan term “Asha Vahishta” from the Gathas of Zarathushtra. Asha stands for “truth\, order\, righteousness.” Vahishta means ‘the Best’ or ‘the Highest’. So\, Asha Vahishta is the Best or the Highest Righteousness which Zarathushtra attributes to Ahura Mazda. Asha is the universal law of righteous precision. It may best be explained by stating that it means “to do the right thing\, at the right time\, in the right place\, and with the right means in order to attain the right result.” It should result in constructive and loving good not only for oneself but also for one’s fellow creatures and for God. It is the positive\, beneficial and unselfish precision par excellence. In later Zoroastrian religious history\,\nthe wise men/priests associated Ardavahisht with being the steward/guardian of all those forces that give light\, and warmth to our world. To us\, Fire is that symbol of light and warmth\, and represents God’s Righteousness to us\, that’s why a Zoroastrian prefers to pray in front of any form of light. In our temples\, the priest keeps an eternal Fire burning on a large urn\, adding wood to it five times a day. That holy fire in our temples serves as the medium of one’s concentration and communication with God. Zoroastrians are wrongly believed by many as Fire-Worshippers\, when in fact\, Fire is an element of great reverence to a Zoroastrian and reminds her/him of God’s Righteousness\, and is beneficial to have in some form in front of the devotee\, to use as a medium of meditative focus and\nconcentration\, as the devotee worships God/communicates with God\, through her/his prayers.
URL:https://multi-faithcalendar.org/events/jashan-e-ardavahisht-zoroastrian-3/
CATEGORIES:2024,Zoroastrian
END:VEVENT
BEGIN:VEVENT
DTSTART;TZID=America/New_York:20240422T180000
DTEND;TZID=America/New_York:20240430T180000
DTSTAMP:20260425T113055
CREATED:20231226T123529Z
LAST-MODIFIED:20231226T123529Z
UID:2451-1713808800-1714500000@multi-faithcalendar.org
SUMMARY:Passover (Jewish)
DESCRIPTION:Passover\, known in Hebrew as Pesach\, commemorates the liberation of the Hebrew slaves from Egypt. A feast called a seder is held on the first two nights. During the seder\, the Exodus story is read aloud and freedom from slavery is celebrated. This is one of the most widely observed Jewish holidays. \nMore Information \nHoliday Greeting: Pesach Sameach (Happy Passover) \nNo food that is leavened (e.g.\, bread\, cake) or contains wheat is eaten. Matzah (unleavened bread) is often consumed instead. Work is traditionally prohibited on the first\, second\, seventh\, and eighth days. Absences may vary based on religious observance of the holiday.
URL:https://multi-faithcalendar.org/events/passover-jewish-2/
CATEGORIES:2024,April,Jewish
END:VEVENT
BEGIN:VEVENT
DTSTART;VALUE=DATE:20240426
DTEND;VALUE=DATE:20240428
DTSTAMP:20260425T113055
CREATED:20231226T131646Z
LAST-MODIFIED:20240102T215003Z
UID:2486-1714089600-1714262399@multi-faithcalendar.org
SUMMARY:Feast of Jamal/ Beauty (Baha'i)
DESCRIPTION:Wherever they live\, Baha’is gather every 19 days for what we call a Feast. Observance begins at midnight April 26. This is a members-only event comprising three parts: \n1. A spiritual portion that’s the time for prayer and reflection; \n2. A business portion for consultation about administrative issues (plans for forming classes\, organizing to perform community service\, observing holy days\, or any ideas or projects community members wish to discuss. It’s also a time when local members can ask their Local Assembly to forward their concerns to the National Assembly; \n3. A social portion that can consist of anything from just glasses of water to a full-course dinner.
URL:https://multi-faithcalendar.org/events/feast-of-jamal-beauty-bahai-2/
CATEGORIES:2024,The Bahá’í Faith
END:VEVENT
BEGIN:VEVENT
DTSTART;VALUE=DATE:20240429
DTEND;VALUE=DATE:20240430
DTSTAMP:20260425T113055
CREATED:20231226T131749Z
LAST-MODIFIED:20231226T131749Z
UID:2488-1714348800-1714435199@multi-faithcalendar.org
SUMMARY:9th Day of Festival of Ridvan -(The Bahá’í Faith)
DESCRIPTION:9th Day of Ridvan. There are three holy Days as part of the Festival\, the first day\, the ninth and the twelfth. The annual Baha’i Festival commemorates the 12 days when Baha’u’llah\, the founder of the Faith\, publicly proclaimed his mission as God’s messenger. \nHoliday Greeting: Happy Ridvan \nWork is to be suspended and children excused from school. \nhttps://en.wikipedia.org/wiki/Ridv%C3%A1n
URL:https://multi-faithcalendar.org/events/9th-day-of-festival-of-ridvan-the-bahai-faith-3/
CATEGORIES:2024,April,The Bahá’í Faith
END:VEVENT
BEGIN:VEVENT
DTSTART;VALUE=DATE:20240430
DTEND;VALUE=DATE:20240505
DTSTAMP:20260425T113055
CREATED:20231226T131833Z
LAST-MODIFIED:20231226T131833Z
UID:2490-1714435200-1714867199@multi-faithcalendar.org
SUMMARY:Maidyozarem Gahambar (Zoroastrian)
DESCRIPTION:Maidyozarem (literally: midgreening) Gahambar is a seasonal festival celebrated in mid-spring. It is considered a religious duty to participate in a communal jashan prayer ceremony; as well as\, fraternize and share a simple meal with fellow co-religionists from all walks of life\, rich and poor. \nMore Information
URL:https://multi-faithcalendar.org/events/maidyozarem-gahambar-zoroastrian-3/
CATEGORIES:2024,April,May,Zoroastrian
END:VEVENT
BEGIN:VEVENT
DTSTART;VALUE=DATE:20240501
DTEND;VALUE=DATE:20240502
DTSTAMP:20260425T113055
CREATED:20231227T105323Z
LAST-MODIFIED:20240102T215043Z
UID:2494-1714521600-1714607999@multi-faithcalendar.org
SUMMARY:12th Day of the Festival of Ridvan (The Bahá’í Faith)
DESCRIPTION:12th Day of Ridvan. There are three holy Days as part of the Festival\, the first day\, the ninth and the twelfth. The annual Baha’i Festival commemorates the 12 days when Baha’u’llah\, the founder of the Faith\, publicly proclaimed his mission as God’s messenger. \nHoliday Greeting: Happy Ridvan \nWork is to be suspended and children excused from school. \nhttps://en.wikipedia.org/wiki/Ridv%C3%A1n
URL:https://multi-faithcalendar.org/events/12th-day-of-the-festival-of-ridvan-the-bahai-faith-3/
CATEGORIES:2024,May,The Bahá’í Faith
END:VEVENT
BEGIN:VEVENT
DTSTART;VALUE=DATE:20240501
DTEND;VALUE=DATE:20240502
DTSTAMP:20260425T113055
CREATED:20241117T190052Z
LAST-MODIFIED:20241117T190052Z
UID:2816-1714521600-1714607999@multi-faithcalendar.org
SUMMARY:Beltane (Pagan)
DESCRIPTION:Beltane: is celebrated on May 1st halfway between Spring Equinox and Summer Solstice. It is the beginning of summer. Among pastoral people this was when the flocks and herds were moved from the lower winter pasture to the higher summer pasture. To ensure fertility\, the livestock was herded between two fires. This holiday celebrates fertility and sexuality. This is a time for fun and frolic. Jumping over the fire is part of the ritual. \nMore Information
URL:https://multi-faithcalendar.org/events/beltane-pagan-4/
CATEGORIES:2024,Pagan
END:VEVENT
BEGIN:VEVENT
DTSTART;VALUE=DATE:20240502
DTEND;VALUE=DATE:20240503
DTSTAMP:20260425T113055
CREATED:20231226T123707Z
LAST-MODIFIED:20231226T123707Z
UID:2453-1714608000-1714694399@multi-faithcalendar.org
SUMMARY:Holy Thursday (Christian Orthodox)
DESCRIPTION:On Thursday of Holy Week four events are commemorated: the washing of the disciples’ feet\, the institution of the Sacrament of the Holy Eucharist at the Last Supper\, the agony in the garden of Gethsemane\, and the betrayal of Christ by Judas. \nYou can learn more here.
URL:https://multi-faithcalendar.org/events/holy-thursday-christian-orthodox-3/
CATEGORIES:2024,Christian Orthodox
END:VEVENT
BEGIN:VEVENT
DTSTART;VALUE=DATE:20240503
DTEND;VALUE=DATE:20240504
DTSTAMP:20260425T113055
CREATED:20231226T124218Z
LAST-MODIFIED:20231226T124218Z
UID:2459-1714694400-1714780799@multi-faithcalendar.org
SUMMARY:Great and Holy Friday (Christian Orthodox)
DESCRIPTION:On Great and Holy Friday the Orthodox Church commemorates the death of Christ on the Cross. This is the culmination of the observance of His Passion by which our Lord suffered and died for our sins. This commemoration begins on Thursday evening with the Matins of Holy Friday and concludes with a Vespers on Friday afternoon that observes the unnailing of Christ from the Cross and the placement of His body in the tomb. \n\n\nMore information can be found here. \n\nThis is a day of fasting and abstinence for most over the age of 14.
URL:https://multi-faithcalendar.org/events/great-and-holy-friday-christian-orthodox-2/
CATEGORIES:2024,Christian Orthodox
END:VEVENT
BEGIN:VEVENT
DTSTART;VALUE=DATE:20240505
DTEND;VALUE=DATE:20240506
DTSTAMP:20260425T113055
CREATED:20231226T124332Z
LAST-MODIFIED:20231226T124332Z
UID:2461-1714867200-1714953599@multi-faithcalendar.org
SUMMARY:Easter / Pascha (Christian Orthodox)
DESCRIPTION:On the Great and Holy Feast of Pascha\, Orthodox Christians celebrate the life-giving Resurrection of our Lord and Savior Jesus Christ. This feast of feasts is the most significant day in the life of the Church. It is a celebration of the defeat of death\, as neither death itself nor the power of the grave could hold our Savior captive. In this victory that came through the Cross\, Christ broke the bondage of sin\, and through faith offers us restoration\, transformation\, and eternal life. \nLearn more here.
URL:https://multi-faithcalendar.org/events/easter-pascha-christian-orthodox-3/
CATEGORIES:2024,Christian Orthodox
END:VEVENT
END:VCALENDAR