BEGIN:VCALENDAR
VERSION:2.0
PRODID:-//Cincy MultiFaith Calendar - ECPv6.15.1.1//NONSGML v1.0//EN
CALSCALE:GREGORIAN
METHOD:PUBLISH
X-WR-CALNAME:Cincy MultiFaith Calendar
X-ORIGINAL-URL:https://multi-faithcalendar.org
X-WR-CALDESC:Events for Cincy MultiFaith Calendar
REFRESH-INTERVAL;VALUE=DURATION:PT1H
X-Robots-Tag:noindex
X-PUBLISHED-TTL:PT1H
BEGIN:VTIMEZONE
TZID:America/New_York
BEGIN:DAYLIGHT
TZOFFSETFROM:-0500
TZOFFSETTO:-0400
TZNAME:EDT
DTSTART:20240310T070000
END:DAYLIGHT
BEGIN:STANDARD
TZOFFSETFROM:-0400
TZOFFSETTO:-0500
TZNAME:EST
DTSTART:20241103T060000
END:STANDARD
END:VTIMEZONE
BEGIN:VEVENT
DTSTART;VALUE=DATE:20240926
DTEND;VALUE=DATE:20240927
DTSTAMP:20260425T092757
CREATED:20231228T202653Z
LAST-MODIFIED:20231228T202653Z
UID:2588-1727308800-1727395199@multi-faithcalendar.org
SUMMARY:Feast of Mashiyyat / Will (Baha'i)
DESCRIPTION:Wherever they live\, Baha’is gather every 19 days for what we call a Feast. This is a members-only event comprising three parts: \n1. A spiritual portion that’s the time for prayer and reflection; \n2. A business portion for consultation about administrative issues (plans for forming classes\, organizing to perform community service\, observing holy days\, or any ideas or projects community members wish to discuss. It’s also a time when local members can ask their Local Assembly to forward their concerns to the National Assembly; \n3. A social portion that can consist of anything from just glasses of water to a full-course dinner.
URL:https://multi-faithcalendar.org/events/feast-of-mashiyyat-will-bahai-2/
CATEGORIES:2024,The Bahá’í Faith
END:VEVENT
BEGIN:VEVENT
DTSTART;VALUE=DATE:20240922
DTEND;VALUE=DATE:20240923
DTSTAMP:20260425T092757
CREATED:20231228T202434Z
LAST-MODIFIED:20231228T202434Z
UID:2584-1726963200-1727049599@multi-faithcalendar.org
SUMMARY:Autumn Equinox - Mabon (Pagan)
DESCRIPTION:Autumn Equinox or Mabon is celebrated September 21st or 22nd. This is second harvest and is the witches Thanksgiving. This is a time of appreciation\, reflection\, and preparation for winter. \nMore Information
URL:https://multi-faithcalendar.org/events/autumn-equinox-mabon-pagan-3/
CATEGORIES:2024,Pagan
END:VEVENT
BEGIN:VEVENT
DTSTART;VALUE=DATE:20240922
DTEND;VALUE=DATE:20240923
DTSTAMP:20260425T092757
CREATED:20231228T201933Z
LAST-MODIFIED:20231228T201933Z
UID:2582-1726963200-1727049599@multi-faithcalendar.org
SUMMARY:GurGaddi of Guru Angad Sahib (2nd Guru) (Sikh)
DESCRIPTION:Guru Angad Dev Ji was originally a humble Sikh named Lehna. Upon meeting the founder of Sikhism\, Guru Nanak\, his life transformed and he never left the Guru’s side serving the community for many years to follow. When the time came\, Guru Nanak approached Lehna and said you have now become a part of me\, Ang\, and henceforth you shall carry on the Guru’s work as Angad. Guru Angad was responsible for establishing the script of the Guru\, Gurmukhi\, which is commonly known today as the Punjabi script. \nMore Information \nHoliday Greeting: “Vadhaaiaa Ji” – Congratulations! \nStudents and/Co-Workers may visit their local Gurdwara at some point during the day
URL:https://multi-faithcalendar.org/events/gurgaddi-of-guru-angad-sahib-2nd-guru-sikh-3/
CATEGORIES:2024,Sikh
END:VEVENT
BEGIN:VEVENT
DTSTART;VALUE=DATE:20240914
DTEND;VALUE=DATE:20240915
DTSTAMP:20260425T092757
CREATED:20231228T201303Z
LAST-MODIFIED:20231228T201303Z
UID:2574-1726272000-1726358399@multi-faithcalendar.org
SUMMARY:Exaltation of the Holy Cross (Orthodox Christianity)
DESCRIPTION:The Feast of the Universal Exaltation of the Precious and Life-Giving Cross is celebrated each year on September 14. The Feast commemorates the finding of the True Cross of our Lord and Savior Jesus Christ by Saint Helen\, the mother of the Emperor Constantine. \nYou can learn more about this celebration here.
URL:https://multi-faithcalendar.org/events/exaltation-of-the-holy-cross-orthodox-christianity-3/
CATEGORIES:2024,Christian Orthodox
END:VEVENT
BEGIN:VEVENT
DTSTART;VALUE=DATE:20240912
DTEND;VALUE=DATE:20240917
DTSTAMP:20260425T092757
CREATED:20231228T201148Z
LAST-MODIFIED:20231228T201148Z
UID:2572-1726099200-1726531199@multi-faithcalendar.org
SUMMARY:Paitishahem Gahambar (Zoroastrian)
DESCRIPTION:Paitishahem (literally: bringing in the harvest) Gahambar is a harvest seasonal festival. It is considered a religious duty to participate in a communal jashan prayer ceremony; as well as\, fraternize and share a simple meal with fellow co-religionists from all walks of life\, rich and poor. \nMore Information
URL:https://multi-faithcalendar.org/events/paitishahem-gahambar-zoroastrian-4/
CATEGORIES:2024,September,Zoroastrian
END:VEVENT
BEGIN:VEVENT
DTSTART;VALUE=DATE:20240907
DTEND;VALUE=DATE:20240908
DTSTAMP:20260425T092757
CREATED:20231228T200851Z
LAST-MODIFIED:20231228T200851Z
UID:2568-1725667200-1725753599@multi-faithcalendar.org
SUMMARY:Feast of Izzat / Might (Baha'i)
DESCRIPTION:Wherever they live\, Baha’is gather every 19 days for what we call a Feast. This is a members-only event comprising three parts: \n1. A spiritual portion that’s the time for prayer and reflection; \n2. A business portion for consultation about administrative issues (plans for forming classes\, organizing to perform community service\, observing holy days\, or any ideas or projects community members wish to discuss. It’s also a time when local members can ask their Local Assembly to forward their concerns to the National Assembly; \n3. A social portion that can consist of anything from just glasses of water to a full-course dinner.
URL:https://multi-faithcalendar.org/events/feast-of-izzat-might-bahai-2/
CATEGORIES:2024,The Bahá’í Faith
END:VEVENT
BEGIN:VEVENT
DTSTART;VALUE=DATE:20240906
DTEND;VALUE=DATE:20240907
DTSTAMP:20260425T092757
CREATED:20231228T201639Z
LAST-MODIFIED:20231228T201639Z
UID:2580-1725580800-1725667199@multi-faithcalendar.org
SUMMARY:Ganesh Chaturthi (Hindu)
DESCRIPTION:This is a 10-day festival\, also called Vinayaka Chaturthi or Vinayaka Chavithi\, that celebrates the birth of Ganesha\, the elephant-headed god. The festival is marked by the installation of clay idols of Ganesh privately in homes\, or publicly on elaborate pandals (temporary stages) with ornate statues. Hymns\, prayers\, and fasting are typical practices during this festival. On the tenth day\, the festival ends with a public procession to a nearby river or ocean and immersion of the idols and statues. In Mumbai alone\, it is estimated that around 150\,000 statues are immersed annually. \nMore information can be found here.
URL:https://multi-faithcalendar.org/events/ganesh-chaturthi-hindu-4/
CATEGORIES:2024,Hindu,September
END:VEVENT
BEGIN:VEVENT
DTSTART;VALUE=DATE:20240904
DTEND;VALUE=DATE:20240905
DTSTAMP:20260425T092757
CREATED:20231228T200750Z
LAST-MODIFIED:20231228T200750Z
UID:2566-1725408000-1725494399@multi-faithcalendar.org
SUMMARY:Parkash of Guru Granth Sahib (Eternal Guru) (Sikh)
DESCRIPTION:This day celebrates Gobind Singh Ji’s passing on guruship to Scripture\, henceforth known as the Guru Granth Sahib. \nMore Information \nTraditional Greeting: “Vadhaaiaa Ji” – Congratulations!
URL:https://multi-faithcalendar.org/events/parkash-of-guru-granth-sahib-eternal-guru-sikh-3/
CATEGORIES:2024,September,Sikh
END:VEVENT
BEGIN:VEVENT
DTSTART;VALUE=DATE:20240831
DTEND;VALUE=DATE:20240909
DTSTAMP:20260425T092757
CREATED:20231228T201026Z
LAST-MODIFIED:20231228T201026Z
UID:2570-1725062400-1725839999@multi-faithcalendar.org
SUMMARY:Paryushan (Jain)
DESCRIPTION:Paryushan is a time (period) for self-analysis and soul searching\, for reflecting and contemplating on past conduct\, in light of the teachings of Jainism and re-dedication to leading a spiritually cleaner life in the future. An important day is the last day of Paryushan (Shwetambar sect)\, or Saṃvatsarī (Sanskrit: संवत्सरी) (Forgiveness Day)\, when Jains forgive and seek forgiveness for their mistakes committed knowingly or unknowingly from all the living beings. \nDuring this period\, Jains would typically greet each other by saying “Michhami Dukkadam” which essentially signifies forgiveness (both forgiving and seeking forgiveness). \nMore information can be found here. \nTo connect with the Jain community in Cincinnati and Dayton visit this website.
URL:https://multi-faithcalendar.org/events/paryushan-jain-2/
CATEGORIES:2024,August,Jain,September
END:VEVENT
BEGIN:VEVENT
DTSTART;VALUE=DATE:20240826
DTEND;VALUE=DATE:20240827
DTSTAMP:20260425T092757
CREATED:20241217T180805Z
LAST-MODIFIED:20241217T180805Z
UID:2926-1724630400-1724716799@multi-faithcalendar.org
SUMMARY:Ganesh Chaturthi (Hindu)
DESCRIPTION:This is a 10-day festival\, also called Vinayaka Chaturthi or Vinayaka Chavithi\, that celebrates the birth of Ganesha\, the elephant-headed god. The festival is marked by the installation of clay idols of Ganesh privately in homes\, or publicly on elaborate pandals (temporary stages) with ornate statues. Hymns\, prayers\, and fasting are typical practices during this festival. On the tenth day\, the festival ends with a public procession to a nearby river or ocean and immersion of the idols and statues. In Mumbai alone\, it is estimated that around 150\,000 statues are immersed annually. \nMore information can be found here.
URL:https://multi-faithcalendar.org/events/ganesh-chaturthi-hindu-5/
CATEGORIES:2025,Hindu,September
END:VEVENT
BEGIN:VEVENT
DTSTART;VALUE=DATE:20240820
DTEND;VALUE=DATE:20240821
DTSTAMP:20260425T092757
CREATED:20231228T200246Z
LAST-MODIFIED:20231228T200246Z
UID:2562-1724112000-1724198399@multi-faithcalendar.org
SUMMARY:Khordad Sal (Parsi Zoroastrian)
DESCRIPTION:Birth anniversary of Zarathushtra (Zoroaster)\, the founder of Zoroastrianism. Zoroastrians gather in Fire temples for prayers and then celebrate with a family feast. \nMore Information
URL:https://multi-faithcalendar.org/events/khordad-sal-parsi-zoroastrian-6/
CATEGORIES:2024,August,Parsi Zoroastrian
END:VEVENT
BEGIN:VEVENT
DTSTART;VALUE=DATE:20240819
DTEND;VALUE=DATE:20240820
DTSTAMP:20260425T092757
CREATED:20231228T200356Z
LAST-MODIFIED:20231228T200356Z
UID:2564-1724025600-1724111999@multi-faithcalendar.org
SUMMARY:Raksha Bandham (Hindu)
DESCRIPTION:Also called Rakhi or Rakhi Purnima\, this day celebrates the bonds between sisters and brothers. Sisters of all ages tie a sacred thread\, called the rakhi\, around the wrists of their brothers\, symbolically protecting them\, and in return they receive a gift from their brothers.  Traditionally\, brothers also promise to take a share of the responsibility for ensuring the well-being of their sisters. \nMore information can be found here and here.
URL:https://multi-faithcalendar.org/events/raksha-bandham-hindu-2/
CATEGORIES:2024,August,Hindu
END:VEVENT
BEGIN:VEVENT
DTSTART;VALUE=DATE:20240819
DTEND;VALUE=DATE:20240820
DTSTAMP:20260425T092757
CREATED:20231228T200026Z
LAST-MODIFIED:20231228T200026Z
UID:2560-1724025600-1724111999@multi-faithcalendar.org
SUMMARY:Feast of Asma / Names (Baha'i)
DESCRIPTION:Wherever they live\, Baha’is gather every 19 days for what we call a Feast. This is a members-only event comprising three parts: \n1. A spiritual portion that’s the time for prayer and reflection; \n2. A business portion for consultation about administrative issues (plans for forming classes\, organizing to perform community service\, observing holy days\, or any ideas or projects community members wish to discuss. It’s also a time when local members can ask their Local Assembly to forward their concerns to the National Assembly; \n3. A social portion that can consist of anything from just glasses of water to a full-course dinner.
URL:https://multi-faithcalendar.org/events/feast-of-asma-names-bahai-2/
CATEGORIES:2024,August,The Bahá’í Faith
END:VEVENT
BEGIN:VEVENT
DTSTART;VALUE=DATE:20240816
DTEND;VALUE=DATE:20240817
DTSTAMP:20260425T092757
CREATED:20231228T195856Z
LAST-MODIFIED:20231228T195856Z
UID:2558-1723766400-1723852799@multi-faithcalendar.org
SUMMARY:Navroze / New Year (Parsi Zoroastrian)
DESCRIPTION:Weeks before Navroze\, homes are given a cleaning and festive foods are prepared. The arrival of the new year is celebrated by prayers at the Fire temple (Atashbehram) followed by a special meal shared with family. \nMore Information \nHoliday Greeting: Navroze Mubarak \nChildren may miss school to celebrate with families
URL:https://multi-faithcalendar.org/events/navroze-new-year-parsi-zoroastrian-2/
CATEGORIES:2024,August,Parsi Zoroastrian
END:VEVENT
BEGIN:VEVENT
DTSTART;VALUE=DATE:20240815
DTEND;VALUE=DATE:20240816
DTSTAMP:20260425T092757
CREATED:20231228T195744Z
LAST-MODIFIED:20231228T195744Z
UID:2556-1723680000-1723766399@multi-faithcalendar.org
SUMMARY:Feast of the Assumption (Catholic)
DESCRIPTION:The feast day of the Assumption of Mary celebrates the Christian belief that God assumed the Virgin Mary into Heaven\, body and soul\, following her death. \nMore Information
URL:https://multi-faithcalendar.org/events/feast-of-the-assumption-catholic-4/
CATEGORIES:2024,August,Catholic
END:VEVENT
BEGIN:VEVENT
DTSTART;VALUE=DATE:20240815
DTEND;VALUE=DATE:20240816
DTSTAMP:20260425T092757
CREATED:20231228T195649Z
LAST-MODIFIED:20231228T195649Z
UID:2554-1723680000-1723766399@multi-faithcalendar.org
SUMMARY:Pateti (Parsi Zoroastrian)
DESCRIPTION:Pateti (literally: penitence) is the last day of the Parsi Zoroastrian year. It is a day for a person to reflect on their thoughts\, words and deeds of the previous year and to repent for those that were not good. The repentance allows dedicating the new year to good thoughts\, words and deeds in a process of ethical growth. \nMore Information
URL:https://multi-faithcalendar.org/events/pateti-parsi-zoroastrian-3/
CATEGORIES:2024,August,Parsi Zoroastrian
END:VEVENT
BEGIN:VEVENT
DTSTART;TZID=America/New_York:20240812T180000
DTEND;TZID=America/New_York:20240813T210000
DTSTAMP:20260425T092757
CREATED:20231228T193923Z
LAST-MODIFIED:20231228T193923Z
UID:2546-1723485600-1723582800@multi-faithcalendar.org
SUMMARY:Tisha B’Av (Jewish)
DESCRIPTION:Tisha B’Av is the annual fast day commemorating the destruction of the First and Second Temples in Jerusalem and the subsequent exile of the Jews from the land of Israel. Over the centuries\, other tragic events have come to be commemorated on this day\, including the massacres of the Crusades\, the Jewish expulsion from Spain\, and the Holocaust. Today in many modern Jewish communities\, Tishah B’Av stands as a day to reflect on the suffering that still occurs in our world. \nMore Information \nHoliday Greeting: On Tisha B’Av we do not exchange greetings; we do not say “hello” or “how are you” and the like. \nObservant Jews will fast\, mourn and pray on this day.
URL:https://multi-faithcalendar.org/events/tisha-bav-jewish-3/
CATEGORIES:2024,August,Jewish
END:VEVENT
BEGIN:VEVENT
DTSTART;VALUE=DATE:20240805
DTEND;VALUE=DATE:20240815
DTSTAMP:20260425T092757
CREATED:20231228T195504Z
LAST-MODIFIED:20231228T195504Z
UID:2552-1722816000-1723679999@multi-faithcalendar.org
SUMMARY:Muktad or Fravardegan (Parsi Zoroastrian)
DESCRIPTION:Today marks the first of ten days of commemoration\, at the end of the Zoroastrian year. During this time\, the community commemorates and remembers fravarshis (departed souls) with fresh flowers and a lighted oil lamp. Homes and temples are thoroughly cleaned; for it is believed that the fravashis visit the physical world during this time\, to bless and protect the living. \nMore Information
URL:https://multi-faithcalendar.org/events/muktad-or-fravardegan-parsi-zoroastrian-3/
CATEGORIES:2024,August,Parsi Zoroastrian
END:VEVENT
BEGIN:VEVENT
DTSTART;VALUE=DATE:20240801
DTEND;VALUE=DATE:20240802
DTSTAMP:20260425T092757
CREATED:20231228T194153Z
LAST-MODIFIED:20231228T194153Z
UID:2550-1722470400-1722556799@multi-faithcalendar.org
SUMMARY:Lammas (Pagan)
DESCRIPTION:Lammas also called Loafmas or Lughnassadh\, after a Celtic God Lugh\, is celebrated July 31st or August 1st. The days shorten but the weather is still warm. This is the first harvest and celebrates the grains harvested for the baking of bread. \nMore Information
URL:https://multi-faithcalendar.org/events/lammas-pagan-3/
CATEGORIES:2024,Pagan
END:VEVENT
BEGIN:VEVENT
DTSTART;VALUE=DATE:20240731
DTEND;VALUE=DATE:20240801
DTSTAMP:20260425T092757
CREATED:20231228T194048Z
LAST-MODIFIED:20231228T194048Z
UID:2548-1722384000-1722470399@multi-faithcalendar.org
SUMMARY:Feast of Kamal / Perfection (Baha'i)
DESCRIPTION:Wherever they live\, Baha’is gather every 19 days for what we call a Feast. This is a members-only event comprising three parts: \n1. A spiritual portion that’s the time for prayer and reflection; \n2. A business portion for consultation about administrative issues (plans for forming classes\, organizing to perform community service\, observing holy days\, or any ideas or projects community members wish to discuss. It’s also a time when local members can ask their Local Assembly to forward their concerns to the National Assembly; \n3. A social portion that can consist of anything from just glasses of water to a full-course dinner.
URL:https://multi-faithcalendar.org/events/feast-of-kamal-perfection-bahai-2/
CATEGORIES:2024,July,The Bahá’í Faith
END:VEVENT
BEGIN:VEVENT
DTSTART;VALUE=DATE:20240725
DTEND;VALUE=DATE:20240726
DTSTAMP:20260425T092757
CREATED:20231228T193754Z
LAST-MODIFIED:20231228T193754Z
UID:2544-1721865600-1721951999@multi-faithcalendar.org
SUMMARY:Jashan-e Amardad (Zoroastrian)
DESCRIPTION:Jashan-e Amardad is a celebration ceremony\, a Jashan\, performed on Amardad day of Amardad month\, in honor of Amardad\, a Pehlavi name derived from the ancient Avestan term “Ameretat” from the Gathas of Zarathushtra. Ameretat\, according to Zarathushtra\, is that attribute of Ahura Mazda which represents “deathlessness” and “immortality.” Together with Haurvatât\, it is the ultimate goal and represents the completion of our evolutionary development and the final achievement of our life on earth. It reminds a Zoroastrian that when mankind collectively will live their lives with complete righteousness in their thoughts\, words\, and deeds\, our world will achieve immortal/eternal happiness and peace\, and will become completely free of all evil – it will become perfect – like the kingdom of God on Earth! In later Zoroastrian religious history\, the wise men/priests associated Amardad to be the steward/guardian of the plant kingdom in the world. Plants/vegetation on Earth is the longest living of all of God’s creation\, and hence the Zoroastrians associate it with God’s attribute of eternity/immortality. Due to our immense reverence for nature and plants\, protecting nature from pollution and keeping it pure and prosperous for everyone in the world is our religious duty.
URL:https://multi-faithcalendar.org/events/jashan-e-amardad-zoroastrian-3/
CATEGORIES:2024,Zoroastrian
END:VEVENT
BEGIN:VEVENT
DTSTART;VALUE=DATE:20240724
DTEND;VALUE=DATE:20240725
DTSTAMP:20260425T092757
CREATED:20231228T193628Z
LAST-MODIFIED:20231228T193628Z
UID:2542-1721779200-1721865599@multi-faithcalendar.org
SUMMARY:Pioneer Day (The Church of Jesus Christ of Latter-day Saints)
DESCRIPTION:Pioneer Day commemorates the arrival of the first group of Latter-day Saint pioneers to the Salt Lake Valley\, on July 24\, 1847.  In Utah it is an official state holiday\, and the associated celebration\, including a parade\, is referred to as Days of ’47.  It is a time for recognizing all people who have contributed to building the state\, regardless of religion or background.\nhttps://www.churchofjesuschrist.org/study/new-era/2010/07/to-the-point/what-is-the-significance-of-pioneer-day-is-it-celebrated-all-over-the-church?lang=eng\n\nVideo link:  https://www.youtube.com/watch?v=-1Bv60HRR38
URL:https://multi-faithcalendar.org/events/pioneer-day-the-church-of-jesus-christ-of-latter-day-saints-4/
CATEGORIES:2024,The Church of Jesus Christ of Latter-day Saints
END:VEVENT
BEGIN:VEVENT
DTSTART;VALUE=DATE:20240723
DTEND;VALUE=DATE:20240724
DTSTAMP:20260425T092757
CREATED:20231228T193515Z
LAST-MODIFIED:20231228T193515Z
UID:2540-1721692800-1721779199@multi-faithcalendar.org
SUMMARY:Birth of Guru Harkrishan (8th Guru) (Sikh)
DESCRIPTION:Guru Harkrishan is the eighth and youngest of the Sikh Gurus. In 1663\, Guru Harkrishan was in Delhi when the cholera and smallpox epidemic broke out. He served and tended to the sick with complete love and devotion at the young age of seven. Soon after\, he became sick himself and passed away at the age of eight. \nMore Information \nTraditional Greeting: “Vadhaaiaa Ji” – Congratulations!
URL:https://multi-faithcalendar.org/events/birth-of-guru-harkrishan-8th-guru-sikh-3/
CATEGORIES:2024,Sikh
END:VEVENT
BEGIN:VEVENT
DTSTART;VALUE=DATE:20240723
DTEND;VALUE=DATE:20240724
DTSTAMP:20260425T092757
CREATED:20231228T192457Z
LAST-MODIFIED:20231228T192457Z
UID:2528-1721692800-1721779199@multi-faithcalendar.org
SUMMARY:Asalha Puja (Buddhism)
DESCRIPTION:Asalha Puja means to pay homage to the Buddha on the full moon day of the 8th lunar month (approximately July). It commemorates the Buddha’s first teaching: the turning of the wheel of the Dhamma (Dhammacakkappavattana Sutta) to the five ascetics at the Deer Park (Sarnath) near Benares city\, India. Where Kondanna\, the senior ascetic attained the first level of enlightenment (the Sotapanna level of mind purity). \nMore Information
URL:https://multi-faithcalendar.org/events/asalha-puja-buddhism-3/
CATEGORIES:2024,Buddhist
END:VEVENT
BEGIN:VEVENT
DTSTART;VALUE=DATE:20240714
DTEND;VALUE=DATE:20240715
DTSTAMP:20260425T092757
CREATED:20231228T193152Z
LAST-MODIFIED:20231228T193152Z
UID:2536-1720915200-1721001599@multi-faithcalendar.org
SUMMARY:Feast of Saint Kateri Tekakwitha (Catholic)
DESCRIPTION:Informally known as Lily of the Mohawks\, St. Kateri Tekakwitha is the first Native American saint in the United States. It is said that after her death\, the marks on her face from smallpox faded away. St. Kateri Tekakwitha is the patroness of ecology and the environment\, as well as people in exile and Native Americans. \nMore Information
URL:https://multi-faithcalendar.org/events/feast-of-saint-kateri-tekakwitha-catholic-3/
CATEGORIES:2024,Catholic,July
END:VEVENT
BEGIN:VEVENT
DTSTART;VALUE=DATE:20240712
DTEND;VALUE=DATE:20240713
DTSTAMP:20260425T092757
CREATED:20231228T193030Z
LAST-MODIFIED:20231228T193039Z
UID:2534-1720742400-1720828799@multi-faithcalendar.org
SUMMARY:Feast of Kalimat / Words (Baha'i)
DESCRIPTION:Wherever they live\, Baha’is gather every 19 days for what we call a Feast. This is a members-only event comprising three parts: \n1. A spiritual portion that’s the time for prayer and reflection; \n2. A business portion for consultation about administrative issues (plans for forming classes\, organizing to perform community service\, observing holy days\, or any ideas or projects community members wish to discuss. It’s also a time when local members can ask their Local Assembly to forward their concerns to the National Assembly; \n3. A social portion that can consist of anything from just glasses of water to a full-course dinner.
URL:https://multi-faithcalendar.org/events/feast-of-kalimat-words-bahai-2/
CATEGORIES:2024,The Bahá’í Faith
END:VEVENT
BEGIN:VEVENT
DTSTART;VALUE=DATE:20240709
DTEND;VALUE=DATE:20240710
DTSTAMP:20260425T092757
CREATED:20231228T192706Z
LAST-MODIFIED:20231228T192757Z
UID:2532-1720483200-1720569599@multi-faithcalendar.org
SUMMARY:Martyrdom of the Bab (The Bahá’í Faith)
DESCRIPTION:Commemorates the anniversary of the execution of the Bab (Siyyid Ali-Muhammad)\, the Herald of the Baha’i Faith by firing squad on July 9\, 1850 in Tabriz Iran \nWork is to be suspended and children excused from school. \nMore information: \nhttps://www.bahai.us/commemoration-of-the-martyrdom-of-the-bab/
URL:https://multi-faithcalendar.org/events/martyrdom-of-the-bab-the-bahai-faith-3/
CATEGORIES:2024,July,The Bahá’í Faith
END:VEVENT
BEGIN:VEVENT
DTSTART;TZID=America/New_York:20240708T190000
DTEND;TZID=America/New_York:20240709T190000
DTSTAMP:20260425T092757
CREATED:20231228T193331Z
LAST-MODIFIED:20231228T193331Z
UID:2538-1720465200-1720551600@multi-faithcalendar.org
SUMMARY:The First of Muharram - Islamic New Year (Islam)
DESCRIPTION:The First of Muharram (the first month of the Hijrah Calendar) commemorates the migration of the prophet to Madina and the start of the new Islamic state.
URL:https://multi-faithcalendar.org/events/the-first-of-muharram-islamic-new-year-islam-3/
CATEGORIES:2024,Islam,July
END:VEVENT
BEGIN:VEVENT
DTSTART;VALUE=DATE:20240704
DTEND;VALUE=DATE:20240705
DTSTAMP:20260425T092757
CREATED:20231228T192556Z
LAST-MODIFIED:20231228T192556Z
UID:2530-1720051200-1720137599@multi-faithcalendar.org
SUMMARY:Annual Tribute to Vivekananda (Vedanta)
DESCRIPTION:July 4th marks the annual tribute to Vivekananda. \nLearn More: \nhttps://vedantasociety.net/vivekananda
URL:https://multi-faithcalendar.org/events/annual-tribute-to-vivekananda-vedanta-3/
CATEGORIES:2024,Vedanta
END:VEVENT
BEGIN:VEVENT
DTSTART;VALUE=DATE:20240703
DTEND;VALUE=DATE:20240704
DTSTAMP:20260425T092757
CREATED:20231228T192257Z
LAST-MODIFIED:20231228T192322Z
UID:2526-1719964800-1720051199@multi-faithcalendar.org
SUMMARY:Guru Purnima Honoring Line of Teachers (Vedanta)
DESCRIPTION:July 3rd marks the Guru Purnima Honoring Line of Teachers in the Vedanta tradition. \nLearn More: \nhttps://www.vedanet.com/guru-purnima-spreading-the-message-of-indias-gurus/
URL:https://multi-faithcalendar.org/events/guru-purnima-honoring-line-of-teachers-vedanta-3/
CATEGORIES:2024,Vedanta
END:VEVENT
END:VCALENDAR