BEGIN:VCALENDAR
VERSION:2.0
PRODID:-//Cincy MultiFaith Calendar - ECPv6.15.1.1//NONSGML v1.0//EN
CALSCALE:GREGORIAN
METHOD:PUBLISH
X-WR-CALNAME:Cincy MultiFaith Calendar
X-ORIGINAL-URL:https://multi-faithcalendar.org
X-WR-CALDESC:Events for Cincy MultiFaith Calendar
REFRESH-INTERVAL;VALUE=DURATION:PT1H
X-Robots-Tag:noindex
X-PUBLISHED-TTL:PT1H
BEGIN:VTIMEZONE
TZID:America/New_York
BEGIN:DAYLIGHT
TZOFFSETFROM:-0500
TZOFFSETTO:-0400
TZNAME:EDT
DTSTART:20230312T070000
END:DAYLIGHT
BEGIN:STANDARD
TZOFFSETFROM:-0400
TZOFFSETTO:-0500
TZNAME:EST
DTSTART:20231105T060000
END:STANDARD
END:VTIMEZONE
BEGIN:VEVENT
DTSTART;VALUE=DATE:20230725
DTEND;VALUE=DATE:20230726
DTSTAMP:20260425T235232
CREATED:20221221T184937Z
LAST-MODIFIED:20221221T184937Z
UID:2221-1690243200-1690329599@multi-faithcalendar.org
SUMMARY:Jashan-e Amardad (Zoroastrian)
DESCRIPTION:Jashan-e Amardad is a celebration ceremony\, a Jashan\, performed on Amardad day of Amardad month\, in honor of Amardad\, a Pehlavi name derived from the ancient Avestan term “Ameretat” from the Gathas of Zarathushtra. Ameretat\, according to Zarathushtra\, is that attribute of Ahura Mazda which represents “deathlessness” and “immortality.” Together with Haurvatât\, it is the ultimate goal and represents the completion of our evolutionary development and the final achievement of our life on earth. It reminds a Zoroastrian that when mankind collectively will live their lives with complete righteousness in their thoughts\, words\, and deeds\, our world will achieve immortal/eternal happiness and peace\, and will become completely free of all evil – it will become perfect – like the kingdom of God on Earth! In later Zoroastrian religious history\, the wise men/priests associated Amardad to be the steward/guardian of the plant kingdom in the world. Plants/vegetation on Earth is the longest living of all of God’s creation\, and hence the Zoroastrians associate it with God’s attribute of eternity/immortality. Due to our immense reverence for nature and plants\, protecting nature from pollution and keeping it pure and prosperous for everyone in the world is our religious duty.
URL:https://multi-faithcalendar.org/events/jashan-e-amardad-zoroastrian-2/
CATEGORIES:2023,Zoroastrian
END:VEVENT
BEGIN:VEVENT
DTSTART;VALUE=DATE:20230724
DTEND;VALUE=DATE:20230725
DTSTAMP:20260425T235232
CREATED:20221221T191307Z
LAST-MODIFIED:20221221T191307Z
UID:2241-1690156800-1690243199@multi-faithcalendar.org
SUMMARY:Pioneer Day (The Church of Jesus Christ of Latter-day Saints)
DESCRIPTION:Pioneer Day commemorates the arrival of the first group of Latter-day Saint pioneers to the Salt Lake Valley\, on July 24\, 1847.  In Utah it is an official state holiday\, and the associated celebration\, including a parade\, is referred to as Days of ’47.  It is a time for recognizing all people who have contributed to building the state\, regardless of religion or background.\nhttps://www.churchofjesuschrist.org/study/new-era/2010/07/to-the-point/what-is-the-significance-of-pioneer-day-is-it-celebrated-all-over-the-church?lang=eng\n\nVideo link:  https://www.youtube.com/watch?v=-1Bv60HRR38
URL:https://multi-faithcalendar.org/events/pioneer-day-the-church-of-jesus-christ-of-latter-day-saints-3/
CATEGORIES:2023,The Church of Jesus Christ of Latter-day Saints
END:VEVENT
BEGIN:VEVENT
DTSTART;VALUE=DATE:20230723
DTEND;VALUE=DATE:20230724
DTSTAMP:20260425T235232
CREATED:20221221T191146Z
LAST-MODIFIED:20221221T191146Z
UID:2239-1690070400-1690156799@multi-faithcalendar.org
SUMMARY:Birth of Guru Harkrishan (8th Guru) (Sikh)
DESCRIPTION:Guru Harkrishan is the eighth and youngest of the Sikh Gurus. In 1663\, Guru Harkrishan was in Delhi when the cholera and smallpox epidemic broke out. He served and tended to the sick with complete love and devotion at the young age of seven. Soon after\, he became sick himself and passed away at the age of eight. \nMore Information \nTraditional Greeting: “Vadhaaiaa Ji” – Congratulations!
URL:https://multi-faithcalendar.org/events/birth-of-guru-harkrishan-8th-guru-sikh-2/
CATEGORIES:2023,Sikh
END:VEVENT
BEGIN:VEVENT
DTSTART;TZID=America/New_York:20230719T190000
DTEND;TZID=America/New_York:20230720T190000
DTSTAMP:20260425T235232
CREATED:20221221T185746Z
LAST-MODIFIED:20221221T185746Z
UID:2227-1689793200-1689879600@multi-faithcalendar.org
SUMMARY:The First of Muharram - Islamic New Year (Islam)
DESCRIPTION:The First of Muharram (the first month of the Hijrah Calendar) commemorates the migration of the prophet to Madina and the start of the new Islamic state.
URL:https://multi-faithcalendar.org/events/the-first-of-muharram-islamic-new-year-islam-2/
CATEGORIES:2023,Islam,July
END:VEVENT
BEGIN:VEVENT
DTSTART;VALUE=DATE:20230714
DTEND;VALUE=DATE:20230715
DTSTAMP:20260425T235232
CREATED:20221221T191034Z
LAST-MODIFIED:20221221T191034Z
UID:2237-1689292800-1689379199@multi-faithcalendar.org
SUMMARY:Feast of Saint Kateri Tekakwitha (Catholic)
DESCRIPTION:Informally known as Lily of the Mohawks\, St. Kateri Tekakwitha is the first Native American saint in the United States. It is said that after her death\, the marks on her face from smallpox faded away. St. Kateri Tekakwitha is the patroness of ecology and the environment\, as well as people in exile and Native Americans. \nMore Information
URL:https://multi-faithcalendar.org/events/feast-of-saint-kateri-tekakwitha-catholic-2/
CATEGORIES:2023,Catholic,July
END:VEVENT
BEGIN:VEVENT
DTSTART;VALUE=DATE:20230713
DTEND;VALUE=DATE:20230714
DTSTAMP:20260425T235232
CREATED:20221221T190120Z
LAST-MODIFIED:20221221T190120Z
UID:2233-1689206400-1689292799@multi-faithcalendar.org
SUMMARY:Feast of Kalimat / Words (Baha'i)
DESCRIPTION:Wherever they live\, Baha’is gather every 19 days for what we call a Feast. This is a members-only event comprising three parts: \n1. A spiritual portion that’s the time for prayer and reflection; \n2. A business portion for consultation about administrative issues (plans for forming classes\, organizing to perform community service\, observing holy days\, or any ideas or projects community members wish to discuss. It’s also a time when local members can ask their Local Assembly to forward their concerns to the National Assembly; \n3. A social portion that can consist of anything from just glasses of water to a full-course dinner.
URL:https://multi-faithcalendar.org/events/feast-of-kalimat-words-bahai/
CATEGORIES:2023,The Bahá’í Faith
END:VEVENT
BEGIN:VEVENT
DTSTART;VALUE=DATE:20230709
DTEND;VALUE=DATE:20230710
DTSTAMP:20260425T235232
CREATED:20221221T190021Z
LAST-MODIFIED:20230630T142007Z
UID:2231-1688860800-1688947199@multi-faithcalendar.org
SUMMARY:Martyrdom of the Bab (The Bahá’í Faith)
DESCRIPTION:Commemorates the anniversary of the execution of the Bab (Siyyid Ali-Muhammad)\, the Herald of the Baha’i Faith by firing squad on July 9\, 1850 in Tabriz Iran \nWork is to be suspended and children excused from school. \nMore information: \nhttps://www.bahai.us/commemoration-of-the-martyrdom-of-the-bab/
URL:https://multi-faithcalendar.org/events/martyrdom-of-the-bab-the-bahai-faith-2/
CATEGORIES:2023,July,The Bahá’í Faith
END:VEVENT
BEGIN:VEVENT
DTSTART;VALUE=DATE:20230704
DTEND;VALUE=DATE:20230705
DTSTAMP:20260425T235232
CREATED:20221221T185309Z
LAST-MODIFIED:20221221T185309Z
UID:2223-1688428800-1688515199@multi-faithcalendar.org
SUMMARY:Annual Tribute to Vivekananda (Vedanta)
DESCRIPTION:July 4th marks the annual tribute to Vivekananda. \nLearn More: \nhttps://vedantasociety.net/vivekananda
URL:https://multi-faithcalendar.org/events/annual-tribute-to-vivekananda-vedanta-2/
CATEGORIES:2023,Vedanta
END:VEVENT
BEGIN:VEVENT
DTSTART;VALUE=DATE:20230703
DTEND;VALUE=DATE:20230704
DTSTAMP:20260425T235232
CREATED:20221221T190823Z
LAST-MODIFIED:20221221T190823Z
UID:2235-1688342400-1688428799@multi-faithcalendar.org
SUMMARY:Asalha Puja (Buddhism)
DESCRIPTION:Asalha Puja means to pay homage to the Buddha on the full moon day of the 8th lunar month (approximately July). It commemorates the Buddha’s first teaching: the turning of the wheel of the Dhamma (Dhammacakkappavattana Sutta) to the five ascetics at the Deer Park (Sarnath) near Benares city\, India. Where Kondanna\, the senior ascetic attained the first level of enlightenment (the Sotapanna level of mind purity). \nMore Information
URL:https://multi-faithcalendar.org/events/asalha-puja-buddhism-2/
CATEGORIES:2023,Buddhist
END:VEVENT
BEGIN:VEVENT
DTSTART;VALUE=DATE:20230703
DTEND;VALUE=DATE:20230704
DTSTAMP:20260425T235232
CREATED:20221221T185855Z
LAST-MODIFIED:20230630T141827Z
UID:2229-1688342400-1688428799@multi-faithcalendar.org
SUMMARY:Guru Purnima Honoring Line of Teachers (Vedanta)
DESCRIPTION:July 3rd marks the Guru Purnima Honoring Line of Teachers in the Vedanta tradition. \nLearn More: \nhttps://www.vedanet.com/guru-purnima-spreading-the-message-of-indias-gurus/
URL:https://multi-faithcalendar.org/events/guru-purnima-honoring-line-of-teachers-vedanta-2/
CATEGORIES:2023,Vedanta
END:VEVENT
BEGIN:VEVENT
DTSTART;VALUE=DATE:20230701
DTEND;VALUE=DATE:20230702
DTSTAMP:20260425T235232
CREATED:20221221T183731Z
LAST-MODIFIED:20221221T183731Z
UID:2219-1688169600-1688255999@multi-faithcalendar.org
SUMMARY:Jashan-e Tiragan (Zoroastrian)
DESCRIPTION:A mid-summer festival honoring water and rain. It is celebrated by splashing water on friends and family. It is also associated with the legend of the arrow. \nMore Information
URL:https://multi-faithcalendar.org/events/jashan-e-tiragan-zoroastrian-2/
CATEGORIES:2023,July,Zoroastrian
END:VEVENT
BEGIN:VEVENT
DTSTART;VALUE=DATE:20230629
DTEND;VALUE=DATE:20230704
DTSTAMP:20260425T235232
CREATED:20221221T170107Z
LAST-MODIFIED:20221221T170107Z
UID:2217-1687996800-1688428799@multi-faithcalendar.org
SUMMARY:Maidyoshahem Gahambar (Zoroastrian)
DESCRIPTION:Maidyoshahem (literally: Midsummer) Gahambar is a seasonal festival celebrated on the summer solstice. It is considered a religious duty to participate in a communal jashan prayer ceremony; as well as\, fraternize and share a simple meal with fellow co-religionists from all walks of life\, rich and poor. \nMore Information
URL:https://multi-faithcalendar.org/events/maidyoshahem-gahambar-zoroastrian-2/
CATEGORIES:2023,July,June,Zoroastrian
END:VEVENT
BEGIN:VEVENT
DTSTART;VALUE=DATE:20230629
DTEND;VALUE=DATE:20230630
DTSTAMP:20260425T235232
CREATED:20221221T165547Z
LAST-MODIFIED:20221221T165547Z
UID:2207-1687996800-1688083199@multi-faithcalendar.org
SUMMARY:Feast of Saints Peter and Paul (Catholic)
DESCRIPTION:Today is the feast celebrating the martyrdom of two of the most important apostles\, Peter and Paul\, the founders of the Christian Church. \nMore Information
URL:https://multi-faithcalendar.org/events/feast-of-saints-peter-and-paul-catholic-2/
CATEGORIES:2023,Catholic
END:VEVENT
BEGIN:VEVENT
DTSTART;TZID=America/New_York:20230628T200000
DTEND;TZID=America/New_York:20230629T200000
DTSTAMP:20260425T235232
CREATED:20221221T185556Z
LAST-MODIFIED:20221221T185556Z
UID:2225-1687982400-1688068800@multi-faithcalendar.org
SUMMARY:Eid al-Adha (Islam)
DESCRIPTION:This holiday marks the completion of the Hajj or pilgrimage to Mecca and is observed by Muslims to commemorate the faith of Abraham. Students will miss school to attend congregational prayers at the mosque and celebrate the holiday with their families/friends. \nMore Information:\nEid al-Adha 101\nIslamic Networks Group \nHoliday Greeting: “Eid Mubarak! (Happy Eid)”
URL:https://multi-faithcalendar.org/events/eid-al-adha-islam-2/
CATEGORIES:2023,Islam
END:VEVENT
BEGIN:VEVENT
DTSTART;VALUE=DATE:20230624
DTEND;VALUE=DATE:20230625
DTSTAMP:20260425T235232
CREATED:20221221T165724Z
LAST-MODIFIED:20221221T165724Z
UID:2211-1687564800-1687651199@multi-faithcalendar.org
SUMMARY:Feast of Rahmat / Mercy (Baha'i)
DESCRIPTION:Wherever they live\, Baha’is gather every 19 days for what we call a Feast. This is a members-only event comprising three parts: \n1. A spiritual portion that’s the time for prayer and reflection; \n2. A business portion for consultation about administrative issues (plans for forming classes\, organizing to perform community service\, observing holy days\, or any ideas or projects community members wish to discuss. It’s also a time when local members can ask their Local Assembly to forward their concerns to the National Assembly; \n3. A social portion that can consist of anything from just glasses of water to a full-course dinner.
URL:https://multi-faithcalendar.org/events/feast-of-rahmat-mercy-bahai/
CATEGORIES:2023,The Bahá’í Faith
END:VEVENT
BEGIN:VEVENT
DTSTART;VALUE=DATE:20230621
DTEND;VALUE=DATE:20230622
DTSTAMP:20260425T235232
CREATED:20221221T170008Z
LAST-MODIFIED:20221221T170008Z
UID:2215-1687305600-1687391999@multi-faithcalendar.org
SUMMARY:Summer Solstice (Pagan)
DESCRIPTION:Summer Solstice is celebrated June 21st or 22nd. It is also called Midsummer or Litha. This is the longest day and shortest night of the year. The sun is at maximum power. Themes here are growth\, fruitfulness\, abundance. From now on the days get shorter\, the nights longer. This is a good time for handfastings and honeymoons. \nMore Information
URL:https://multi-faithcalendar.org/events/summer-solstice-pagan-2/
CATEGORIES:2023,Pagan
END:VEVENT
BEGIN:VEVENT
DTSTART;VALUE=DATE:20230616
DTEND;VALUE=DATE:20230617
DTSTAMP:20260425T235232
CREATED:20221221T165440Z
LAST-MODIFIED:20221221T165440Z
UID:2205-1686873600-1686959999@multi-faithcalendar.org
SUMMARY:Sacred Heart of Jesus (Catholic)
DESCRIPTION:Today is a Solemnity – a Feast of the highest rank in the Roman Catholic Church – celebrating the love of Jesus Christ for all humankind. It is celebrated the Friday after Corpus Christi Sunday. \nMore Information
URL:https://multi-faithcalendar.org/events/sacred-heart-of-jesus-catholic-3/
CATEGORIES:2023,Catholic
END:VEVENT
BEGIN:VEVENT
DTSTART;VALUE=DATE:20230616
DTEND;VALUE=DATE:20230617
DTSTAMP:20260425T235232
CREATED:20221221T164740Z
LAST-MODIFIED:20221221T164740Z
UID:2195-1686873600-1686959999@multi-faithcalendar.org
SUMMARY:Martyrdom of Guru Arjan Sahib (5th Guru) (Sikh)
DESCRIPTION:In June 1606\, the Mughal emperor\, Jahangir\, ordered that Guru Arjan be arrested\, tortured\, and sentenced to death because he refused to stop sharing the ideals of Oneness as started by Guru Nanak. The first Sikh martyr\, Guru Arjan\, is also remembered for his contributions to and compilation of the Sikh Scriptures.  \nMore Information
URL:https://multi-faithcalendar.org/events/martyrdom-of-guru-arjan-sahib-5th-guru-sikh/
CATEGORIES:2023,Sikh
END:VEVENT
BEGIN:VEVENT
DTSTART;VALUE=DATE:20230616
DTEND;VALUE=DATE:20230617
DTSTAMP:20260425T235232
CREATED:20221221T162025Z
LAST-MODIFIED:20221221T162025Z
UID:2189-1686873600-1686959999@multi-faithcalendar.org
SUMMARY:Birth of Guru Arjan Sahib (5th Guru) (Sikh)
DESCRIPTION:The fifth Master\, Guru Arjan\, built the Golden Temple of Amritsar to emphasize that the Sikh way was open to all\, regardless of caste; the gurdwara was constructed with doors facing all four directions. He compiled the hymns of Sikh Gurus and created the Adi Granth – the foundation of the Guru Granth Sahib – and installed it. He was also the first Sikh Guru to be martyred. \nMore Information \nTraditional Greeting: “Vadhaaiaa Ji” – Congratulations!
URL:https://multi-faithcalendar.org/events/birth-of-guru-arjan-sahib-5th-guru-sikh-2/
CATEGORIES:2023,Sikh
END:VEVENT
BEGIN:VEVENT
DTSTART;VALUE=DATE:20230608
DTEND;VALUE=DATE:20230609
DTSTAMP:20260425T235232
CREATED:20221221T165338Z
LAST-MODIFIED:20221221T165338Z
UID:2203-1686182400-1686268799@multi-faithcalendar.org
SUMMARY:Corpus Christi (Catholic)
DESCRIPTION:Also known as The Most Holy Body and Blood of Christ\, today is a Solemnity\, a feast of the highest rank in the Roman Catholic Church\, honoring the Holy Eucharist\, bread and wine which is ritually blessed and consumed during mass.  Catholics believe this ritual blessing transubstantiates\, or changes the substance of the bread and wine\, so that it becomes the Real Presence\, or body and blood of Jesus Christ. This solemnity places a special emphasis on the Real Presence of the Lord Jesus Christ in the Eucharist. It is celebrated the Sunday after Trinity Sunday. \nMore Information:\nSolemnity of the Most Holy Body and Blood of Christ\nCorpus Christi
URL:https://multi-faithcalendar.org/events/corpus-christi-catholic/
CATEGORIES:2023,Catholic,Hispanic
END:VEVENT
BEGIN:VEVENT
DTSTART;VALUE=DATE:20230605
DTEND;VALUE=DATE:20230606
DTSTAMP:20260425T235232
CREATED:20221221T165636Z
LAST-MODIFIED:20221221T165636Z
UID:2209-1685923200-1686009599@multi-faithcalendar.org
SUMMARY:Feast of Nur / Light (Baha'i)
DESCRIPTION:Wherever they live\, Baha’is gather every 19 days for what we call a Feast. This is a members-only event comprising three parts: \n1. A spiritual portion that’s the time for prayer and reflection; \n2. A business portion for consultation about administrative issues (plans for forming classes\, organizing to perform community service\, observing holy days\, or any ideas or projects community members wish to discuss. It’s also a time when local members can ask their Local Assembly to forward their concerns to the National Assembly; \n3. A social portion that can consist of anything from just glasses of water to a full-course dinner.
URL:https://multi-faithcalendar.org/events/feast-of-nur-light-bahai/
CATEGORIES:2023,The Bahá’í Faith
END:VEVENT
BEGIN:VEVENT
DTSTART;VALUE=DATE:20230604
DTEND;VALUE=DATE:20230605
DTSTAMP:20260425T235232
CREATED:20221221T165912Z
LAST-MODIFIED:20221221T165912Z
UID:2213-1685836800-1685923199@multi-faithcalendar.org
SUMMARY:Pentecost (Orthodox Christianity)
DESCRIPTION:Pentecost is known by Christians as the birthday of their church community. The word Pentecost is Greek for “50th day.” It is celebrated fifty days after Easter Sunday\, to commemorate when the Holy Spirit came upon the Apostles and their followers\, inspiring them to begin their Earthly ministry to make disciples of all nations. Orthodox Christianity\, which follows the Julian Calendar\, celebrates this feast today. \nYou can learn more about this here.
URL:https://multi-faithcalendar.org/events/pentecost-orthodox-christianity/
CATEGORIES:2023,Christian Orthodox
END:VEVENT
BEGIN:VEVENT
DTSTART;VALUE=DATE:20230604
DTEND;VALUE=DATE:20230605
DTSTAMP:20260425T235232
CREATED:20221221T165222Z
LAST-MODIFIED:20221221T165222Z
UID:2201-1685836800-1685923199@multi-faithcalendar.org
SUMMARY:Trinity Sunday (Catholic)
DESCRIPTION:Trinity Sunday is the first Sunday after Pentecost. It is a day when catholics attend mass\, but the mass traditionally honor the Holy Trinity\, the divine union of the Father\, Son and Holy Spirit; three divine persons in one God. \nMore information about the celebration can be found here.
URL:https://multi-faithcalendar.org/events/trinity-sunday-catholic-3/
CATEGORIES:2023,Catholic
END:VEVENT
BEGIN:VEVENT
DTSTART;VALUE=DATE:20230604
DTEND;VALUE=DATE:20230605
DTSTAMP:20260425T235232
CREATED:20221221T164628Z
LAST-MODIFIED:20221221T164628Z
UID:2193-1685836800-1685923199@multi-faithcalendar.org
SUMMARY:Memorial of 1984 Ghallughara (Sikh)
DESCRIPTION:The Prime Minister of India\, Indira Gandhi\, ordered a military assault of one of the most significant and historic sites\, the Harminder Sahib (Golden Temple). Prior to the attacks\, the Indian military deployed 100\,000 troops across Punjab. This Indian military operation attacked innocent civilians who had gathered at the Harminder Sahib complex to commemorate the martyrdom of Guru Arjan Dev in the early days of June. All communications and phone lines were disabled\, roads were blocked\, and journalists were not allowed to be present in Punjab. Hundreds of bullet holes were counted on the various buildings in the complex and eyewitness accounts witnessed the deaths of nearly 8\,000 while the official government record is less than 500. During this attack\, many historic records and manuscripts were destroyed\, the library was burned down\, and the complex was looted. This military operation is more widely known as Operation Bluestar. Within the next decade\, more than 70\,000 Sikhs were detained with terrorism charges and hardly one percent of those were eventually convicted of a crime. \nMore Information:\n8 Invasions of Siri Harmandir Sahib\nJune 1984 Ghallughara Lies List Light \nStudents and/Co-Workers may visit their local Gurdwara at some point during the day.
URL:https://multi-faithcalendar.org/events/memorial-of-1984-ghallughara-sikh-2/
CATEGORIES:2023,June,Sikh
END:VEVENT
BEGIN:VEVENT
DTSTART;VALUE=DATE:20230529
DTEND;VALUE=DATE:20230530
DTSTAMP:20260425T235232
CREATED:20221221T160657Z
LAST-MODIFIED:20221221T160657Z
UID:2175-1685318400-1685404799@multi-faithcalendar.org
SUMMARY:Ascension of Baha'u'llah (The Bahá’í Faith)
DESCRIPTION:Baha’is observe the anniversary of the death in exile of Baha’u’llah\, the founder of the Baha’i Faith outside of Akka (Acre) in northern Israel. \nWork is to be suspended and children excused from school. \nFor more information: \nhttps://bahaiteachings.org/prophet-passes-away-ascension-bahaullah
URL:https://multi-faithcalendar.org/events/ascension-of-bahaullah-the-bahai-faith-3/
CATEGORIES:2023,May,The Bahá’í Faith
END:VEVENT
BEGIN:VEVENT
DTSTART;VALUE=DATE:20230528
DTEND;VALUE=DATE:20230529
DTSTAMP:20260425T235232
CREATED:20221221T165123Z
LAST-MODIFIED:20221221T165123Z
UID:2199-1685232000-1685318399@multi-faithcalendar.org
SUMMARY:Pentecost Sunday (Catholic / Christian Protestant)
DESCRIPTION:Pentecost is known by Christians as the birthday of their church community. The word Pentecost is Greek for “50th day.” It is celebrated fifty days after Easter Sunday\, to commemorate when the Holy Spirit came upon the Apostles and their followers\, inspiring them to begin their Earthly ministry to make disciples of all nations. \nMore Information from the Catholic Church \nMore information from the Christian Methodist Episcopal Church
URL:https://multi-faithcalendar.org/events/pentecost-sunday-catholic-christian-protestant/
CATEGORIES:2023,Catholic,Christian,Christian Protestant,Hispanic,June
END:VEVENT
BEGIN:VEVENT
DTSTART;TZID=America/New_York:20230525T190000
DTEND;TZID=America/New_York:20230527T190000
DTSTAMP:20260425T235232
CREATED:20221221T164954Z
LAST-MODIFIED:20221221T164954Z
UID:2197-1685041200-1685214000@multi-faithcalendar.org
SUMMARY:Shavuot (Jewish)
DESCRIPTION:The festival of Shavuot celebrates the giving of Torah (Hebrew Bible) including the Ten Commandments at Mount Sinai. It also marks the end of the spring harvest\, and the beginning of the summer harvest. Shavuot is celebrated by studying Torah together as a community\, often late into the night. It is traditional to eat meals containing dairy. Barley and wheat are also food symbols of Shavuot. \nMore Information \nHoliday Greeting: Hag Sameach (Happy Holiday) \nCommonly observed by synagogue attendance or family gatherings. Work is traditionally prohibited; individuals may be absent from school or work.
URL:https://multi-faithcalendar.org/events/shavuot-jewish-2/
CATEGORIES:2023,Jewish,June
END:VEVENT
BEGIN:VEVENT
DTSTART;VALUE=DATE:20230524
DTEND;VALUE=DATE:20230525
DTSTAMP:20260425T235232
CREATED:20221221T160604Z
LAST-MODIFIED:20221221T160604Z
UID:2173-1684886400-1684972799@multi-faithcalendar.org
SUMMARY:Declaration of the Bab (The Bahá’í Faith)
DESCRIPTION:Commemorates May 23\, 1844 when the Bab\, the Martyred Prophet Herald of the Bahá’í Faith\, announced in Persia\, that he was the Herald of a new messenger from God in Shiraz Persia \nWork is to be suspended and children excused from school. \nhttps://www.bahaiblog.net/bahai-calendar/about-the-declaration-of-the-bab/
URL:https://multi-faithcalendar.org/events/declaration-of-the-bab-the-bahai-faith-2/
CATEGORIES:2023,May,The Bahá’í Faith
END:VEVENT
BEGIN:VEVENT
DTSTART;VALUE=DATE:20230523
DTEND;VALUE=DATE:20230524
DTSTAMP:20260425T235232
CREATED:20221221T155546Z
LAST-MODIFIED:20221221T155546Z
UID:2163-1684800000-1684886399@multi-faithcalendar.org
SUMMARY:Zarathosht-no-Diso (Parsi Zoroastrian)
DESCRIPTION:Death anniversary of Zarathushtra (Zoroaster) the founder of Zoroastrianism. It is a day of special prayers\, with lectures and discussions held on the life and works of the prophet. There is no mourning in the Zoroastrian religion\, only remembrance and prayers for Farohars (souls) of the departed. \nMore Information
URL:https://multi-faithcalendar.org/events/zarathosht-no-diso-parsi-zoroastrian-2/
CATEGORIES:2023,May,Parsi Zoroastrian
END:VEVENT
BEGIN:VEVENT
DTSTART;VALUE=DATE:20230518
DTEND;VALUE=DATE:20230519
DTSTAMP:20260425T235232
CREATED:20221221T161630Z
LAST-MODIFIED:20221221T161630Z
UID:2187-1684368000-1684454399@multi-faithcalendar.org
SUMMARY:The Ascension of the Lord (Catholic)
DESCRIPTION:This holy day commemorates the physical ascension of Jesus Christ into heaven in the presence of his 11 apostles\, which\, according to scripture\, occurred 40 days after his resurrection from the dead on Easter. \nThis is a holy day of obligation for Catholics. \nMore information can be found here.
URL:https://multi-faithcalendar.org/events/the-ascension-of-the-lord-catholic/
CATEGORIES:2023,Catholic
END:VEVENT
END:VCALENDAR