BEGIN:VCALENDAR
VERSION:2.0
PRODID:-//Cincy MultiFaith Calendar - ECPv6.15.1.1//NONSGML v1.0//EN
CALSCALE:GREGORIAN
METHOD:PUBLISH
X-ORIGINAL-URL:https://multi-faithcalendar.org
X-WR-CALDESC:Events for Cincy MultiFaith Calendar
REFRESH-INTERVAL;VALUE=DURATION:PT1H
X-Robots-Tag:noindex
X-PUBLISHED-TTL:PT1H
BEGIN:VTIMEZONE
TZID:America/New_York
BEGIN:DAYLIGHT
TZOFFSETFROM:-0500
TZOFFSETTO:-0400
TZNAME:EDT
DTSTART:20230312T070000
END:DAYLIGHT
BEGIN:STANDARD
TZOFFSETFROM:-0400
TZOFFSETTO:-0500
TZNAME:EST
DTSTART:20231105T060000
END:STANDARD
END:VTIMEZONE
BEGIN:VEVENT
DTSTART;VALUE=DATE:20230929
DTEND;VALUE=DATE:20231007
DTSTAMP:20260425T162116
CREATED:20230120T120902Z
LAST-MODIFIED:20230120T120902Z
UID:2298-1695945600-1696636799@multi-faithcalendar.org
SUMMARY:Sukkot (Jewish)
DESCRIPTION:Sukkot is a seven-day festival marking the fall harvest in ancient Israel. This holiday is also a time in which Jews commemorate forty years of wandering in the desert after the Exodus from Egypt. Celebrated by the building of a sukkah (or temporary dwelling) outdoors\, where families and friends spend time throughout the holiday. Work is traditionally prohibited on the first and second days. \nMore Information \nSome students may miss school\, the first and second day of the festival. Commonly observed by synagogue attendance or family gatherings. Work is traditionally prohibited.
URL:https://multi-faithcalendar.org/events/sukkot-jewish-3/
CATEGORIES:2023,Jewish,October
END:VEVENT
BEGIN:VEVENT
DTSTART;VALUE=DATE:20231002
DTEND;VALUE=DATE:20231003
DTSTAMP:20260425T162116
CREATED:20230120T120415Z
LAST-MODIFIED:20230120T120415Z
UID:2292-1696204800-1696291199@multi-faithcalendar.org
SUMMARY:Jashan-e Mihragan (Zoroastrian)
DESCRIPTION:This autumnal community celebration involves prayers of thanksgiving and blessings of the community. \nMore Information
URL:https://multi-faithcalendar.org/events/jashan-e-mihragan-zoroastrian-3/
CATEGORIES:2023,October,Zoroastrian
END:VEVENT
BEGIN:VEVENT
DTSTART;VALUE=DATE:20231004
DTEND;VALUE=DATE:20231005
DTSTAMP:20260425T162116
CREATED:20230120T120527Z
LAST-MODIFIED:20230120T120527Z
UID:2294-1696377600-1696463999@multi-faithcalendar.org
SUMMARY:Feast of Saint Francis of Assisi (Catholic)
DESCRIPTION:Today\, Catholics celebrate Francis of Assisi\, who abandoned a life of luxury for a life devoted to Christian poverty\, interreligious dialogue and peacemaking. He is the founder of an order of priests\, and it is Francis who originated the practice of commemorating the birth of Jesus with the nativity scene. He is the patron saint of animals and the environment. \nMore Information can be found here. \nSome catholic parishes celebrate this feast day with prayer services held outdoors and a special blessing of animals.
URL:https://multi-faithcalendar.org/events/feast-of-saint-francis-of-assisi-catholic-2/
CATEGORIES:2023,Catholic,October
END:VEVENT
BEGIN:VEVENT
DTSTART;VALUE=DATE:20231006
DTEND;VALUE=DATE:20231009
DTSTAMP:20260425T162116
CREATED:20230120T121449Z
LAST-MODIFIED:20230120T121449Z
UID:2306-1696550400-1696809599@multi-faithcalendar.org
SUMMARY:Shemini Atzeret (Jewish)
DESCRIPTION:Coming at the conclusion of Sukkot are the two holidays of Shemini Atzeret and Simchat Torah . In Israel and among more liberal Jews they are combined into one holiday on the day after the conclusion of Sukkot . Among more traditional Jews outside of Israel\, they are observed separately from one another on two consecutive days. Shemini Atzeret means the “Eighth Day of Assembly\,” while Simchat Torah means “Rejoicing in Torah.”They mark the conclusion of the annual reading cycle of the Torah\, the Five Books of Moses that make up the Jewish Bible. Jews celebrate the Torah by dancing and singing\, followed by reading the last word of Deuteronomy and the first word of Genesis in one breath to represent the cyclical relationship between the Jewish People and Torah. \nMore Information \nThere are no special customs or greetings for Shemini Atzeret\, but there are additional prayers in the usual services on this day.
URL:https://multi-faithcalendar.org/events/shemini-atzeret-jewish-2/
CATEGORIES:2023,Jewish,September
END:VEVENT
BEGIN:VEVENT
DTSTART;VALUE=DATE:20231007
DTEND;VALUE=DATE:20231009
DTSTAMP:20260425T162116
CREATED:20230120T121628Z
LAST-MODIFIED:20230120T121628Z
UID:2308-1696636800-1696809599@multi-faithcalendar.org
SUMMARY:Simchat Torah (Jewish)
DESCRIPTION:Coming at the conclusion of Sukkot are the two holidays of Shemini Atzeret and Simchat Torah . In Israel and among more liberal Jews they are combined into one holiday on the day after the conclusion of Sukkot . Among more traditional Jews outside of Israel\, they are observed separately from one another on two consecutive days. Shemini Atzeret means the “Eighth Day of Assembly\,” while Simchat Torah means “Rejoicing in Torah.”They mark the conclusion of the annual reading cycle of the Torah\, the Five Books of Moses that make up the Jewish Bible. Jews celebrate the Torah by dancing and singing\, followed by reading the last word of Deuteronomy and the first word of Genesis in one breath to represent the cyclical relationship between the Jewish People and Torah. \nMore Information
URL:https://multi-faithcalendar.org/events/simchat-torah-jewish-2/
CATEGORIES:2023,Jewish,October
END:VEVENT
BEGIN:VEVENT
DTSTART;VALUE=DATE:20231009
DTEND;VALUE=DATE:20231010
DTSTAMP:20260425T162116
CREATED:20230120T121023Z
LAST-MODIFIED:20230120T121023Z
UID:2300-1696809600-1696895999@multi-faithcalendar.org
SUMMARY:Indigenous People's Day
DESCRIPTION:In 1977 participants at the United Nations International Conference on Discrimination against Indigenous Populations in the Americas proposed that Indigenous Peoples’ Day replace Columbus Day. Indigenous Peoples’ Day recognizes that Native people are the first inhabitants of the Americas\, including the lands that later became the United States of America. And it urges Americans to rethink history. \nFor More Information: https://www.smithsonianmag.com/blogs/national-museum-american-indian/2020/10/12/indigenous-peoples-day-updated2020/
URL:https://multi-faithcalendar.org/events/indigenous-peoples-day-2/
CATEGORIES:2022,Indigenous
END:VEVENT
BEGIN:VEVENT
DTSTART;VALUE=DATE:20231012
DTEND;VALUE=DATE:20231017
DTSTAMP:20260425T162116
CREATED:20230120T121155Z
LAST-MODIFIED:20230120T121155Z
UID:2302-1697068800-1697500799@multi-faithcalendar.org
SUMMARY:Ayathrem Gahambar (Zoroastrian)
DESCRIPTION:Ayathrem (literally: bring home the herds) Gahambar celebrates getting ready for winter. It is considered a religious duty to participate in a communal jashan prayer ceremony; as well as\, fraternize and share a simple meal with fellow co-religionists from all walks of life\, rich and poor. \nMore Information
URL:https://multi-faithcalendar.org/events/ayathrem-gahambar-zoroastrian-3/
CATEGORIES:2023,October,Zoroastrian
END:VEVENT
BEGIN:VEVENT
DTSTART;VALUE=DATE:20231015
DTEND;VALUE=DATE:20231025
DTSTAMP:20260425T162116
CREATED:20221221T202239Z
LAST-MODIFIED:20221221T202239Z
UID:2285-1697328000-1698191999@multi-faithcalendar.org
SUMMARY:Navaratri (Hindu)
DESCRIPTION:The festival literally means “nine nights” in Sanskrit and occurs over ten days and nine nights.  It is celebrated differently in various parts of India with prayer\, elaborate pandals (platforms)\, fasting\, folk dances\, displays of dolls\, sharing of sweets\, and bonfires. The festival celebrates the triumph of good over evil and the restoration of righteousness\, accomplished through the victory of the Goddess Durga over the buffalo demon Mahishasura. \nMore information can be found here.
URL:https://multi-faithcalendar.org/events/navaratri-hindu/
CATEGORIES:2023,Hindu,October
END:VEVENT
BEGIN:VEVENT
DTSTART;VALUE=DATE:20231016
DTEND;VALUE=DATE:20231017
DTSTAMP:20260425T162116
CREATED:20230120T121334Z
LAST-MODIFIED:20230120T121334Z
UID:2304-1697414400-1697500799@multi-faithcalendar.org
SUMMARY:Feast of 'Ilm / Knowledge (Baha'i)
DESCRIPTION:Wherever they live\, Baha’is gather every 19 days for what we call a Feast. This is a members-only event comprising three parts: \n1. A spiritual portion that’s the time for prayer and reflection; \n2. A business portion for consultation about administrative issues (plans for forming classes\, organizing to perform community service\, observing holy days\, or any ideas or projects community members wish to discuss. It’s also a time when local members can ask their Local Assembly to forward their concerns to the National Assembly; \n3. A social portion that can consist of anything from just glasses of water to a full-course dinner.
URL:https://multi-faithcalendar.org/events/feast-of-ilm-knowledge-bahai/
CATEGORIES:2023,The Bahá’í Faith
END:VEVENT
BEGIN:VEVENT
DTSTART;VALUE=DATE:20231020
DTEND;VALUE=DATE:20231025
DTSTAMP:20260425T162116
CREATED:20230120T115835Z
LAST-MODIFIED:20230120T115835Z
UID:2288-1697760000-1698191999@multi-faithcalendar.org
SUMMARY:Durga Puja (Vedanta)
DESCRIPTION:Durga is one of the names of the Divine Mother  — the power of Brahman Absolute. \nLearn More: \nhttps://www.vedanet.com/the-meaning-of-durga/
URL:https://multi-faithcalendar.org/events/durga-puja-vedanta-2/
CATEGORIES:2023,Vedanta
END:VEVENT
BEGIN:VEVENT
DTSTART;VALUE=DATE:20231020
DTEND;VALUE=DATE:20231021
DTSTAMP:20260425T162116
CREATED:20230120T121839Z
LAST-MODIFIED:20230223T105147Z
UID:2310-1697760000-1697846399@multi-faithcalendar.org
SUMMARY:Gurgaddi Sri Guru Granth Sahib (Sikh)
DESCRIPTION:Commemorating the transfer of Guruship from human form to the Word\, Shabad. The installation of Guru Granth Sahib\, the ultimate compilation containing the Guru’s wisdom\, is celebrated with great joy. The last and eternal Guru for the Sikhs is Guru Granth Sahib. It is respected not like a book\, but like a true King. All Sikhs bow before the Guru signifying their humility and asking for the blessings of the Divine Creator to grant them with Divine wisdom through the Guru. \nMore Information \nHoliday Greeting: “Vadhaaiaa Ji” – Congratulations!
URL:https://multi-faithcalendar.org/events/gurgaddi-sri-guru-granth-sahib-sikh-2/
CATEGORIES:2023,Sikh
END:VEVENT
BEGIN:VEVENT
DTSTART;VALUE=DATE:20231024
DTEND;VALUE=DATE:20231025
DTSTAMP:20260425T162116
CREATED:20230120T120659Z
LAST-MODIFIED:20230120T120659Z
UID:2296-1698105600-1698191999@multi-faithcalendar.org
SUMMARY:Dussehra (Hindu)
DESCRIPTION:Dussehra (Vijaya Dashami\, Dasara\, or Dashain) is a Hindu festival that celebrates the victory of good over evil.  It specifically commemorates when Lord Rama killed Ravana\, as told in the Hindu epic Ramayana. It is a gazetted holiday in India\, which is marked on the 10th and last day of Navratri\, according to the Hindu calendar. \nCelebrations can include burning effigies of Ravana\, setting off fireworks\, reenactments of segments of the Ramayana\, or processions to bodies of water to dissolve clay images of deities. \nMore information can be found here.
URL:https://multi-faithcalendar.org/events/dussehra-hindu-4/
CATEGORIES:2023,Hindu
END:VEVENT
BEGIN:VEVENT
DTSTART;VALUE=DATE:20231026
DTEND;VALUE=DATE:20231027
DTSTAMP:20260425T162116
CREATED:20230120T122515Z
LAST-MODIFIED:20230120T122515Z
UID:2316-1698278400-1698364799@multi-faithcalendar.org
SUMMARY:Jashan-e Abangan (Zoroastrian)
DESCRIPTION:Jashan-e Abangan is a celebration ceremony\, a Jashan\, performed on Avan day of Avan month\, in\nhonor of Abangan or Avan\, a Pehlavi name derived from the ancient Avestan term “Ardvi Sura”. Avan\nmeans Water. Water\, a life-giving element for all creation in our world\, is highly revered by\nZoroastrians\, and we consider it our religious duty to keep the world’s waters clean and pure\, and never\ndo any such act that would defile the waters. Avan is associated with Khordad.
URL:https://multi-faithcalendar.org/events/jashan-e-abangan-zoroastrian-2/
CATEGORIES:2023,Zoroastrian
END:VEVENT
BEGIN:VEVENT
DTSTART;VALUE=DATE:20231026
DTEND;VALUE=DATE:20231028
DTSTAMP:20260425T162116
CREATED:20230120T122222Z
LAST-MODIFIED:20230120T122305Z
UID:2314-1698278400-1698451199@multi-faithcalendar.org
SUMMARY:Twin Holy Days (Bahá’í)
DESCRIPTION:Commemorates the birth of The Bab\, Herald of the Baha’i Faith & founder of the Babi Faith\, in 1819. \nWork is to be suspended and children excused from school. \nMore information: \nhttps://www.bahaiblog.net/bahai-calendar/about-the-birth-of-the-bab/ \nTwin Holy Birthdays / Twin Manifestations of God \n \n 
URL:https://multi-faithcalendar.org/events/twin-holy-days-bahai/
CATEGORIES:2023,October,The Bahá’í Faith
END:VEVENT
BEGIN:VEVENT
DTSTART;VALUE=DATE:20231031
DTEND;VALUE=DATE:20231102
DTSTAMP:20260425T162116
CREATED:20230120T122644Z
LAST-MODIFIED:20230120T122644Z
UID:2318-1698710400-1698883199@multi-faithcalendar.org
SUMMARY:Samhain (Pagan)
DESCRIPTION:Samhain is celebrated October 31st. This is the third harvest when all crops should be in.  Anything not harvested was left in the fields. Samhain is a Gaelic word that means “Summer’s End”\, so Samhain was the beginning of winter. For the Celtic people of Europe and the British Isles\, this was the end of the year as they began and ended their calendar with Samhain. So\, for Pagans\, it is New Year’s Eve. Samhain is also known as “the day between the years.” The day before Samhain was the last day of the old year\, and the day after Samhain is the first day of the new year\, so Samhain itself is literally the day between the years. Being between the years was a very magical time when the veils between past\, present\, and future may be lifted. It was a time of no time\, when order and structure were abolished\, and chaos could reign. For three days\, because all Celtic holidays lasted for three days\, men dressed as women\, and women as men\, children knocked on neighbor’s doors for food and treats\, practical jokes were pulled. For pastoral people Samhain was when the herds and flocks were moved to the lower winter pastures\, and when the herds were culled and animals slaughtered – a time of great anxiety – for it was necessary to slaughter enough to provide meat for the winter months ahead\, but not too many to endanger the herd. And that brings us back to Yule\, the completion of one full turn on the Wheel of the Year and the beginning of another. \nMore Information
URL:https://multi-faithcalendar.org/events/samhain-pagan-2/
CATEGORIES:2023,Pagan
END:VEVENT
BEGIN:VEVENT
DTSTART;VALUE=DATE:20231031
DTEND;VALUE=DATE:20231105
DTSTAMP:20260425T162116
CREATED:20230120T122750Z
LAST-MODIFIED:20230120T122750Z
UID:2320-1698710400-1699142399@multi-faithcalendar.org
SUMMARY:1984 Anti-Sikh Pogrom (Sikh)
DESCRIPTION:Over the course of three days\, 8\,000 – 17\,000 Sikhs were killed and about 50\,000 were displaced after Prime Minister Indira Gandhi was killed by her two Sikh bodyguards on October 31\, 1984. Upon public knowledge of her death\, Indian citizens (primarily Hindu nationalists) determinedly murdered\, raped\, burned\, and tortured innocent Sikhs in more than 100 cities in 18 states across India. Government officials in Delhi handed out weapons and even fuel and ordered residents to attack and kill Sikhs. Even police and army personnel stepped aside letting mobs run wild beating and burning Sikhs alive in the streets. The Indian government has yet to recognize these events as state sanctioned killing and genocide. After decades of advocacy and pursuit of justice\, one then member of the Indian government\, Sajjan Kumar\, was sentenced for his role in these crimes against humanity. These recent assaults on the community have shocked and greatly impacted the collective conscience. \nMore Information:\nPublications\nIndia: No Justice for 1984 Anti-Sikh Bloodshed\n \nStudents and/or Co-Workers may visit their local Gurdwara at some point during the day
URL:https://multi-faithcalendar.org/events/1984-anti-sikh-pogrom-sikh/
CATEGORIES:2023,Sikh
END:VEVENT
END:VCALENDAR