BEGIN:VCALENDAR
VERSION:2.0
PRODID:-//Cincy MultiFaith Calendar - ECPv6.15.1.1//NONSGML v1.0//EN
CALSCALE:GREGORIAN
METHOD:PUBLISH
X-ORIGINAL-URL:https://multi-faithcalendar.org
X-WR-CALDESC:Events for Cincy MultiFaith Calendar
REFRESH-INTERVAL;VALUE=DURATION:PT1H
X-Robots-Tag:noindex
X-PUBLISHED-TTL:PT1H
BEGIN:VTIMEZONE
TZID:America/New_York
BEGIN:DAYLIGHT
TZOFFSETFROM:-0500
TZOFFSETTO:-0400
TZNAME:EDT
DTSTART:20250309T070000
END:DAYLIGHT
BEGIN:STANDARD
TZOFFSETFROM:-0400
TZOFFSETTO:-0500
TZNAME:EST
DTSTART:20251102T060000
END:STANDARD
END:VTIMEZONE
BEGIN:VEVENT
DTSTART;VALUE=DATE:20250430
DTEND;VALUE=DATE:20250505
DTSTAMP:20260424T053917
CREATED:20241117T185921Z
LAST-MODIFIED:20241117T185921Z
UID:2814-1745971200-1746403199@multi-faithcalendar.org
SUMMARY:Maidyozarem Gahambar (Zoroastrian)
DESCRIPTION:Maidyozarem (literally: midgreening) Gahambar is a seasonal festival celebrated in mid-spring. It is considered a religious duty to participate in a communal jashan prayer ceremony; as well as\, fraternize and share a simple meal with fellow co-religionists from all walks of life\, rich and poor. \nMore Information
URL:https://multi-faithcalendar.org/events/maidyozarem-gahambar-zoroastrian-4/
CATEGORIES:2025,April,May,Zoroastrian
END:VEVENT
BEGIN:VEVENT
DTSTART;VALUE=DATE:20250430
DTEND;VALUE=DATE:20250502
DTSTAMP:20260424T053917
CREATED:20241117T190221Z
LAST-MODIFIED:20241117T190221Z
UID:2818-1745971200-1746143999@multi-faithcalendar.org
SUMMARY:12th Day of the Festival of Ridvan (The Bahá’í Faith)
DESCRIPTION:12th Day of Ridvan. There are three holy Days as part of the Festival\, the first day\, the ninth and the twelfth. The annual Baha’i Festival commemorates the 12 days when Baha’u’llah\, the founder of the Faith\, publicly proclaimed his mission as God’s messenger. \nHoliday Greeting: Happy Ridvan \nWork is to be suspended and children excused from school. \nhttps://en.wikipedia.org/wiki/Ridv%C3%A1n
URL:https://multi-faithcalendar.org/events/12th-day-of-the-festival-of-ridvan-the-bahai-faith-4/
CATEGORIES:2025,The Bahá’í Faith
END:VEVENT
BEGIN:VEVENT
DTSTART;VALUE=DATE:20250430
DTEND;VALUE=DATE:20250502
DTSTAMP:20260424T053917
CREATED:20241117T191952Z
LAST-MODIFIED:20241117T191952Z
UID:2834-1745971200-1746143999@multi-faithcalendar.org
SUMMARY:Yom HaAtzma'ut (Jewish)
DESCRIPTION:Yom HaAtzma’ut\, also known as Israel’s Independence Day\, is celebrated on the fifth day of the month of Iyar\, which is the Hebrew date of the formal establishment of the State of Israel\, when members of the “provisional government” read and signed a Declaration of Independence in Tel Aviv. The original date corresponded to May 14\, 1948. \nMore Information \nCommonly observed by synagogue attendance\, community or family gatherings.
URL:https://multi-faithcalendar.org/events/yom-haatzmaut-jewish-4/
CATEGORIES:2025,Jewish
END:VEVENT
BEGIN:VEVENT
DTSTART;VALUE=DATE:20250501
DTEND;VALUE=DATE:20250502
DTSTAMP:20260424T053917
CREATED:20231227T105149Z
LAST-MODIFIED:20241117T184629Z
UID:2492-1746057600-1746143999@multi-faithcalendar.org
SUMMARY:Beltane (Pagan)
DESCRIPTION:Beltane: is celebrated on May 1st halfway between Spring Equinox and Summer Solstice. It is the beginning of summer. Among pastoral people this was when the flocks and herds were moved from the lower winter pasture to the higher summer pasture. To ensure fertility\, the livestock was herded between two fires. This holiday celebrates fertility and sexuality. This is a time for fun and frolic. Jumping over the fire is part of the ritual. \nMore Information
URL:https://multi-faithcalendar.org/events/beltane-pagan-3/
CATEGORIES:2025,Pagan
END:VEVENT
BEGIN:VEVENT
DTSTART;VALUE=DATE:20250501
DTEND;VALUE=DATE:20250502
DTSTAMP:20260424T053917
CREATED:20241117T191811Z
LAST-MODIFIED:20241117T191811Z
UID:2832-1746057600-1746143999@multi-faithcalendar.org
SUMMARY:Shankaracharya Birth Anniversary (Vedanta)
DESCRIPTION:This day marks the birth anniversary of Shankaracharya. Shankara taught nondualistic Vedanta and is revered. \nFor More Information: \nhttps://www.vedanta.gr/?page_id=1075 \n 
URL:https://multi-faithcalendar.org/events/shankaracharya-birth-anniversary-vedanta-3/
CATEGORIES:2024,Vedanta
END:VEVENT
BEGIN:VEVENT
DTSTART;VALUE=DATE:20250512
DTEND;VALUE=DATE:20250513
DTSTAMP:20260424T053917
CREATED:20241117T193833Z
LAST-MODIFIED:20241117T194915Z
UID:2844-1747008000-1747094399@multi-faithcalendar.org
SUMMARY:Vesak - Buddha's Birthday (Buddhism)
DESCRIPTION:Traditionally\, Buddha’s Birthday is known as Vesak or Visakah Puja (Buddha’s Birthday Celebrations). Vesak is the major Buddhist festival of the year as it celebrates the birth\, enlightenment and death of the Buddha on the one day\, the first full moon day in May\, except in a leap year when the festival is held in June. This celebration is called Vesak being the name of the month in the Indian calendar. \nBuddhist Festivals are always joyful occasions. Typically on a festival day\, lay people will go the the local temple or monastery and offer food to the monks and take the Five Precepts and listen to a Dharma talk. In the afternoon\, they distribute food to the poor to make merit and in the evening join perhaps in a ceremony of circumambulation a stupa three time as a sign of respect to the Buddha\, Dhamma\, Sangha. The day will conclude with evening chanting of the Buddha’s teachings and meditation. \nMore Information
URL:https://multi-faithcalendar.org/events/vesak-buddhas-birthday-buddhism-4/
CATEGORIES:2025,Buddhist,May
END:VEVENT
BEGIN:VEVENT
DTSTART;VALUE=DATE:20250516
DTEND;VALUE=DATE:20250517
DTSTAMP:20260424T053917
CREATED:20241117T192114Z
LAST-MODIFIED:20241117T192114Z
UID:2836-1747353600-1747439999@multi-faithcalendar.org
SUMMARY:Feast of Azamat / Grandeur (Baha'i)
DESCRIPTION:Wherever they live\, Baha’is gather every 19 days for what we call a Feast. This is a members-only event comprising three parts: \n1. A spiritual portion that’s the time for prayer and reflection; \n2. A business portion for consultation about administrative issues (plans for forming classes\, organizing to perform community service\, observing holy days\, or any ideas or projects community members wish to discuss. It’s also a time when local members can ask their Local Assembly to forward their concerns to the National Assembly; \n3. A social portion that can consist of anything from just glasses of water to a full-course dinner.
URL:https://multi-faithcalendar.org/events/feast-of-azamat-grandeur-bahai-3/
CATEGORIES:2025,The Bahá’í Faith
END:VEVENT
BEGIN:VEVENT
DTSTART;VALUE=DATE:20250517
DTEND;VALUE=DATE:20250518
DTSTAMP:20260424T053917
CREATED:20241117T192357Z
LAST-MODIFIED:20241117T192357Z
UID:2838-1747440000-1747526399@multi-faithcalendar.org
SUMMARY:1746 Chhota Ghallughara (Sikh)
DESCRIPTION:The Chhota Ghallughara was the first massacre of Sikhs targeted to wipe out the entire population. Around 7\,000 Sikhs were killed\, 3\,000 were captured and later beheaded\, and the persecution lasted several decades. Gurdwaras were destroyed and scriptures were burnt. Anyone caught saying the word “Guru” was sentenced to death. \nMore Information \nStudents and/Co-Workers may visit their local Gurdwara at some point during the day
URL:https://multi-faithcalendar.org/events/1746-chhota-ghallughara-sikh-4/
CATEGORIES:2025,Sikh
END:VEVENT
BEGIN:VEVENT
DTSTART;VALUE=DATE:20250522
DTEND;VALUE=DATE:20250524
DTSTAMP:20260424T053917
CREATED:20241117T195044Z
LAST-MODIFIED:20241117T195044Z
UID:2846-1747872000-1748044799@multi-faithcalendar.org
SUMMARY:Declaration of the Bab (The Bahá’í Faith)
DESCRIPTION:Commemorates May 23\, 1844 when the Bab\, the Martyred Prophet Herald of the Bahá’í Faith\, announced in Persia\, that he was the Herald of a new messenger from God in Shiraz Persia \nWork is to be suspended and children excused from school. \nhttps://www.bahaiblog.net/bahai-calendar/about-the-declaration-of-the-bab/
URL:https://multi-faithcalendar.org/events/declaration-of-the-bab-the-bahai-faith-4/
CATEGORIES:2025,May,The Bahá’í Faith
END:VEVENT
BEGIN:VEVENT
DTSTART;VALUE=DATE:20250527
DTEND;VALUE=DATE:20250529
DTSTAMP:20260424T053917
CREATED:20241117T200629Z
LAST-MODIFIED:20241117T200629Z
UID:2852-1748304000-1748476799@multi-faithcalendar.org
SUMMARY:Ascension of Baha'u'llah (The Bahá’í Faith)
DESCRIPTION:Baha’is observe the anniversary of the death in exile of Baha’u’llah\, the founder of the Baha’i Faith outside of Akka (Acre) in northern Israel. \nWork is to be suspended and children excused from school. \nFor more information: \nhttps://bahaiteachings.org/prophet-passes-away-ascension-bahaullah
URL:https://multi-faithcalendar.org/events/ascension-of-bahaullah-the-bahai-faith-5/
CATEGORIES:2025,May,The Bahá’í Faith
END:VEVENT
BEGIN:VEVENT
DTSTART;VALUE=DATE:20250529
DTEND;VALUE=DATE:20250530
DTSTAMP:20260424T053917
CREATED:20241117T191107Z
LAST-MODIFIED:20241117T191107Z
UID:2828-1748476800-1748563199@multi-faithcalendar.org
SUMMARY:The Ascension of the Lord (Catholic & Episcopal)
DESCRIPTION:This holy day commemorates the physical ascension of Jesus Christ into heaven in the presence of his 11 apostles\, which\, according to scripture\, occurred 40 days after his resurrection from the dead on Easter. \nThis is a holy day of obligation for Catholics. \nMore information can be found here.
URL:https://multi-faithcalendar.org/events/the-ascension-of-the-lord-catholic-episcopal/
CATEGORIES:2025,Catholic,Episcopal
END:VEVENT
BEGIN:VEVENT
DTSTART;VALUE=DATE:20250529
DTEND;VALUE=DATE:20250530
DTSTAMP:20260424T053917
CREATED:20241117T204740Z
LAST-MODIFIED:20241117T204740Z
UID:2864-1748476800-1748563199@multi-faithcalendar.org
SUMMARY:The Ascension of the Lord (Orthodox Christianity)
DESCRIPTION:This holy day commemorates the physical ascension of Jesus Christ into heaven in the presence of his 11 apostles\, which\, according to scripture\, occurred 40 days after his resurrection from the dead on Easter.
URL:https://multi-faithcalendar.org/events/the-ascension-of-the-lord-orthodox-christianity/
CATEGORIES:2025,Christian Orthodox
END:VEVENT
END:VCALENDAR