BEGIN:VCALENDAR
VERSION:2.0
PRODID:-//Cincy MultiFaith Calendar - ECPv6.15.1.1//NONSGML v1.0//EN
CALSCALE:GREGORIAN
METHOD:PUBLISH
X-WR-CALNAME:Cincy MultiFaith Calendar
X-ORIGINAL-URL:https://multi-faithcalendar.org
X-WR-CALDESC:Events for Cincy MultiFaith Calendar
REFRESH-INTERVAL;VALUE=DURATION:PT1H
X-Robots-Tag:noindex
X-PUBLISHED-TTL:PT1H
BEGIN:VTIMEZONE
TZID:America/New_York
BEGIN:DAYLIGHT
TZOFFSETFROM:-0500
TZOFFSETTO:-0400
TZNAME:EDT
DTSTART:20250309T070000
END:DAYLIGHT
BEGIN:STANDARD
TZOFFSETFROM:-0400
TZOFFSETTO:-0500
TZNAME:EST
DTSTART:20251102T060000
END:STANDARD
BEGIN:DAYLIGHT
TZOFFSETFROM:-0500
TZOFFSETTO:-0400
TZNAME:EDT
DTSTART:20260308T070000
END:DAYLIGHT
BEGIN:STANDARD
TZOFFSETFROM:-0400
TZOFFSETTO:-0500
TZNAME:EST
DTSTART:20261101T060000
END:STANDARD
END:VTIMEZONE
BEGIN:VEVENT
DTSTART;VALUE=DATE:20251221
DTEND;VALUE=DATE:20260102
DTSTAMP:20260423T141447
CREATED:20251030T215750Z
LAST-MODIFIED:20251030T215750Z
UID:3024-1766275200-1767311999@multi-faithcalendar.org
SUMMARY:Yule (Pagan)
DESCRIPTION:Yule or Winter Solstice is celebrated around December 21st or 22nd and is the first pagan holiday celebrated after the ending of the old year. This is the longest night and shortest day of the year\, and most likely the oldest holiday known to humankind. It celebrates the birth of the sun – the Divine Child is born. Symbols: The Yule Log\, evergreen trees\, stars. \nMore Information
URL:https://multi-faithcalendar.org/events/yule-pagan-5/
CATEGORIES:2025,2026,Pagan
END:VEVENT
BEGIN:VEVENT
DTSTART;VALUE=DATE:20251231
DTEND;VALUE=DATE:20260105
DTSTAMP:20260423T141447
CREATED:20241217T192638Z
LAST-MODIFIED:20241217T192638Z
UID:3020-1767139200-1767571199@multi-faithcalendar.org
SUMMARY:Gahambar Maidyarem (Zoroastrianism)
DESCRIPTION:Maidyarem (literally: Winter) Gahambar is a seasonal feast celebrated on the winter solstice. It is considered a religious duty to participate in a communal jashan prayer ceremony; as well as\, fraternize and share a simple meal with fellow co-religionists from all walks of life\, rich and poor. \nMore Information
URL:https://multi-faithcalendar.org/events/gahambar-maidyarem-zoroastrianism-4/
CATEGORIES:2025,December,Zoroastrian
END:VEVENT
BEGIN:VEVENT
DTSTART;VALUE=DATE:20260103
DTEND;VALUE=DATE:20260104
DTSTAMP:20260423T141447
CREATED:20251030T224515Z
LAST-MODIFIED:20251030T224515Z
UID:3042-1767398400-1767484799@multi-faithcalendar.org
SUMMARY:Mahayana New Year (Buddhist)
DESCRIPTION:In Theravadin countries\, Thailand\, Burma\, Sri Lanka\, Cambodia and Lao\, the new year is celebrated for three days from the first full moon day in April. In Mahayana countries the new year starts on the first full moon day in January. However\, the Buddhist New Year depends on the country of origin or ethnic background of the people. As for example\, Chinese\, Koreans and Vietnamese celebrate late January or early February according to the lunar calendar\, whilst the Tibetans usually celebrate about one month later.
URL:https://multi-faithcalendar.org/events/mahayana-new-year-buddhist-6/
CATEGORIES:2026,Buddhist
END:VEVENT
BEGIN:VEVENT
DTSTART;VALUE=DATE:20260105
DTEND;VALUE=DATE:20260106
DTSTAMP:20260423T141447
CREATED:20251030T223945Z
LAST-MODIFIED:20251030T223945Z
UID:3032-1767571200-1767657599@multi-faithcalendar.org
SUMMARY:Parkash - Birth of Guru Gobind Singh Ji (10th Guru) (Sikh)
DESCRIPTION:Sikhs celebrate the birth of Guru Gobind Singh with great enthusiasm! The 10th and final Sikh Master\, Guru Gobind Singh is regarded as the spiritual Father. He was a wise sage\, a brilliant poet\, a keen philosopher\, a talented musician\, a multi-faceted warrior\, and a fearless general. Following the martyrdom of his father\, the 9th Master\, Guru Gobind Singh forged the distinct ‘Khalsa’ identity of the Sikhs to always stand out as beacons of hope and stand up for equality. He charged the Khalsa to restore justice\, fight exploitation\, and be stewards of humanity. He also declared the Scriptures\, the Adi Granth\, to be the Sikh’s Guru from that time on.  \nMore Information \nHoliday greetings: “Vadhaaiaa Ji” – Congratulations! \nStudents and/Co-Workers may visit their local Gurdwara at some point during the day.
URL:https://multi-faithcalendar.org/events/parkash-birth-of-guru-gobind-singh-ji-10th-guru-sikh-5/
CATEGORIES:2026,Sikh
END:VEVENT
BEGIN:VEVENT
DTSTART;VALUE=DATE:20260106
DTEND;VALUE=DATE:20260107
DTSTAMP:20260423T141447
CREATED:20251030T224102Z
LAST-MODIFIED:20251030T224102Z
UID:3034-1767657600-1767743999@multi-faithcalendar.org
SUMMARY:Epiphany of the Lord (Catholic & Episcopal)
DESCRIPTION:Celebrated 12 days after Christmas\, the Epiphany of the Lord is the time when Christians remember the Wise Men (also sometimes called the Three Kings) who visited Jesus. \nMore Information
URL:https://multi-faithcalendar.org/events/epiphany-of-the-lord-catholic-episcopal-2/
CATEGORIES:2026,Catholic,Episcopal
END:VEVENT
BEGIN:VEVENT
DTSTART;VALUE=DATE:20260106
DTEND;VALUE=DATE:20260107
DTSTAMP:20260423T141447
CREATED:20251030T224157Z
LAST-MODIFIED:20251030T224157Z
UID:3036-1767657600-1767743999@multi-faithcalendar.org
SUMMARY:Three Kings (Hispanic)
DESCRIPTION:The Feast of Reyes (Fiesta de Reyes or Los Reyes) is celebrated in Spain/Portugal and Latin America on January 6th. The feast celebrates the passage in the Bible in which the Three Wise Men safely arrive to Jerusalem thanks to the guidance of the Star and bring gifts to Jesus. The level of celebration varies from a family gathering to a huge city wide and very anticipated parade depending on the culture/country. For example\, both Spain and Puerto Rico celebrate with large parades\, and many argue that Reyes is more festive/a larger celebration than Christmas. Despite the differences in the level of “Community Celebration”\, all cultures/countries share some traditions around this feast: 1. Family gathering the night before and/or the day of Reyes. 2. Eating the Rosca/Roscon de Reyes\, a sweet bread in the shape of a large oval “doughnut” with dried fruit on top. This is a very time consuming sweet to make. Inside the bread there is one (or more than one depending on the size of the Rosca) figurine of “Baby Jesus”. Based on each family’s traditions (mostly guided by the cultural traditions of the country of origin) the person that receives the piece of bread with the figurine will be responsible for hosting the party the next year\, bringing tamales for the feast of Candelaria/Candlemas Day (Mexican Tradition)\, or doing/not doing the dishes\, first one to other presents\, etc. 3. All kids (and grown up kids) leave their shoes by the window the night before Reyes (Jan 5th) or under the Christmas Tree so the Reyes (Kings) can fill them with gifts during the night. Usually\, kids select their favorite shoes\, “Church” shoes or the shoes that better represent them (soccer shoes\, dance shoes\, flip-flops\, etc). 4. Kids also leave water outside their home for the camels to drink. (The Three Wise Men travel on camels). It is important also to mention that this feast brings much attention to the idea of the star that guided the Three Wise Men to Jesus and how we should always follow God’s light and path and trust that we will be safe. \nMore Information
URL:https://multi-faithcalendar.org/events/three-kings-hispanic-7/
CATEGORIES:2026,Catholic,Hispanic
END:VEVENT
BEGIN:VEVENT
DTSTART;VALUE=DATE:20260107
DTEND;VALUE=DATE:20260108
DTSTAMP:20260423T141447
CREATED:20251030T224257Z
LAST-MODIFIED:20251030T224257Z
UID:3038-1767744000-1767830399@multi-faithcalendar.org
SUMMARY:Christmas (Christian Orthodox)
DESCRIPTION:This holiday celebrates the birth of Jesus Christ\, who Christians believe is the Son of God\, the Messiah\, and Savior of the world. \nThis celebration corresponds to December 25th in the Julian calendar\, which is thirteen days behind the Gregorian calendar used by other Christian and Catholic communities. \nMore Information
URL:https://multi-faithcalendar.org/events/christmas-christian-orthodox-7/
CATEGORIES:2026,Christian Orthodox
END:VEVENT
BEGIN:VEVENT
DTSTART;VALUE=DATE:20260114
DTEND;VALUE=DATE:20260115
DTSTAMP:20260423T141447
CREATED:20251030T224422Z
LAST-MODIFIED:20251030T224422Z
UID:3040-1768348800-1768435199@multi-faithcalendar.org
SUMMARY:Makar Sankranti (Hindu)
DESCRIPTION:The festivities associated with Makar Sankranti are known by various names in different parts of India and the Hindu world. Names include Magh Bihu\, Maghi (preceded by Lohri)\,  Thai Pongal and so on. It also marks the day of Winter Solstice as per the Hindu tradition. \nMakara Sankranti is observed with social festivities such as colorful decorations\, rural children going house to house\, singing and asking for treats in some areas \, melas(fairs)\, dances\, kite flying\, bonfires and feasts. The Magha Mela is mentioned in the Hindu epic Mahabharat. Many observers go to sacred rivers or lakes and bathe in a ceremony of thanks to the sun. Every twelve years (marking one complete revolution of Jupiter around the Sun) the Hindus observe Makar Sankranti with one of the world’s largest mass pilgrimages\, with an estimated 40 to 100 million people attending the event. At this event\, then they say a prayer to the sun and bathe at the Prayaga confluence of the River Ganga and River Yamuna at the Kumbha Mela. \nMore information can be found here and here.
URL:https://multi-faithcalendar.org/events/makar-sankranti-hindu-7/
CATEGORIES:2026,Hindu
END:VEVENT
BEGIN:VEVENT
DTSTART;VALUE=DATE:20260116
DTEND;VALUE=DATE:20260117
DTSTAMP:20260423T141447
CREATED:20251030T224655Z
LAST-MODIFIED:20251030T224655Z
UID:3044-1768521600-1768607999@multi-faithcalendar.org
SUMMARY:Jashan-e Vohuman (Zoroastrian)
DESCRIPTION:This festival (Jashan) is dedicated to the Amesha Spenta Vohimena (the Good Mind) and celebrates the creation of animals. A glass of milk is used to represent Vohuman in prayers.\nBAHMAN (1) – Encyclopaedia Iranica (iranicaonline.org)
URL:https://multi-faithcalendar.org/events/jashan-e-vohuman-zoroastrian-6/
CATEGORIES:2026,Zoroastrian
END:VEVENT
BEGIN:VEVENT
DTSTART;VALUE=DATE:20260118
DTEND;VALUE=DATE:20260119
DTSTAMP:20260423T141447
CREATED:20251030T224919Z
LAST-MODIFIED:20251030T224919Z
UID:3046-1768694400-1768780799@multi-faithcalendar.org
SUMMARY:Feast of Sultan/Sovereignty (Baha'i)
DESCRIPTION:Wherever they live\, Baha’is gather every 19 days for what we call a Feast. Observance begins at sunset on the 18th and ends at sunset on the 19th. This is a members-only event comprising three parts: \n1. A spiritual portion that’s the time for prayer and reflection; \n2. A business portion for consultation about administrative issues: plans for forming classes\, organizing to perform community service\, observing holy days\, or any ideas or projects community members wish to discuss. It’s also a time when local members can ask their Local Assembly to forward their concerns to the National Assembly; \n3. A social portion that can consist of anything from just glasses of water to a full-course dinner.
URL:https://multi-faithcalendar.org/events/feast-of-sultan-sovereignty-bahai-4/
CATEGORIES:2026,The Bahá’í Faith
END:VEVENT
BEGIN:VEVENT
DTSTART;VALUE=DATE:20260124
DTEND;VALUE=DATE:20260125
DTSTAMP:20260423T141447
CREATED:20251030T225026Z
LAST-MODIFIED:20251030T225026Z
UID:3048-1769212800-1769299199@multi-faithcalendar.org
SUMMARY:Jashan-e Sadeh (Zoroastrian)
DESCRIPTION:Sadeh is a mid-winter celebration observed by preparing a large community bonfire. The bonfire symbolizes the victory of light over forces of cold and darkness. \nMore Information
URL:https://multi-faithcalendar.org/events/jashan-e-sadeh-zoroastrian-7/
CATEGORIES:2026,Zoroastrian
END:VEVENT
END:VCALENDAR