BEGIN:VCALENDAR
VERSION:2.0
PRODID:-//Cincy MultiFaith Calendar - ECPv6.15.1.1//NONSGML v1.0//EN
CALSCALE:GREGORIAN
METHOD:PUBLISH
X-ORIGINAL-URL:https://multi-faithcalendar.org
X-WR-CALDESC:Events for Cincy MultiFaith Calendar
REFRESH-INTERVAL;VALUE=DURATION:PT1H
X-Robots-Tag:noindex
X-PUBLISHED-TTL:PT1H
BEGIN:VTIMEZONE
TZID:America/New_York
BEGIN:DAYLIGHT
TZOFFSETFROM:-0500
TZOFFSETTO:-0400
TZNAME:EDT
DTSTART:20260308T070000
END:DAYLIGHT
BEGIN:STANDARD
TZOFFSETFROM:-0400
TZOFFSETTO:-0500
TZNAME:EST
DTSTART:20261101T060000
END:STANDARD
END:VTIMEZONE
BEGIN:VEVENT
DTSTART;VALUE=DATE:20260201
DTEND;VALUE=DATE:20260202
DTSTAMP:20260423T125931
CREATED:20251030T225137Z
LAST-MODIFIED:20251030T225137Z
UID:3050-1769904000-1769990399@multi-faithcalendar.org
SUMMARY:Imbolg (Pagan)
DESCRIPTION:Imbolg falls on February 2nd midway between Winter Solstice and Spring Equinox. Imbolg is a Gaelic word that means “in the belly” and refers to the gestation of new lambs. This holiday celebrates the return of light. It is the beginning of spring. It is also known as St. Brigid’s day\, Brigid being a Celtic goddess of fire. Symbol: dairy products. \nMore information
URL:https://multi-faithcalendar.org/events/imbolg-pagan-6/
CATEGORIES:2026,Pagan
END:VEVENT
BEGIN:VEVENT
DTSTART;VALUE=DATE:20260201
DTEND;VALUE=DATE:20260203
DTSTAMP:20260423T125931
CREATED:20251030T225609Z
LAST-MODIFIED:20251030T225621Z
UID:3058-1769904000-1770076799@multi-faithcalendar.org
SUMMARY:Tu B'Shvat (Jewish)
DESCRIPTION:New Year of the Trees. Originally celebrated as an agricultural festival marking the emergence of spring\, today celebrations focus on environmental awareness. Trees are often planted in honor or memory of loved ones. \nMore Information
URL:https://multi-faithcalendar.org/events/tu-bshvat-jewish-7/
CATEGORIES:2026,Jewish
END:VEVENT
BEGIN:VEVENT
DTSTART;VALUE=DATE:20260205
DTEND;VALUE=DATE:20260206
DTSTAMP:20260423T125931
CREATED:20251030T225342Z
LAST-MODIFIED:20251030T225405Z
UID:3054-1770249600-1770335999@multi-faithcalendar.org
SUMMARY:1762 Vadda Ghalughara (Sikh)
DESCRIPTION:The second Sikh genocide was the mass killing of Sikhs by the Afghani Durrani Forces in February of 1762 during his sixth invasion of India in the present day state of Punjab in India. An estimated 25\,000 – 30\,000 Sikhs including women and children were killed\, which was nearly half of the Sikh population at the time. Sikhs were persecuted for decades prior to this massacre. \nMore Information:\nVadda Ghallughara – Sikh Holocaust\nSikh Nation’s Sovereign: Jassa Singh Ahluvalia – Harinder Singh \nStudents and/or Co-Workers may visit their local Gurdwara and pay respects to Sikh Martyrs.
URL:https://multi-faithcalendar.org/events/1762-vadda-ghalughara-sikh-6/
CATEGORIES:2026,Sikh
END:VEVENT
BEGIN:VEVENT
DTSTART;VALUE=DATE:20260206
DTEND;VALUE=DATE:20260207
DTSTAMP:20260423T125931
CREATED:20251030T225458Z
LAST-MODIFIED:20251030T225512Z
UID:3056-1770336000-1770422399@multi-faithcalendar.org
SUMMARY:Feast of Mulk / Dominion (Baha'i)
DESCRIPTION:Wherever they live\, Baha’is gather every 19 days for what we call a Feast. This is a members-only event comprising three parts: \n1. A spiritual portion that’s the time for prayer and reflection; \n2. A business portion for consultation about administrative issues (plans for forming classes\, organizing to perform community service\, observing holy days\, or any ideas or projects community members wish to discuss. It’s also a time when local members can ask their Local Assembly to forward their concerns to the National Assembly; \n3. A social portion that can consist of anything from just glasses of water to a full-course dinner.
URL:https://multi-faithcalendar.org/events/feast-of-mulk-dominion-bahai-4/
CATEGORIES:2026,The Bahá’í Faith
END:VEVENT
BEGIN:VEVENT
DTSTART;VALUE=DATE:20260218
DTEND;VALUE=DATE:20260219
DTSTAMP:20260423T125931
CREATED:20251030T233736Z
LAST-MODIFIED:20251030T233736Z
UID:3060-1771372800-1771459199@multi-faithcalendar.org
SUMMARY:Jashan-e Spandarmad (Zoroastrian)
DESCRIPTION:Jashan-e Spandarmad is a celebration ceremony\, a Jashan\, performed on Spandarmad day of\nSpandarmad month\, in honor of Spandarmad\, a Pehlavi name derived from the ancient Avestan term\n‘Spenta Armaiti’ from the Gathas of Zarathushtra. Aramaiti means “tranquility\, stability and serenity.”\nIt is peace and prosperity. When used with the adjective spenta\, it means the “ever-increasing or\nprogressive serenity and peace”. In later Zoroastrian religious history\, the wise men/priests\nassociated Spandarmad with being the steward/guardian of Mother Earth. So\, when we see this\ndivine attribute from both angles\, for us it stands for Peace & Serenity for all Creation on Earth!
URL:https://multi-faithcalendar.org/events/jashan-e-spandarmad-zoroastrian-6/
CATEGORIES:2026,Zoroastrian
END:VEVENT
BEGIN:VEVENT
DTSTART;VALUE=DATE:20260218
DTEND;VALUE=DATE:20260219
DTSTAMP:20260423T125931
CREATED:20260202T220106Z
LAST-MODIFIED:20260202T220106Z
UID:3340-1771372800-1771459199@multi-faithcalendar.org
SUMMARY:Ramadan Begins (Islam)
DESCRIPTION:This marks the the holy month where Muslims fast from sunrise to sunset for 30 days abstaining from food and drinks. \nMore Information \nHoliday Greeting: Ramadan Mubarak! \nThere are evening prayers that some students may attend at the mosque during this month. Mostly middle and high school students will be fasting.
URL:https://multi-faithcalendar.org/events/ramadan-begins-islam-5/
CATEGORIES:2026,Islam
END:VEVENT
BEGIN:VEVENT
DTSTART;VALUE=DATE:20260220
DTEND;VALUE=DATE:20260221
DTSTAMP:20260423T125931
CREATED:20251030T233917Z
LAST-MODIFIED:20251030T233917Z
UID:3062-1771545600-1771631999@multi-faithcalendar.org
SUMMARY:Saka Nankana Sahib (Sikh)
DESCRIPTION:The Nankana massacre (or Saka Nankana) took place in Nankana Sahib gurdwara on 20 February 1921\, at that time of British India\, in modern-day Pakistan. More than 260 Sikhs were killed\, including children as young as seven\, by the Mahant and his mercenaries. The event forms an important part of Sikh history. In political significance\, it comes next only to the Jallianwala Bagh massacre of April 1919. The saga constitutes the core of the Gurdwara Reform Movement started by the Sikhs in the early twentieth century. \nMore Information
URL:https://multi-faithcalendar.org/events/saka-nankana-sahib-sikh-6/
CATEGORIES:2026,Sikh
END:VEVENT
BEGIN:VEVENT
DTSTART;VALUE=DATE:20260225
DTEND;VALUE=DATE:20260302
DTSTAMP:20260423T125931
CREATED:20251030T234058Z
LAST-MODIFIED:20251030T234214Z
UID:3064-1771977600-1772409599@multi-faithcalendar.org
SUMMARY:Ayyam-i-Ha or Intercalary Days (The Bahá’í Faith)
DESCRIPTION:Ayyam-i-Ha or ” Days of God” are devoted to spiritual preparation for the upcoming 19 Day Fast\, hospitality\, charity\, and gift giving. They are celebrated during the four days (five days in a leap year) before the last month of the Baha’i year. \nHoliday Greeting: Happy Ayyam-i-Ha
URL:https://multi-faithcalendar.org/events/ayyam-i-ha-or-intercalary-days-the-bahai-faith-6/
CATEGORIES:2026,The Bahá’í Faith
END:VEVENT
END:VCALENDAR