BEGIN:VCALENDAR
VERSION:2.0
PRODID:-//Cincy MultiFaith Calendar - ECPv6.15.1.1//NONSGML v1.0//EN
CALSCALE:GREGORIAN
METHOD:PUBLISH
X-WR-CALNAME:Cincy MultiFaith Calendar
X-ORIGINAL-URL:https://multi-faithcalendar.org
X-WR-CALDESC:Events for Cincy MultiFaith Calendar
REFRESH-INTERVAL;VALUE=DURATION:PT1H
X-Robots-Tag:noindex
X-PUBLISHED-TTL:PT1H
BEGIN:VTIMEZONE
TZID:America/New_York
BEGIN:DAYLIGHT
TZOFFSETFROM:-0500
TZOFFSETTO:-0400
TZNAME:EDT
DTSTART:20260308T070000
END:DAYLIGHT
BEGIN:STANDARD
TZOFFSETFROM:-0400
TZOFFSETTO:-0500
TZNAME:EST
DTSTART:20261101T060000
END:STANDARD
END:VTIMEZONE
BEGIN:VEVENT
DTSTART;VALUE=DATE:20260629
DTEND;VALUE=DATE:20260704
DTSTAMP:20260423T101825
CREATED:20251129T000848Z
LAST-MODIFIED:20251129T000848Z
UID:3194-1782691200-1783123199@multi-faithcalendar.org
SUMMARY:Maidyoshahem Gahambar (Zoroastrian)
DESCRIPTION:Maidyoshahem (literally: Midsummer) Gahambar is a seasonal festival celebrated on the summer solstice. It is considered a religious duty to participate in a communal jashan prayer ceremony; as well as\, fraternize and share a simple meal with fellow co-religionists from all walks of life\, rich and poor. \nMore Information
URL:https://multi-faithcalendar.org/events/maidyoshahem-gahambar-zoroastrian-5/
CATEGORIES:2026,July,June,Zoroastrian
END:VEVENT
BEGIN:VEVENT
DTSTART;VALUE=DATE:20260701
DTEND;VALUE=DATE:20260702
DTSTAMP:20260423T101825
CREATED:20251129T001130Z
LAST-MODIFIED:20251129T001130Z
UID:3198-1782864000-1782950399@multi-faithcalendar.org
SUMMARY:Jashan-e Tiragan (Zoroastrian)
DESCRIPTION:A mid-summer festival honoring water and rain. It is celebrated by splashing water on friends and family. It is also associated with the legend of the arrow. \nMore Information
URL:https://multi-faithcalendar.org/events/jashan-e-tiragan-zoroastrian-5/
CATEGORIES:2026,July,Zoroastrian
END:VEVENT
BEGIN:VEVENT
DTSTART;VALUE=DATE:20260703
DTEND;VALUE=DATE:20260704
DTSTAMP:20260423T101825
CREATED:20251129T002033Z
LAST-MODIFIED:20251129T002033Z
UID:3206-1783036800-1783123199@multi-faithcalendar.org
SUMMARY:Guru Purnima Honoring Line of Teachers (Vedanta)
DESCRIPTION:July 3rd marks the Guru Purnima Honoring Line of Teachers in the Vedanta tradition. \nLearn More: \nhttps://www.vedanet.com/guru-purnima-spreading-the-message-of-indias-gurus/
URL:https://multi-faithcalendar.org/events/guru-purnima-honoring-line-of-teachers-vedanta-5/
CATEGORIES:2026,Vedanta
END:VEVENT
BEGIN:VEVENT
DTSTART;VALUE=DATE:20260704
DTEND;VALUE=DATE:20260705
DTSTAMP:20260423T101825
CREATED:20251129T001628Z
LAST-MODIFIED:20251129T001628Z
UID:3200-1783123200-1783209599@multi-faithcalendar.org
SUMMARY:Annual Tribute to Vivekananda (Vedanta)
DESCRIPTION:July 4th marks the annual tribute to Vivekananda. \nLearn More: \nhttps://vedantasociety.net/vivekananda
URL:https://multi-faithcalendar.org/events/annual-tribute-to-vivekananda-vedanta-5/
CATEGORIES:2026,Hindu,Vedanta
END:VEVENT
BEGIN:VEVENT
DTSTART;VALUE=DATE:20260709
DTEND;VALUE=DATE:20260710
DTSTAMP:20260423T101825
CREATED:20251129T001727Z
LAST-MODIFIED:20251129T001727Z
UID:3202-1783555200-1783641599@multi-faithcalendar.org
SUMMARY:Martyrdom of the Bab (The Bahá’í Faith)
DESCRIPTION:Commemorates the anniversary of the execution of the Bab (Siyyid Ali-Muhammad)\, the Herald of the Baha’i Faith by firing squad on July 9\, 1850 in Tabriz Iran \nWork is to be suspended and children excused from school. \nMore information: \nhttps://www.bahai.us/commemoration-of-the-martyrdom-of-the-bab/
URL:https://multi-faithcalendar.org/events/martyrdom-of-the-bab-the-bahai-faith-5/
CATEGORIES:2026,July,The Bahá’í Faith
END:VEVENT
BEGIN:VEVENT
DTSTART;VALUE=DATE:20260713
DTEND;VALUE=DATE:20260714
DTSTAMP:20260423T101825
CREATED:20251129T002412Z
LAST-MODIFIED:20251129T002412Z
UID:3208-1783900800-1783987199@multi-faithcalendar.org
SUMMARY:Feast of Kalimat / Words (Baha'i)
DESCRIPTION:Wherever they live\, Baha’is gather every 19 days for what we call a Feast. This is a members-only event comprising three parts: \n1. A spiritual portion that’s the time for prayer and reflection; \n2. A business portion for consultation about administrative issues (plans for forming classes\, organizing to perform community service\, observing holy days\, or any ideas or projects community members wish to discuss. It’s also a time when local members can ask their Local Assembly to forward their concerns to the National Assembly; \n3. A social portion that can consist of anything from just glasses of water to a full-course dinner.
URL:https://multi-faithcalendar.org/events/feast-of-kalimat-words-bahai-4/
CATEGORIES:2026,The Bahá’í Faith
END:VEVENT
BEGIN:VEVENT
DTSTART;VALUE=DATE:20260714
DTEND;VALUE=DATE:20260715
DTSTAMP:20260423T101825
CREATED:20251129T002550Z
LAST-MODIFIED:20251129T002550Z
UID:3210-1783987200-1784073599@multi-faithcalendar.org
SUMMARY:Feast of Saint Kateri Tekakwitha (Catholic)
DESCRIPTION:Informally known as Lily of the Mohawks\, St. Kateri Tekakwitha is the first Native American saint in the United States. It is said that after her death\, the marks on her face from smallpox faded away. St. Kateri Tekakwitha is the patroness of ecology and the environment\, as well as people in exile and Native Americans. \nMore Information
URL:https://multi-faithcalendar.org/events/feast-of-saint-kateri-tekakwitha-catholic-5/
CATEGORIES:2026,Catholic,July
END:VEVENT
BEGIN:VEVENT
DTSTART;TZID=America/New_York:20260722T180000
DTEND;TZID=America/New_York:20260723T210000
DTSTAMP:20260423T101825
CREATED:20251129T003434Z
LAST-MODIFIED:20251129T003434Z
UID:3222-1784743200-1784840400@multi-faithcalendar.org
SUMMARY:Tisha B’Av (Jewish)
DESCRIPTION:Tisha B’Av is the annual fast day commemorating the destruction of the First and Second Temples in Jerusalem and the subsequent exile of the Jews from the land of Israel. Over the centuries\, other tragic events have come to be commemorated on this day\, including the massacres of the Crusades\, the Jewish expulsion from Spain\, and the Holocaust. Today in many modern Jewish communities\, Tishah B’Av stands as a day to reflect on the suffering that still occurs in our world. \nMore Information \nHoliday Greeting: On Tisha B’Av we do not exchange greetings; we do not say “hello” or “how are you” and the like. \nObservant Jews will fast\, mourn and pray on this day.
URL:https://multi-faithcalendar.org/events/tisha-bav-jewish-5/
CATEGORIES:2026,August,Jewish,July
END:VEVENT
BEGIN:VEVENT
DTSTART;VALUE=DATE:20260723
DTEND;VALUE=DATE:20260724
DTSTAMP:20260423T101825
CREATED:20251129T002908Z
LAST-MODIFIED:20251129T002908Z
UID:3212-1784764800-1784851199@multi-faithcalendar.org
SUMMARY:Birth of Guru Harkrishan (8th Guru) (Sikh)
DESCRIPTION:Guru Harkrishan is the eighth and youngest of the Sikh Gurus. In 1663\, Guru Harkrishan was in Delhi when the cholera and smallpox epidemic broke out. He served and tended to the sick with complete love and devotion at the young age of seven. Soon after\, he became sick himself and passed away at the age of eight. \nMore Information \nTraditional Greeting: “Vadhaaiaa Ji” – Congratulations!
URL:https://multi-faithcalendar.org/events/birth-of-guru-harkrishan-8th-guru-sikh-5/
CATEGORIES:2026,Sikh
END:VEVENT
BEGIN:VEVENT
DTSTART;VALUE=DATE:20260724
DTEND;VALUE=DATE:20260725
DTSTAMP:20260423T101825
CREATED:20251129T003005Z
LAST-MODIFIED:20251129T003005Z
UID:3214-1784851200-1784937599@multi-faithcalendar.org
SUMMARY:Pioneer Day (The Church of Jesus Christ of Latter-day Saints)
DESCRIPTION:Pioneer Day commemorates the arrival of the first group of Latter-day Saint pioneers to the Salt Lake Valley\, on July 24\, 1847.  In Utah it is an official state holiday\, and the associated celebration\, including a parade\, is referred to as Days of ’47.  It is a time for recognizing all people who have contributed to building the state\, regardless of religion or background.\nhttps://www.churchofjesuschrist.org/study/new-era/2010/07/to-the-point/what-is-the-significance-of-pioneer-day-is-it-celebrated-all-over-the-church?lang=eng\n\nVideo link:  https://www.youtube.com/watch?v=-1Bv60HRR38
URL:https://multi-faithcalendar.org/events/pioneer-day-the-church-of-jesus-christ-of-latter-day-saints-6/
CATEGORIES:2026,The Church of Jesus Christ of Latter-day Saints
END:VEVENT
BEGIN:VEVENT
DTSTART;VALUE=DATE:20260725
DTEND;VALUE=DATE:20260726
DTSTAMP:20260423T101825
CREATED:20251129T003059Z
LAST-MODIFIED:20251129T003059Z
UID:3216-1784937600-1785023999@multi-faithcalendar.org
SUMMARY:Jashan-e Amardad (Zoroastrian)
DESCRIPTION:Jashan-e Amardad is a celebration ceremony\, a Jashan\, performed on Amardad day of Amardad month\, in honor of Amardad\, a Pehlavi name derived from the ancient Avestan term “Ameretat” from the Gathas of Zarathushtra. Ameretat\, according to Zarathushtra\, is that attribute of Ahura Mazda which represents “deathlessness” and “immortality.” Together with Haurvatât\, it is the ultimate goal and represents the completion of our evolutionary development and the final achievement of our life on earth. It reminds a Zoroastrian that when mankind collectively will live their lives with complete righteousness in their thoughts\, words\, and deeds\, our world will achieve immortal/eternal happiness and peace\, and will become completely free of all evil – it will become perfect – like the kingdom of God on Earth! In later Zoroastrian religious history\, the wise men/priests associated Amardad to be the steward/guardian of the plant kingdom in the world. Plants/vegetation on Earth is the longest living of all of God’s creation\, and hence the Zoroastrians associate it with God’s attribute of eternity/immortality. Due to our immense reverence for nature and plants\, protecting nature from pollution and keeping it pure and prosperous for everyone in the world is our religious duty.
URL:https://multi-faithcalendar.org/events/jashan-e-amardad-zoroastrian-5/
CATEGORIES:2026,Zoroastrian
END:VEVENT
BEGIN:VEVENT
DTSTART;VALUE=DATE:20260729
DTEND;VALUE=DATE:20260730
DTSTAMP:20260423T101825
CREATED:20251129T001840Z
LAST-MODIFIED:20251129T001840Z
UID:3204-1785283200-1785369599@multi-faithcalendar.org
SUMMARY:Asalha Puja (Buddhism)
DESCRIPTION:Asalha Puja means to pay homage to the Buddha on the full moon day of the 8th lunar month (approximately July). It commemorates the Buddha’s first teaching: the turning of the wheel of the Dhamma (Dhammacakkappavattana Sutta) to the five ascetics at the Deer Park (Sarnath) near Benares city\, India. Where Kondanna\, the senior ascetic attained the first level of enlightenment (the Sotapanna level of mind purity). \nMore Information
URL:https://multi-faithcalendar.org/events/asalha-puja-buddhism-5/
CATEGORIES:2026,Buddhist
END:VEVENT
END:VCALENDAR