BEGIN:VCALENDAR
VERSION:2.0
PRODID:-//Cincy MultiFaith Calendar - ECPv6.15.1.1//NONSGML v1.0//EN
CALSCALE:GREGORIAN
METHOD:PUBLISH
X-ORIGINAL-URL:https://multi-faithcalendar.org
X-WR-CALDESC:Events for Cincy MultiFaith Calendar
REFRESH-INTERVAL;VALUE=DURATION:PT1H
X-Robots-Tag:noindex
X-PUBLISHED-TTL:PT1H
BEGIN:VTIMEZONE
TZID:America/New_York
BEGIN:DAYLIGHT
TZOFFSETFROM:-0500
TZOFFSETTO:-0400
TZNAME:EDT
DTSTART:20260308T070000
END:DAYLIGHT
BEGIN:STANDARD
TZOFFSETFROM:-0400
TZOFFSETTO:-0500
TZNAME:EST
DTSTART:20261101T060000
END:STANDARD
END:VTIMEZONE
BEGIN:VEVENT
DTSTART;VALUE=DATE:20260801
DTEND;VALUE=DATE:20260802
DTSTAMP:20260423T113134
CREATED:20251129T003159Z
LAST-MODIFIED:20251129T003159Z
UID:3218-1785542400-1785628799@multi-faithcalendar.org
SUMMARY:Feast of Kamal / Perfection (Baha'i)
DESCRIPTION:Wherever they live\, Baha’is gather every 19 days for what we call a Feast. This is a members-only event comprising three parts: \n1. A spiritual portion that’s the time for prayer and reflection; \n2. A business portion for consultation about administrative issues (plans for forming classes\, organizing to perform community service\, observing holy days\, or any ideas or projects community members wish to discuss. It’s also a time when local members can ask their Local Assembly to forward their concerns to the National Assembly; \n3. A social portion that can consist of anything from just glasses of water to a full-course dinner.
URL:https://multi-faithcalendar.org/events/feast-of-kamal-perfection-bahai-4/
CATEGORIES:2026,August,July,The Bahá’í Faith
END:VEVENT
BEGIN:VEVENT
DTSTART;VALUE=DATE:20260801
DTEND;VALUE=DATE:20260802
DTSTAMP:20260423T113134
CREATED:20251129T003255Z
LAST-MODIFIED:20251129T003255Z
UID:3220-1785542400-1785628799@multi-faithcalendar.org
SUMMARY:Lammas (Pagan)
DESCRIPTION:Lammas also called Loafmas or Lughnassadh\, after a Celtic God Lugh\, is celebrated July 31st or August 1st. The days shorten but the weather is still warm. This is the first harvest and celebrates the grains harvested for the baking of bread. \nMore Information
URL:https://multi-faithcalendar.org/events/lammas-pagan-5/
CATEGORIES:2026,Pagan
END:VEVENT
BEGIN:VEVENT
DTSTART;VALUE=DATE:20260805
DTEND;VALUE=DATE:20260815
DTSTAMP:20260423T113134
CREATED:20251129T003801Z
LAST-MODIFIED:20251129T003801Z
UID:3224-1785888000-1786751999@multi-faithcalendar.org
SUMMARY:Muktad or Fravardegan (Parsi Zoroastrian)
DESCRIPTION:Today marks the first of ten days of commemoration\, at the end of the Zoroastrian year. During this time\, the community commemorates and remembers fravarshis (departed souls) with fresh flowers and a lighted oil lamp. Homes and temples are thoroughly cleaned; for it is believed that the fravashis visit the physical world during this time\, to bless and protect the living. \nMore Information
URL:https://multi-faithcalendar.org/events/muktad-or-fravardegan-parsi-zoroastrian-5/
CATEGORIES:2026,August,Parsi Zoroastrian
END:VEVENT
BEGIN:VEVENT
DTSTART;VALUE=DATE:20260815
DTEND;VALUE=DATE:20260816
DTSTAMP:20260423T113134
CREATED:20251129T004449Z
LAST-MODIFIED:20251129T004449Z
UID:3230-1786752000-1786838399@multi-faithcalendar.org
SUMMARY:Feast of the Assumption (Catholic)
DESCRIPTION:The feast day of the Assumption of Mary celebrates the Christian belief that God assumed the Virgin Mary into Heaven\, body and soul\, following her death. \nMore Information
URL:https://multi-faithcalendar.org/events/feast-of-the-assumption-catholic-6/
CATEGORIES:2026,August,Catholic
END:VEVENT
BEGIN:VEVENT
DTSTART;VALUE=DATE:20260815
DTEND;VALUE=DATE:20260816
DTSTAMP:20260423T113134
CREATED:20251129T005136Z
LAST-MODIFIED:20251129T005136Z
UID:3232-1786752000-1786838399@multi-faithcalendar.org
SUMMARY:Navroze / New Year (Parsi Zoroastrian)
DESCRIPTION:Weeks before Navroze\, homes are given a cleaning and festive foods are prepared. The arrival of the new year is celebrated by prayers at the Fire temple (Atashbehram) followed by a special meal shared with family. \nMore Information \nHoliday Greeting: Navroze Mubarak \nChildren may miss school to celebrate with families
URL:https://multi-faithcalendar.org/events/navroze-new-year-parsi-zoroastrian-4/
CATEGORIES:2026,August,Parsi Zoroastrian
END:VEVENT
BEGIN:VEVENT
DTSTART;VALUE=DATE:20260816
DTEND;VALUE=DATE:20260817
DTSTAMP:20260423T113134
CREATED:20251129T004347Z
LAST-MODIFIED:20251129T004347Z
UID:3228-1786838400-1786924799@multi-faithcalendar.org
SUMMARY:Pateti (Parsi Zoroastrian)
DESCRIPTION:Pateti (literally: penitence) is the last day of the Parsi Zoroastrian year. It is a day for a person to reflect on their thoughts\, words and deeds of the previous year and to repent for those that were not good. The repentance allows dedicating the new year to good thoughts\, words and deeds in a process of ethical growth. \nMore Information
URL:https://multi-faithcalendar.org/events/pateti-parsi-zoroastrian-5/
CATEGORIES:2026,August,Parsi Zoroastrian
END:VEVENT
BEGIN:VEVENT
DTSTART;VALUE=DATE:20260820
DTEND;VALUE=DATE:20260821
DTSTAMP:20260423T113134
CREATED:20251129T005241Z
LAST-MODIFIED:20251129T005241Z
UID:3234-1787184000-1787270399@multi-faithcalendar.org
SUMMARY:Feast of Asma / Names (Baha'i)
DESCRIPTION:Wherever they live\, Baha’is gather every 19 days for what we call a Feast. This is a members-only event comprising three parts: \n1. A spiritual portion that’s the time for prayer and reflection; \n2. A business portion for consultation about administrative issues (plans for forming classes\, organizing to perform community service\, observing holy days\, or any ideas or projects community members wish to discuss. It’s also a time when local members can ask their Local Assembly to forward their concerns to the National Assembly; \n3. A social portion that can consist of anything from just glasses of water to a full-course dinner.
URL:https://multi-faithcalendar.org/events/feast-of-asma-names-bahai-4/
CATEGORIES:2026,August,The Bahá’í Faith
END:VEVENT
BEGIN:VEVENT
DTSTART;VALUE=DATE:20260820
DTEND;VALUE=DATE:20260821
DTSTAMP:20260423T113134
CREATED:20251129T005352Z
LAST-MODIFIED:20251129T005352Z
UID:3236-1787184000-1787270399@multi-faithcalendar.org
SUMMARY:Khordad Sal (Parsi Zoroastrian)
DESCRIPTION:Birth anniversary of Zarathushtra (Zoroaster)\, the founder of Zoroastrianism. Zoroastrians gather in Fire temples for prayers and then celebrate with a family feast. \nMore Information
URL:https://multi-faithcalendar.org/events/khordad-sal-parsi-zoroastrian-10/
CATEGORIES:2026,August,Parsi Zoroastrian
END:VEVENT
BEGIN:VEVENT
DTSTART;VALUE=DATE:20260828
DTEND;VALUE=DATE:20260829
DTSTAMP:20260423T113134
CREATED:20251129T004126Z
LAST-MODIFIED:20251129T004126Z
UID:3226-1787875200-1787961599@multi-faithcalendar.org
SUMMARY:Raksha Bandham (Hindu)
DESCRIPTION:Also called Rakhi or Rakhi Purnima\, this day celebrates the bonds between sisters and brothers. Sisters of all ages tie a sacred thread\, called the rakhi\, around the wrists of their brothers\, symbolically protecting them\, and in return they receive a gift from their brothers.  Traditionally\, brothers also promise to take a share of the responsibility for ensuring the well-being of their sisters. \nMore information can be found here and here.
URL:https://multi-faithcalendar.org/events/raksha-bandham-hindu-4/
CATEGORIES:2026,August,Hindu
END:VEVENT
END:VCALENDAR