BEGIN:VCALENDAR
VERSION:2.0
PRODID:-//Cincy MultiFaith Calendar - ECPv6.15.1.1//NONSGML v1.0//EN
CALSCALE:GREGORIAN
METHOD:PUBLISH
X-ORIGINAL-URL:https://multi-faithcalendar.org
X-WR-CALDESC:Events for Cincy MultiFaith Calendar
REFRESH-INTERVAL;VALUE=DURATION:PT1H
X-Robots-Tag:noindex
X-PUBLISHED-TTL:PT1H
BEGIN:VTIMEZONE
TZID:America/New_York
BEGIN:DAYLIGHT
TZOFFSETFROM:-0500
TZOFFSETTO:-0400
TZNAME:EDT
DTSTART:20260308T070000
END:DAYLIGHT
BEGIN:STANDARD
TZOFFSETFROM:-0400
TZOFFSETTO:-0500
TZNAME:EST
DTSTART:20261101T060000
END:STANDARD
END:VTIMEZONE
BEGIN:VEVENT
DTSTART;VALUE=DATE:20261031
DTEND;VALUE=DATE:20261102
DTSTAMP:20260423T114649
CREATED:20251203T001153Z
LAST-MODIFIED:20251203T001153Z
UID:3292-1793404800-1793577599@multi-faithcalendar.org
SUMMARY:Samhain (Pagan)
DESCRIPTION:Samhain is celebrated October 31st. This is the third harvest when all crops should be in.  Anything not harvested was left in the fields. Samhain is a Gaelic word that means “Summer’s End”\, so Samhain was the beginning of winter. For the Celtic people of Europe and the British Isles\, this was the end of the year as they began and ended their calendar with Samhain. So\, for Pagans\, it is New Year’s Eve. Samhain is also known as “the day between the years.” The day before Samhain was the last day of the old year\, and the day after Samhain is the first day of the new year\, so Samhain itself is literally the day between the years. Being between the years was a very magical time when the veils between past\, present\, and future may be lifted. It was a time of no time\, when order and structure were abolished\, and chaos could reign. For three days\, because all Celtic holidays lasted for three days\, men dressed as women\, and women as men\, children knocked on neighbor’s doors for food and treats\, practical jokes were pulled. For pastoral people Samhain was when the herds and flocks were moved to the lower winter pastures\, and when the herds were culled and animals slaughtered – a time of great anxiety – for it was necessary to slaughter enough to provide meat for the winter months ahead\, but not too many to endanger the herd. And that brings us back to Yule\, the completion of one full turn on the Wheel of the Year and the beginning of another. \nMore Information
URL:https://multi-faithcalendar.org/events/samhain-pagan-5/
CATEGORIES:2026,Pagan
END:VEVENT
BEGIN:VEVENT
DTSTART;VALUE=DATE:20261031
DTEND;VALUE=DATE:20261105
DTSTAMP:20260423T114649
CREATED:20251203T001247Z
LAST-MODIFIED:20251203T001247Z
UID:3294-1793404800-1793836799@multi-faithcalendar.org
SUMMARY:1984 Anti-Sikh Pogrom (Sikh)
DESCRIPTION:Over the course of three days\, 8\,000 – 17\,000 Sikhs were killed and about 50\,000 were displaced after Prime Minister Indira Gandhi was killed by her two Sikh bodyguards on October 31\, 1984. Upon public knowledge of her death\, Indian citizens (primarily Hindu nationalists) determinedly murdered\, raped\, burned\, and tortured innocent Sikhs in more than 100 cities in 18 states across India. Government officials in Delhi handed out weapons and even fuel and ordered residents to attack and kill Sikhs. Even police and army personnel stepped aside letting mobs run wild beating and burning Sikhs alive in the streets. The Indian government has yet to recognize these events as state sanctioned killing and genocide. After decades of advocacy and pursuit of justice\, one then member of the Indian government\, Sajjan Kumar\, was sentenced for his role in these crimes against humanity. These recent assaults on the community have shocked and greatly impacted the collective conscience. \nMore Information:\nPublications\nIndia: No Justice for 1984 Anti-Sikh Bloodshed\n \nStudents and/or Co-Workers may visit their local Gurdwara at some point during the day
URL:https://multi-faithcalendar.org/events/1984-anti-sikh-pogrom-sikh-4/
CATEGORIES:2026,Sikh
END:VEVENT
BEGIN:VEVENT
DTSTART;VALUE=DATE:20261102
DTEND;VALUE=DATE:20261103
DTSTAMP:20260423T114649
CREATED:20251203T001413Z
LAST-MODIFIED:20251203T001413Z
UID:3296-1793577600-1793663999@multi-faithcalendar.org
SUMMARY:All Souls Day (Catholic)
DESCRIPTION:All Souls Day is a solemn celebration in the Roman Catholic Church commemorating all of those who have died and are now in Purgatory\, being cleansed of their venial sins and the temporal punishments for the mortal sins that they had confessed\, and being made pure before entering into the presence of God in Heaven. \nMore Information \nCatholics often attend prayer services today at which special prayers are said or memorials given for those loved ones who have died during the previous year. Special prayers for the dead are said throughout the month of November.
URL:https://multi-faithcalendar.org/events/all-souls-day-catholic-8/
CATEGORIES:2026,Catholic,November
END:VEVENT
BEGIN:VEVENT
DTSTART;VALUE=DATE:20261104
DTEND;VALUE=DATE:20261105
DTSTAMP:20260423T114649
CREATED:20251203T001511Z
LAST-MODIFIED:20251203T001511Z
UID:3298-1793750400-1793836799@multi-faithcalendar.org
SUMMARY:Feast of Qudrat / Power (Baha'i)
DESCRIPTION:Wherever they live\, Baha’is gather every 19 days for what we call a Feast. This is a members-only event comprising three parts: \n1. A spiritual portion that’s the time for prayer and reflection; \n2. A business portion for consultation about administrative issues (plans for forming classes\, organizing to perform community service\, observing holy days\, or any ideas or projects community members wish to discuss. It’s also a time when local members can ask their Local Assembly to forward their concerns to the National Assembly; \n3. A social portion that can consist of anything from just glasses of water to a full-course dinner.
URL:https://multi-faithcalendar.org/events/feast-of-qudrat-power-bahai-4/
CATEGORIES:2026,The Bahá’í Faith
END:VEVENT
BEGIN:VEVENT
DTSTART;VALUE=DATE:20261108
DTEND;VALUE=DATE:20261109
DTSTAMP:20260423T114649
CREATED:20251203T000633Z
LAST-MODIFIED:20251203T000633Z
UID:3284-1794096000-1794182399@multi-faithcalendar.org
SUMMARY:Diwali (Hindu / Jain)
DESCRIPTION:One of the most popular festivals of Hinduism\, Diwali symbolizes the spiritual “victory of light over darkness\, good over evil and knowledge over ignorance.” Light is a metaphor for knowledge and consciousness. During the celebration\, temples\, homes\, shops and office buildings are brightly illuminated\, often with rows (avali) of clay lamps (deepa)\, for which the festival is named. The preparations and observances typically last five days. \nDiwali\, also known as Deepawali or Mahavir Nirvana\, is of special significance in Jainism\, as it also marks the anniversary of Nirvana (final release or liberation) of Mahavir\, the 24th and the last Jain Tirthankara. It is celebrated at the same time as the Hindu festival of Diwali or Deepawali. \nMore information about the Jain celebrations of this holiday can be found here. \nMore information about Hindu celebrations of this holiday can be found here.
URL:https://multi-faithcalendar.org/events/diwali-hindu-jain-5/
CATEGORIES:2026,Hindu,Jain,November
END:VEVENT
BEGIN:VEVENT
DTSTART;VALUE=DATE:20261111
DTEND;VALUE=DATE:20261113
DTSTAMP:20260423T114649
CREATED:20251203T001001Z
LAST-MODIFIED:20251203T001827Z
UID:3288-1794355200-1794527999@multi-faithcalendar.org
SUMMARY:Twin Holy Days (Bahá’í)
DESCRIPTION:Commemorates the birth of The Bab\, Herald of the Baha’i Faith & founder of the Babi Faith\, in 1819. \nWork is to be suspended and children excused from school. \nMore information: \nhttps://www.bahaiblog.net/bahai-calendar/about-the-birth-of-the-bab/ \nTwin Holy Birthdays / Twin Manifestations of God \n \n 
URL:https://multi-faithcalendar.org/events/twin-holy-days-bahai-4/
CATEGORIES:2026,November,The Bahá’í Faith
END:VEVENT
BEGIN:VEVENT
DTSTART;VALUE=DATE:20261123
DTEND;VALUE=DATE:20261124
DTSTAMP:20260423T114649
CREATED:20251203T001930Z
LAST-MODIFIED:20251203T001930Z
UID:3302-1795392000-1795478399@multi-faithcalendar.org
SUMMARY:Feast of Qawl / Speech (Baha'i)
DESCRIPTION:Wherever they live\, Baha’is gather every 19 days for what we call a Feast. This is a members-only event comprising three parts: \n1. A spiritual portion that’s the time for prayer and reflection; \n2. A business portion for consultation about administrative issues (plans for forming classes\, organizing to perform community service\, observing holy days\, or any ideas or projects community members wish to discuss. It’s also a time when local members can ask their Local Assembly to forward their concerns to the National Assembly; \n3. A social portion that can consist of anything from just glasses of water to a full-course dinner.
URL:https://multi-faithcalendar.org/events/feast-of-qawl-speech-bahai-4/
CATEGORIES:2026,The Bahá’í Faith
END:VEVENT
BEGIN:VEVENT
DTSTART;VALUE=DATE:20261124
DTEND;VALUE=DATE:20261125
DTSTAMP:20260423T114649
CREATED:20251203T001657Z
LAST-MODIFIED:20251203T001657Z
UID:3300-1795478400-1795564799@multi-faithcalendar.org
SUMMARY:Birth of Guru Nanak (1st Guru & Founder) (Sikh)
DESCRIPTION:“Guru Nanak came to this world in 1469 in the then-Punjab region and was the founder of Sikhism. Guru Nanak was a divinely appointed Master. His teachings are not for a particular age. His thoughts and sayings are timeless.In the person of Guru Nanak\, we meet with an unparalleled completeness of religious life.Guru Nanak was a philosopher and prophet in one. His soul soared to celestial heights and brought from there armloads of Amrit\, the divine food for our souls.Guru was a perfect Yogi and ideal householder. For the whole of his life\, he worked for the good of others. He was a gifted\, far‐sighted reformer\, who advocated on behalf of the socially depressed\, attacking the economic and political problems of his day. Through his Langar\, no distinction of caste\, race\, or creed was ever observed. Such is the ideal organization which Guru Nanak designed for human society. He ever dwelt in God\, and God ever dwelt in him. Guru Nanak was for the whole world. He conveyed his message of Love\, Service\, and Worship to all people of all places. And everywhere\, he succeeded in lighting the holy flame in the hearts of the people.” \nMore Information \nHoliday Greeting: “Vadhaaiaa Ji” – Congratulations! \nStudents and/or Co-Workers may visit their local Gurdwara at some point during the day.
URL:https://multi-faithcalendar.org/events/birth-of-guru-nanak-1st-guru-founder-sikh-6/
CATEGORIES:2026,Sikh
END:VEVENT
BEGIN:VEVENT
DTSTART;VALUE=DATE:20261124
DTEND;VALUE=DATE:20261125
DTSTAMP:20260423T114649
CREATED:20251203T002026Z
LAST-MODIFIED:20251203T002026Z
UID:3304-1795478400-1795564799@multi-faithcalendar.org
SUMMARY:Martrydom of Guru Tegh Bahadur (9th Guru) (Sikh)
DESCRIPTION:This day commemorates the martyrdom of Guru Tegh Bahadur Ji (1621-1675)\, the ninth of the Ten Sikh Gurus. He is remembered not only for his defense of the Sikh faith\, but also of Hinduism and of religious liberty\, the most fundamental human rights. \nMore Information
URL:https://multi-faithcalendar.org/events/martrydom-of-guru-tegh-bahadur-9th-guru-sikh-6/
CATEGORIES:2026,Sikh
END:VEVENT
BEGIN:VEVENT
DTSTART;VALUE=DATE:20261124
DTEND;VALUE=DATE:20261125
DTSTAMP:20260423T114649
CREATED:20251203T002104Z
LAST-MODIFIED:20251203T002104Z
UID:3306-1795478400-1795564799@multi-faithcalendar.org
SUMMARY:Jashan-e Adargan (Zoroastrian)
DESCRIPTION:Jashan-e Adargan is a celebration ceremony\, a Jashan\, performed on Adar day of Adar month\, in honor of Adar or Atarsh\, a Pehlavi name derived from the ancient Avestan term “Athro”. Adar means Fire\, which being a life-giving element for all creation in our world\, is highly revered by Zoroastrians.\nFire represents the Highest Righteousness to a Zoroastrian reminding her/him to mindfully live a righteous life. Adar is associated with Ardavahisht.
URL:https://multi-faithcalendar.org/events/jashan-e-adargan-zoroastrian-6/
CATEGORIES:2026,Zoroastrian
END:VEVENT
BEGIN:VEVENT
DTSTART;VALUE=DATE:20261126
DTEND;VALUE=DATE:20261127
DTSTAMP:20260423T114649
CREATED:20251203T002149Z
LAST-MODIFIED:20251203T002149Z
UID:3308-1795651200-1795737599@multi-faithcalendar.org
SUMMARY:Day of the Covenant (Bahá’í)
DESCRIPTION:The festival commemorates Bahá’u’lláh’s appointment of His eldest son\, ‘Abdu’l-Bahá\, as the Center of His Covenant. \nWork is not prohibited\, children may attend school. \nMore Information
URL:https://multi-faithcalendar.org/events/day-of-the-covenant-bahai-5/
CATEGORIES:2026,November,The Bahá’í Faith
END:VEVENT
BEGIN:VEVENT
DTSTART;VALUE=DATE:20261128
DTEND;VALUE=DATE:20261129
DTSTAMP:20260423T114649
CREATED:20251203T002313Z
LAST-MODIFIED:20251203T002313Z
UID:3310-1795824000-1795910399@multi-faithcalendar.org
SUMMARY:Ascension of ‘Abdu’l‑Bahá
DESCRIPTION:Today Baha’is celebrate the life of  ‘Abdu’l-Bahá\, the eldest Son of Bahá’u’lláh\, known to Bahá’ís as the Perfect Exemplar and the Mystery of God\, a living embodiment of Bahá’u’lláh’s teachings. He passed away on this date in 1921. \nYou can learn more here.
URL:https://multi-faithcalendar.org/events/ascension-of-abdul-baha/
CATEGORIES:2026,November,The Bahá’í Faith
END:VEVENT
BEGIN:VEVENT
DTSTART;VALUE=DATE:20261129
DTEND;VALUE=DATE:20261130
DTSTAMP:20260423T114649
CREATED:20251203T002410Z
LAST-MODIFIED:20251203T002410Z
UID:3312-1795910400-1795996799@multi-faithcalendar.org
SUMMARY:First Sunday of Advent (Catholic / Christian Protestant)
DESCRIPTION:For Catholics\, the new Liturgical Year commences with the first Sunday of Advent.  In this new liturgical year\, the Church not only wishes to indicate the beginning of a year\, but the beginning of a renewed commitment to the faith by all those who follow Christ\, the Lord.  Advent is the period of four Sundays and weeks before Christmas.  Advent means ‘Coming’ in Latin.  This is the coming of Jesus into the world. \nMore Information from the Catholic Church \nMore information from the Christian Methodist Episcopal Church \nMany christians celebrate the Advent season with special hymns and prayers.  Some also create\, at home or church\, wreaths of evergreens with four candles\, one for each week of the season.  A new candle is lit each week\, symbolizing the approaching light of Jesus\, who came into the world at Christmas.
URL:https://multi-faithcalendar.org/events/first-sunday-of-advent-catholic-christian-protestant-5/
CATEGORIES:2026,Catholic,Christian,Christian Protestant,Hispanic,November
END:VEVENT
END:VCALENDAR